Workbook

Sheet Main Army Builder
B2: Warhammer 40,000 Ork Army Creator
C6: Unit Name | D6: Unit Cost | G6: Unit Name | H6: Unit Cost
B7: HQ | C7: =IF(HQ!K12>0,HQ!A3,IF(HQ!D24>0,HQ!A17,IF(HQ!D37>0,HQ!A28,IF(HQ!D50>0,HQ!A41,IF(HQ!J70>0,HQ!A54,IF(HQ!J94>0,HQ!A74,IF(HQ!K105>0,HQ!A98,""))))))) | D7: =IF(HQ!K12>0,HQ!K12,IF(HQ!D24>0,HQ!D24,IF(HQ!D37>0,HQ!D37,IF(HQ!D50>0,HQ!D50,IF(HQ!J70>0,HQ!J70,IF(HQ!J94>0,HQ!J94,IF(HQ!K105>0,HQ!K105,""))))))) | F7: Dedicated Transports | G7: =IF('Dedicated Transports'!J12>0,'Dedicated Transports'!A2,"") | H7: =IF('Dedicated Transports'!J12>0,'Dedicated Transports'!J12,"")
B8: HQ | C8: =IF('HQ (2)'!K12>0,'HQ (2)'!A3,IF('HQ (2)'!D24>0,'HQ (2)'!A17,IF('HQ (2)'!D37>0,'HQ (2)'!A28,IF('HQ (2)'!D50>0,'HQ (2)'!A41,IF('HQ (2)'!J70>0,'HQ (2)'!A54,IF('HQ (2)'!J94>0,'HQ (2)'!A74,IF('HQ (2)'!K105>0,'HQ (2)'!A98,""))))))) | D8: =IF('HQ (2)'!K12>0,'HQ (2)'!K12,IF('HQ (2)'!D24>0,'HQ (2)'!D24,IF('HQ (2)'!D37>0,'HQ (2)'!D37,IF('HQ (2)'!D50>0,'HQ (2)'!D50,IF('HQ (2)'!J70>0,'HQ (2)'!J70,IF('HQ (2)'!J94>0,'HQ (2)'!J94,IF('HQ (2)'!K105>0,'HQ (2)'!K105,""))))))) | F8: Dedicated Transports | G8: =IF('Dedicated Transports'!J26>0,'Dedicated Transports'!A16,"") | H8: =IF('Dedicated Transports'!J26>0,'Dedicated Transports'!J26,"")
B9: Elites | C9: =IF(Elites!J23>0,Elites!A2,IF(Elites!J36>0,Elites!A27,IF(Elites!J48>0,Elites!A40,IF(Elites!J63>0,Elites!A52,IF(Elites!J75>0,Elites!A67,IF(Elites!J93>0,Elites!A79,"")))))) | D9: =IF(Elites!J23>0,Elites!J23,IF(Elites!J36>0,Elites!J36,IF(Elites!J48>0,Elites!J48,IF(Elites!J63>0,Elites!J63,IF(Elites!J75>0,Elites!J75,IF(Elites!J93>0,Elites!J93,"")))))) | F9: Dedicated Transports | G9: =IF('Dedicated Transports'!J40>0,'Dedicated Transports'!A30,"") | H9: =IF('Dedicated Transports'!J40>0,'Dedicated Transports'!J40,"")
B10: Elites | C10: =IF('Elites (2)'!J23>0,'Elites (2)'!A2,IF('Elites (2)'!J36>0,'Elites (2)'!A27,IF('Elites (2)'!J48>0,'Elites (2)'!A40,IF('Elites (2)'!J63>0,'Elites (2)'!A52,IF('Elites (2)'!J75>0,'Elites (2)'!A67,IF('Elites (2)'!J93>0,'Elites (2)'!A79,"")))))) | D10: =IF('Elites (2)'!J23>0,'Elites (2)'!J23,IF('Elites (2)'!J36>0,'Elites (2)'!J36,IF('Elites (2)'!J48>0,'Elites (2)'!J48,IF('Elites (2)'!J63>0,'Elites (2)'!J63,IF('Elites (2)'!J75>0,'Elites (2)'!J75,IF('Elites (2)'!J93>0,'Elites (2)'!J93,"")))))) | F10: Dedicated Transports | G10: =IF('Dedicated Transports'!J54>0,'Dedicated Transports'!A44,"") | H10: =IF('Dedicated Transports'!J54>0,'Dedicated Transports'!J54,"")
B11: Elites | C11: =IF('Elites (3)'!J23>0,'Elites (3)'!A2,IF('Elites (3)'!J36>0,'Elites (3)'!A27,IF('Elites (3)'!J48>0,'Elites (3)'!A40,IF('Elites (3)'!J63>0,'Elites (3)'!A52,IF('Elites (3)'!J75>0,'Elites (3)'!A67,IF('Elites (3)'!J93>0,'Elites (3)'!A79,"")))))) | D11: =IF('Elites (3)'!J23>0,'Elites (3)'!J23,IF('Elites (3)'!J36>0,'Elites (3)'!J36,IF('Elites (3)'!J48>0,'Elites (3)'!J48,IF('Elites (3)'!J63>0,'Elites (3)'!J63,IF('Elites (3)'!J75>0,'Elites (3)'!J75,IF('Elites (3)'!J93>0,'Elites (3)'!J93,"")))))) | F11: Dedicated Transports | G11: =IF('Dedicated Transports'!J68>0,'Dedicated Transports'!A58,"") | H11: =IF('Dedicated Transports'!J68>0,'Dedicated Transports'!J68,"")
B12: Troops | C12: =IF(Troops!J19>0,Troops!A2,IF(Troops!J33>0,Troops!A23,IF(Troops!J61>0,Troops!A40,IF(Troops!J74>0,Troops!A65,IF(Troops!J90>0,Troops!A81,IF(Troops!J106>0,Troops!A97,"")))))) | D12: =IF(Troops!J19>0,Troops!J19,IF(Troops!J33>0,Troops!J33,IF(Troops!J61>0,Troops!J61,IF(Troops!J74>0,Troops!J74,IF(Troops!J90>0,Troops!J90,IF(Troops!J106>0,Troops!J106,"")))))) | F12: Dedicated Transports | G12: =IF('Dedicated Transports'!J82>0,'Dedicated Transports'!A72,"") | H12: =IF('Dedicated Transports'!J82>0,'Dedicated Transports'!J82,"")
B13: Troops | C13: =IF('Troops (2)'!J19>0,'Troops (2)'!A2,IF('Troops (2)'!J33>0,'Troops (2)'!A23,IF('Troops (2)'!J61>0,'Troops (2)'!A40,IF('Troops (2)'!J74>0,'Troops (2)'!A65,IF('Troops (2)'!J90>0,'Troops (2)'!A81,IF('Troops (2)'!J106>0,'Troops (2)'!A97,"")))))) | D13: =IF('Troops (2)'!J19>0,'Troops (2)'!J19,IF('Troops (2)'!J33>0,'Troops (2)'!J33,IF('Troops (2)'!J61>0,'Troops (2)'!J61,IF('Troops (2)'!J74>0,'Troops (2)'!J74,IF('Troops (2)'!J90>0,'Troops (2)'!J90,IF('Troops (2)'!J106>0,'Troops (2)'!J106,""))))))
B14: Troops | C14: =IF('Troops (3)'!J19>0,'Troops (3)'!A2,IF('Troops (3)'!J33>0,'Troops (3)'!A23,IF('Troops (3)'!J61>0,'Troops (3)'!A40,IF('Troops (3)'!J74>0,'Troops (3)'!A65,IF('Troops (3)'!J90>0,'Troops (3)'!A81,IF('Troops (3)'!J106>0,'Troops (3)'!A97,"")))))) | D14: =IF('Troops (3)'!J19>0,'Troops (3)'!J19,IF('Troops (3)'!J33>0,'Troops (3)'!J33,IF('Troops (3)'!J61>0,'Troops (3)'!J61,IF('Troops (3)'!J74>0,'Troops (3)'!J74,IF('Troops (3)'!J90>0,'Troops (3)'!J90,IF('Troops (3)'!J106>0,'Troops (3)'!J106,""))))))
B15: Troops | C15: =IF('Troops (4)'!J19>0,'Troops (4)'!A2,IF('Troops (4)'!J33>0,'Troops (4)'!A23,IF('Troops (4)'!J61>0,'Troops (4)'!A40,IF('Troops (4)'!J74>0,'Troops (4)'!A65,IF('Troops (4)'!J90>0,'Troops (4)'!A81,IF('Troops (4)'!J106>0,'Troops (4)'!A97,"")))))) | D15: =IF('Troops (4)'!J19>0,'Troops (4)'!J19,IF('Troops (4)'!J33>0,'Troops (4)'!J33,IF('Troops (4)'!J61>0,'Troops (4)'!J61,IF('Troops (4)'!J74>0,'Troops (4)'!J74,IF('Troops (4)'!J90>0,'Troops (4)'!J90,IF('Troops (4)'!J106>0,'Troops (4)'!J106,""))))))
B16: Troops | C16: =IF('Troops (5)'!J19>0,'Troops (5)'!A2,IF('Troops (5)'!J33>0,'Troops (5)'!A23,IF('Troops (5)'!J61>0,'Troops (5)'!A40,IF('Troops (5)'!J74>0,'Troops (5)'!A65,IF('Troops (5)'!J90>0,'Troops (5)'!A81,IF('Troops (5)'!J106>0,'Troops (5)'!A97,"")))))) | D16: =IF('Troops (5)'!J19>0,'Troops (5)'!J19,IF('Troops (5)'!J33>0,'Troops (5)'!J33,IF('Troops (5)'!J61>0,'Troops (5)'!J61,IF('Troops (5)'!J74>0,'Troops (5)'!J74,IF('Troops (5)'!J90>0,'Troops (5)'!J90,IF('Troops (5)'!J106>0,'Troops (5)'!J106,"")))))) | F16: Each worksheet represents each slot in the force organisation chart
B17: Troops | C17: =IF('Troops (6)'!J19>0,'Troops (6)'!A2,IF('Troops (6)'!J33>0,'Troops (6)'!A23,IF('Troops (6)'!J61>0,'Troops (6)'!A40,IF('Troops (6)'!J74>0,'Troops (6)'!A65,IF('Troops (6)'!J90>0,'Troops (6)'!A81,IF('Troops (6)'!J106>0,'Troops (6)'!A97,"")))))) | D17: =IF('Troops (6)'!J19>0,'Troops (6)'!J19,IF('Troops (6)'!J33>0,'Troops (6)'!J33,IF('Troops (6)'!J61>0,'Troops (6)'!J61,IF('Troops (6)'!J74>0,'Troops (6)'!J74,IF('Troops (6)'!J90>0,'Troops (6)'!J90,IF('Troops (6)'!J106>0,'Troops (6)'!J106,"")))))) | F17: Except Dedicated Transports where you can fill in stuff on each field.
B18: Fast Attack | C18: =IF('Fast Attack'!J12>0,'Fast Attack'!A2,IF('Fast Attack'!J24>0,'Fast Attack'!A16,IF('Fast Attack'!J37>0,'Fast Attack'!A28,IF('Fast Attack'!J49>0,'Fast Attack'!A41,"")))) | D18: =IF('Fast Attack'!J12>0,'Fast Attack'!J12,IF('Fast Attack'!J24>0,'Fast Attack'!J24,IF('Fast Attack'!J37>0,'Fast Attack'!J37,IF('Fast Attack'!J49>0,'Fast Attack'!J49,"")))) | F18: Dont use 0 values, delete the value altogether
B19: Fast Attack | C19: =IF('Fast Attack (2)'!J12>0,'Fast Attack (2)'!A2,IF('Fast Attack (2)'!J24>0,'Fast Attack (2)'!A16,IF('Fast Attack (2)'!J37>0,'Fast Attack (2)'!A28,IF('Fast Attack (2)'!J49>0,'Fast Attack (2)'!A41,"")))) | D19: =IF('Fast Attack (2)'!J12>0,'Fast Attack (2)'!J12,IF('Fast Attack (2)'!J24>0,'Fast Attack (2)'!J24,IF('Fast Attack (2)'!J37>0,'Fast Attack (2)'!J37,IF('Fast Attack (2)'!J49>0,'Fast Attack (2)'!J49,"")))) | F19: Only insert values in the yellow boxes.
B20: Fast Attack | C20: =IF('Fast Attack (3)'!J12>0,'Fast Attack (3)'!A2,IF('Fast Attack (3)'!J24>0,'Fast Attack (3)'!A16,IF('Fast Attack (3)'!J37>0,'Fast Attack (3)'!A28,IF('Fast Attack (3)'!J49>0,'Fast Attack (3)'!A41,"")))) | D20: =IF('Fast Attack (3)'!J12>0,'Fast Attack (3)'!J12,IF('Fast Attack (3)'!J24>0,'Fast Attack (3)'!J24,IF('Fast Attack (3)'!J37>0,'Fast Attack (3)'!J37,IF('Fast Attack (3)'!J49>0,'Fast Attack (3)'!J49,"")))) | F20: There are many protections against wrong values but of course bugs might occur.
B21: Heavy Support | C21: =IF('Heavy Support'!J21>0,'Heavy Support'!A2,IF('Heavy Support'!J33>0,'Heavy Support'!A24,IF('Heavy Support'!J46>0,'Heavy Support'!A37,IF('Heavy Support'!J63>0,'Heavy Support'!A50,IF('Heavy Support'!J77>0,'Heavy Support'!A67,IF('Heavy Support'!J97>0,'Heavy Support'!A81,"")))))) | D21: =IF('Heavy Support'!J21>0,'Heavy Support'!J21,IF('Heavy Support'!J33>0,'Heavy Support'!J33,IF('Heavy Support'!J46>0,'Heavy Support'!J46,IF('Heavy Support'!J63>0,'Heavy Support'!J63,IF('Heavy Support'!J77>0,'Heavy Support'!J77,IF('Heavy Support'!J97>0,'Heavy Support'!J97,"")))))) | F21: If you dont like it, dont use it ;)
B22: Heavy Support | C22: =IF('Heavy Support (2)'!J21>0,'Heavy Support (2)'!A2,IF('Heavy Support (2)'!J33>0,'Heavy Support (2)'!A24,IF('Heavy Support (2)'!J46>0,'Heavy Support (2)'!A37,IF('Heavy Support (2)'!J63>0,'Heavy Support (2)'!A50,IF('Heavy Support (2)'!J77>0,'Heavy Support (2)'!A67,IF('Heavy Support (2)'!J97>0,'Heavy Support (2)'!A81,"")))))) | D22: =IF('Heavy Support (2)'!J21>0,'Heavy Support (2)'!J21,IF('Heavy Support (2)'!J33>0,'Heavy Support (2)'!J33,IF('Heavy Support (2)'!J46>0,'Heavy Support (2)'!J46,IF('Heavy Support (2)'!J63>0,'Heavy Support (2)'!J63,IF('Heavy Support (2)'!J77>0,'Heavy Support (2)'!J77,IF('Heavy Support (2)'!J97>0,'Heavy Support (2)'!J97,""))))))
B23: Heavy Support | C23: =IF('Heavy Support (3)'!J21>0,'Heavy Support (3)'!A2,IF('Heavy Support (3)'!J33>0,'Heavy Support (3)'!A24,IF('Heavy Support (3)'!J46>0,'Heavy Support (3)'!A37,IF('Heavy Support (3)'!J63>0,'Heavy Support (3)'!A50,IF('Heavy Support (3)'!J77>0,'Heavy Support (3)'!A67,IF('Heavy Support (3)'!J97>0,'Heavy Support (3)'!A81,"")))))) | D23: =IF('Heavy Support (3)'!J21>0,'Heavy Support (3)'!J21,IF('Heavy Support (3)'!J33>0,'Heavy Support (3)'!J33,IF('Heavy Support (3)'!J46>0,'Heavy Support (3)'!J46,IF('Heavy Support (3)'!J63>0,'Heavy Support (3)'!J63,IF('Heavy Support (3)'!J77>0,'Heavy Support (3)'!J77,IF('Heavy Support (3)'!J97>0,'Heavy Support (3)'!J97,""))))))
B25: Total Army Cost | D25: =SUM(D7:D23)+SUM(H7:H12) -> 0
B31: Warhammer 40,000 Ork Army Creator V0.006
B32: Created by SuperioR © 2008

Sheet HQ
A2: Unit Name | B2: Min/Max Models Per Unit | C2: Points per Model | D2: Number Of Models | E2: Options | F2: Cost | G2: x | H2: Amount | I2: = | J2: Total Upgrade Price | K2: Comments
A3: Ghazghkull Thraka | B3: 1(Unique) | C3: 225 | E3: May be accompanied by:
A4: Wargear: | B4: Special Rules: | C4: Da Big Boss: | E4: Ammo Runt | F4: 3 | G4: x | I4: = | J4: =F4*H4 -> 0
A5: Cybork Body | B5: Independent Character | C5: Ghazghkull allows
A6: Bosspole | B6: Furious Charge | C6: one Meganobz or
A7: Mega-Armour | B7: Mob Rule | C7: Nobz mob to be
A8: Stikkbombs | B8: Prophet of the Waaagh! | C8: taken as a Troops
A9: Big shoota | C9: choice.
A10: Adamantium skull
A12: Unit Type: Infantry | I12: Total Unit Price = | K12: =C3*D3+J4 -> 0
A16: Unit Name | B16: Min/Max Models Per Unit | C16: Points per Model | D16: Number Of Models
A17: Mad Dok Grotsnik | B17: 1(Unique) | C17: 160
A18: Wargear: | B18: Special Rules: | C18: Da Big Dok:
A19: Power Klaw | B19: Independent Character | C19: Any unit in an army
A20: Slugga | B20: Furious Charge | C20: including Grotsnik may
A21: Urty syringe | B21: Fearless | C21: upgrade its members to
A22: Dok's tools | B22: Waaagh! | C22: have cybork bodies for
A23: Cybork body | B23: One Scalpel Short of a Medpack | C23: 5 points per model.
A24: Unit Type: Infantry | C24: Total Unit Price = | D24: =C17*D17 -> 0
A27: Unit Name | B27: Min/Max Models | C27: Points per Model | D27: Number Of Models
A28: Wazdakka Gutsmek | B28: 1(Unique) | C28: 180
A29: Wargear: | B29: Special Rules: | C29: Da Bike Boss:
A30: Bike of the Aporkalypse | B30: Independent Character | C30: Wazdakka allows
A31: Kustom mega-blasta | B31: Furious Charge | C31: Warbiker mobs to
A32: Power klaw | B32: Mob Rule | C32: be taken as Troop
A33: Slugga | B33: Waaagh! | C33: choices.
A34: Mek's tools
A35: Stikkbombs
A36: Bosspole
A37: Unit Type: Bike | C37: Total Unit Price = | D37: =C28*D28 -> 0
A40: Unit Name | B40: Min/Max Models | C40: Points per Model | D40: Number Of Models
A41: Old Zogwort | B41: 1(Unique) | C41: 145
A42: Wargear: | B42: Special Rules:
A43: Nest of Vipers | B43: Independent Character
B44: Furious Charge
B45: Mob Rule
B46: Waaagh!
B47: Psyker
B48: Warphead
B49: Zogworth's Curse
...

Sheet HQ (2)
A2: Unit Name | B2: Min/Max Models Per Unit | C2: Points per Model | D2: Number Of Models | E2: Options | F2: Cost | G2: x | H2: Amount | I2: = | J2: Total Upgrade Price | K2: Comments
A3: Ghazghkull Thraka | B3: 1(Unique) | C3: 225 | E3: May be accompanied by:
A4: Wargear: | B4: Special Rules: | C4: Da Big Boss: | E4: Ammo Runt | F4: 3 | G4: x | I4: = | J4: =F4*H4 -> 0
A5: Cybork Body | B5: Independent Character | C5: Ghazghkull allows
A6: Bosspole | B6: Furious Charge | C6: one Meganobz or
A7: Mega-Armour | B7: Mob Rule | C7: Nobz mob to be
A8: Stikkbombs | B8: Prophet of the Waaagh! | C8: taken as a Troops
A9: Big shoota | C9: choice.
A10: Adamantium skull
A12: Unit Type: Infantry | I12: Total Unit Price = | K12: =C3*D3+J4 -> 0
A16: Unit Name | B16: Min/Max Models Per Unit | C16: Points per Model | D16: Number Of Models
A17: Mad Dok Grotsnik | B17: 1(Unique) | C17: 160
A18: Wargear: | B18: Special Rules: | C18: Da Big Dok:
A19: Power Klaw | B19: Independent Character | C19: Any unit in an army
A20: Slugga | B20: Furious Charge | C20: including Grotsnik may
A21: Urty syringe | B21: Fearless | C21: upgrade its members to
A22: Dok's tools | B22: Waaagh! | C22: have cybork bodies for
A23: Cybork body | B23: One Scalpel Short of a Medpack | C23: 5 points per model.
A24: Unit Type: Infantry | C24: Total Unit Price = | D24: =C17*D17 -> 0
A27: Unit Name | B27: Min/Max Models | C27: Points per Model | D27: Number Of Models
A28: Wazdakka Gutsmek | B28: 1(Unique) | C28: 180
A29: Wargear: | B29: Special Rules: | C29: Da Bike Boss:
A30: Bike of the Aporkalypse | B30: Independent Character | C30: Wazdakka allows
A31: Kustom mega-blasta | B31: Furious Charge | C31: Warbiker mobs to
A32: Power klaw | B32: Mob Rule | C32: be taken as Troop
A33: Slugga | B33: Waaagh! | C33: choices.
A34: Mek's tools
A35: Stikkbombs
A36: Bosspole
A37: Unit Type: Bike | C37: Total Unit Price = | D37: =C28*D28 -> 0
A40: Unit Name | B40: Min/Max Models | C40: Points per Model | D40: Number Of Models
A41: Old Zogwort | B41: 1(Unique) | C41: 145
A42: Wargear: | B42: Special Rules:
A43: Nest of Vipers | B43: Independent Character
B44: Furious Charge
B45: Mob Rule
B46: Waaagh!
B47: Psyker
B48: Warphead
B49: Zogworth's Curse
...

Sheet Elites
A1: Unit Name | B1: Min/Max Models Per Unit | C1: Points per Model | D1: Number Of Models | E1: Options | F1: Cost | G1: x | H1: Amount | I1: = | J1: Total Upgrade Price | K1: Comments
A2: Nobz | B2: 3 to 10 | C2: 20 | E2: The entire mob may be upgraded to:
A3: Wargear: | B3: Special Rules: | C3: Transport: | E3: Nob Bikers | F3: 25 | G3: x | I3: = | J3: =F3*H3 -> 0
A4: Slugga | B4: Furious Charge | C4: Nob Mobz (except nob bikers) | E4: The entire mob may take:
A5: Choppa | B5: Mob Rule | C5: may take a Trukk as a dedicated | E5: Stikkbombz | F5: 1 | G5: x | I5: = | J5: =F5*H5 -> 0
A6: Nob Bikers are mounted | B6: Waaagh! | C6: transport vehicle. Alternatively | E6: Any Nob may replace his choppa with:
A7: on bikes | C7: they may take a battlewagon | E7: Big Choppa | F7: 5 | G7: x | I7: = | J7: =F7*H7 -> 0
A8: Painboy replaces slugga | C8: as a dedicated transport vehicle, | E8: Power Klaw | F8: 25 | G8: x | I8: = | J8: =F8*H8 -> 0
A9: and choppa with dok's | C9: thought it may not have the | E9: Any Nob may replace his slugga with:
A10: tools and 'urty syringe | C10: killkannon upgrade | E10: Twin-Linked Shoota | F10: 5 | G10: x | I10: = | J10: =F10*H10 -> 0
E11: Shoota-Rokkit Kombi-Weapon | F11: 5 | G11: x | I11: = | J11: =F11*H11 -> 0
E12: Shoota-Skorcha Kombi-Weapon | F12: 5 | G12: x | I12: = | J12: =F12*H12 -> 0
E13: Any Nob may take any of the following:
E14: Eavy Armour | F14: 5 | G14: x | I14: = | J14: =F14*H14 -> 0
E15: Bosspole | F15: 5 | G15: x | I15: = | J15: =F15*H15 -> 0
E16: Waaagh! Banner | F16: 15 | G16: x | I16: = | J16: =F16*H16 -> 0
E17: Ammo Runt | F17: 3 | G17: x | I17: = | J17: =F17*H17 -> 0
E18: One Nob may be a Painboy
E19: Painboy Upgrade | F19: 30 | G19: x | I19: = | J19: =F19*H19 -> 0
E20: Painboy, Orderly | F20: 5 | G20: x | I20: = | J20: =F20*H20 -> 0
E21: All models in the Painboy's unit may have
E22: Cybork bodies | F22: 5 | G22: x | I22: = | J22: =F22*H22 -> 0
A23: Unit Type: Infantry | H23: Total Unit Price = | J23: =C2*D2+SUM(J3:J22) -> 0
A26: Unit Name | B26: Min/Max Models Per Unit | C26: Points per Model | D26: Number Of Models | E26: Options | F26: Cost | G26: x | H26: Amount | I26: = | J26: Total Upgrade Price | K26: Comments
A27: Meganobz | B27: 3 to 10 | C27: 40 | E27: Any Meganob may replace the twin-linked shoota on his mega armour with one of the following:
A28: Wargear: | B28: Special Rules: | C28: Transport | E28: Kombi Shoota-Skorcha | F28: 5 | G28: x | I28: = | J28: =F28*H28 -> 0
A29: Mega armour | B29: Furious Charge | C29: Meganobz may take a Battlewagon | E29: Kombi Shoota-Rokkit Launcha | F29: 5 | G29: x | I29: = | J29: =F29*H29 -> 0
A30: Stikkbombz | B30: Mob Rule | C30: as a dedicated transport vehicle,
B31: Waaagh! | C31: though it may not have the
C32: killkannon upgrade. Alternatively
C33: a mob of 6 or fewer may take a
C34: trukk as a dedicated transport
C35: vehicle
A36: Unit Type: Infantry | H36: Total Unit Price = | J36: =C27*D27+SUM(J28:J30) -> 0
A39: Unit Name | B39: Min/Max Models Per Unit | C39: Points per Model | D39: Number Of Models | E39: Options | F39: Cost | G39: x | H39: Amount | I39: = | J39: Total Upgrade Price | K39: Comments
A40: Burna Boyz | B40: 5 to 15 | C40: 15 | E40: Up to three Burna Boyz may be upgraded to Meks
A41: Wargear: | B41: Special Rules: | E41: Mek Upgrade | F41: 0 | G41: x | I41: = | J41: =F41*H41 -> 0
A42: Burna Boyz: | B42: Furious Charge | E42: Any Mek may replace his kustom mega-blasta with:
A43: Burna | B43: Mob Rule | E43: slugga and choppa | F43: 0 | G43: x | I43: = | J43: =F43*H43 -> 0
A44: Mek: | B44: Waaagh! | E44: big shoota | F44: 0 | G44: x | I44: = | J44: =F44*H44 -> 0
...

Sheet Elites (2)
A1: Unit Name | B1: Min/Max Models Per Unit | C1: Points per Model | D1: Number Of Models | E1: Options | F1: Cost | G1: x | H1: Amount | I1: = | J1: Total Upgrade Price | K1: Comments
A2: Nobz | B2: 3 to 10 | C2: 20 | E2: The entire mob may be upgraded to:
A3: Wargear: | B3: Special Rules: | C3: Transport: | E3: Nob Bikers | F3: 25 | G3: x | I3: = | J3: =F3*H3 -> 0
A4: Slugga | B4: Furious Charge | C4: Nob Mobz (except nob bikers) | E4: The entire mob may take:
A5: Choppa | B5: Mob Rule | C5: may take a Trukk as a dedicated | E5: Stikkbombz | F5: 1 | G5: x | I5: = | J5: =F5*H5 -> 0
A6: Nob Bikers are mounted | B6: Waaagh! | C6: transport vehicle. Alternatively | E6: Any Nob may replace his choppa with:
A7: on bikes | C7: they may take a battlewagon | E7: Big Choppa | F7: 5 | G7: x | I7: = | J7: =F7*H7 -> 0
A8: Painboy replaces slugga | C8: as a dedicated transport vehicle, | E8: Power Klaw | F8: 25 | G8: x | I8: = | J8: =F8*H8 -> 0
A9: and choppa with dok's | C9: thought it may not have the | E9: Any Nob may replace his slugga with:
A10: tools and 'urty syringe | C10: killkannon upgrade | E10: Twin-Linked Shoota | F10: 5 | G10: x | I10: = | J10: =F10*H10 -> 0
E11: Shoota-Rokkit Kombi-Weapon | F11: 5 | G11: x | I11: = | J11: =F11*H11 -> 0
E12: Shoota-Skorcha Kombi-Weapon | F12: 5 | G12: x | I12: = | J12: =F12*H12 -> 0
E13: Any Nob may take any of the following:
E14: Eavy Armour | F14: 5 | G14: x | I14: = | J14: =F14*H14 -> 0
E15: Bosspole | F15: 5 | G15: x | I15: = | J15: =F15*H15 -> 0
E16: Waaagh! Banner | F16: 15 | G16: x | I16: = | J16: =F16*H16 -> 0
E17: Ammo Runt | F17: 3 | G17: x | I17: = | J17: =F17*H17 -> 0
E18: One Nob may be a Painboy
E19: Painboy Upgrade | F19: 30 | G19: x | I19: = | J19: =F19*H19 -> 0
E20: Painboy, Orderly | F20: 5 | G20: x | I20: = | J20: =F20*H20 -> 0
E21: All models in the Painboy's unit may have
E22: Cybork bodies | F22: 5 | G22: x | I22: = | J22: =F22*H22 -> 0
A23: Unit Type: Infantry | H23: Total Unit Price = | J23: =C2*D2+SUM(J3:J22) -> 0
A26: Unit Name | B26: Min/Max Models Per Unit | C26: Points per Model | D26: Number Of Models | E26: Options | F26: Cost | G26: x | H26: Amount | I26: = | J26: Total Upgrade Price | K26: Comments
A27: Meganobz | B27: 3 to 10 | C27: 40 | E27: Any Meganob may replace the twin-linked shoota on his mega armour with one of the following:
A28: Wargear: | B28: Special Rules: | C28: Transport | E28: Kombi Shoota-Skorcha | F28: 5 | G28: x | I28: = | J28: =F28*H28 -> 0
A29: Mega armour | B29: Furious Charge | C29: Meganobz may take a Battlewagon | E29: Kombi Shoota-Rokkit Launcha | F29: 5 | G29: x | I29: = | J29: =F29*H29 -> 0
A30: Stikkbombz | B30: Mob Rule | C30: as a dedicated transport vehicle,
B31: Waaagh! | C31: though it may not have the
C32: killkannon upgrade. Alternatively
C33: a mob of 6 or fewer may take a
C34: trukk as a dedicated transport
C35: vehicle
A36: Unit Type: Infantry | H36: Total Unit Price = | J36: =C27*D27+SUM(J28:J30) -> 0
A39: Unit Name | B39: Min/Max Models Per Unit | C39: Points per Model | D39: Number Of Models | E39: Options | F39: Cost | G39: x | H39: Amount | I39: = | J39: Total Upgrade Price | K39: Comments
A40: Burna Boyz | B40: 5 to 15 | C40: 15 | E40: Up to three Burna Boyz may be upgraded to Meks
A41: Wargear: | B41: Special Rules: | E41: Mek Upgrade | F41: 0 | G41: x | I41: = | J41: =F41*H41 -> 0
A42: Burna Boyz: | B42: Furious Charge | E42: Any Mek may replace his kustom mega-blasta with:
A43: Burna | B43: Mob Rule | E43: slugga and choppa | F43: 0 | G43: x | I43: = | J43: =F43*H43 -> 0
A44: Mek: | B44: Waaagh! | E44: big shoota | F44: 0 | G44: x | I44: = | J44: =F44*H44 -> 0
...

Sheet Elites (3)
A1: Unit Name | B1: Min/Max Models Per Unit | C1: Points per Model | D1: Number Of Models | E1: Options | F1: Cost | G1: x | H1: Amount | I1: = | J1: Total Upgrade Price | K1: Comments
A2: Nobz | B2: 3 to 10 | C2: 20 | E2: The entire mob may be upgraded to:
A3: Wargear: | B3: Special Rules: | C3: Transport: | E3: Nob Bikers | F3: 25 | G3: x | I3: = | J3: =F3*H3 -> 0
A4: Slugga | B4: Furious Charge | C4: Nob Mobz (except nob bikers) | E4: The entire mob may take:
A5: Choppa | B5: Mob Rule | C5: may take a Trukk as a dedicated | E5: Stikkbombz | F5: 1 | G5: x | I5: = | J5: =F5*H5 -> 0
A6: Nob Bikers are mounted | B6: Waaagh! | C6: transport vehicle. Alternatively | E6: Any Nob may replace his choppa with:
A7: on bikes | C7: they may take a battlewagon | E7: Big Choppa | F7: 5 | G7: x | I7: = | J7: =F7*H7 -> 0
A8: Painboy replaces slugga | C8: as a dedicated transport vehicle, | E8: Power Klaw | F8: 25 | G8: x | I8: = | J8: =F8*H8 -> 0
A9: and choppa with dok's | C9: thought it may not have the | E9: Any Nob may replace his slugga with:
A10: tools and 'urty syringe | C10: killkannon upgrade | E10: Twin-Linked Shoota | F10: 5 | G10: x | I10: = | J10: =F10*H10 -> 0
E11: Shoota-Rokkit Kombi-Weapon | F11: 5 | G11: x | I11: = | J11: =F11*H11 -> 0
E12: Shoota-Skorcha Kombi-Weapon | F12: 5 | G12: x | I12: = | J12: =F12*H12 -> 0
E13: Any Nob may take any of the following:
E14: Eavy Armour | F14: 5 | G14: x | I14: = | J14: =F14*H14 -> 0
E15: Bosspole | F15: 5 | G15: x | I15: = | J15: =F15*H15 -> 0
E16: Waaagh! Banner | F16: 15 | G16: x | I16: = | J16: =F16*H16 -> 0
E17: Ammo Runt | F17: 3 | G17: x | I17: = | J17: =F17*H17 -> 0
E18: One Nob may be a Painboy
E19: Painboy Upgrade | F19: 30 | G19: x | I19: = | J19: =F19*H19 -> 0
E20: Painboy, Orderly | F20: 5 | G20: x | I20: = | J20: =F20*H20 -> 0
E21: All models in the Painboy's unit may have
E22: Cybork bodies | F22: 5 | G22: x | I22: = | J22: =F22*H22 -> 0
A23: Unit Type: Infantry | H23: Total Unit Price = | J23: =C2*D2+SUM(J3:J22) -> 0
A26: Unit Name | B26: Min/Max Models Per Unit | C26: Points per Model | D26: Number Of Models | E26: Options | F26: Cost | G26: x | H26: Amount | I26: = | J26: Total Upgrade Price | K26: Comments
A27: Meganobz | B27: 3 to 10 | C27: 40 | E27: Any Meganob may replace the twin-linked shoota on his mega armour with one of the following:
A28: Wargear: | B28: Special Rules: | C28: Transport | E28: Kombi Shoota-Skorcha | F28: 5 | G28: x | I28: = | J28: =F28*H28 -> 0
A29: Mega armour | B29: Furious Charge | C29: Meganobz may take a Battlewagon | E29: Kombi Shoota-Rokkit Launcha | F29: 5 | G29: x | I29: = | J29: =F29*H29 -> 0
A30: Stikkbombz | B30: Mob Rule | C30: as a dedicated transport vehicle,
B31: Waaagh! | C31: though it may not have the
C32: killkannon upgrade. Alternatively
C33: a mob of 6 or fewer may take a
C34: trukk as a dedicated transport
C35: vehicle
A36: Unit Type: Infantry | H36: Total Unit Price = | J36: =C27*D27+SUM(J28:J30) -> 0
A39: Unit Name | B39: Min/Max Models Per Unit | C39: Points per Model | D39: Number Of Models | E39: Options | F39: Cost | G39: x | H39: Amount | I39: = | J39: Total Upgrade Price | K39: Comments
A40: Burna Boyz | B40: 5 to 15 | C40: 15 | E40: Up to three Burna Boyz may be upgraded to Meks
A41: Wargear: | B41: Special Rules: | E41: Mek Upgrade | F41: 0 | G41: x | I41: = | J41: =F41*H41 -> 0
A42: Burna Boyz: | B42: Furious Charge | E42: Any Mek may replace his kustom mega-blasta with:
A43: Burna | B43: Mob Rule | E43: slugga and choppa | F43: 0 | G43: x | I43: = | J43: =F43*H43 -> 0
A44: Mek: | B44: Waaagh! | E44: big shoota | F44: 0 | G44: x | I44: = | J44: =F44*H44 -> 0
...

Sheet Troops
A1: Unit Name | B1: Min/Max Models Per Unit | C1: Points per Model | D1: Number Of Models | E1: Options | F1: Cost | G1: x | H1: Amount | I1: = | J1: Total Upgrade Price | K1: Comments
A2: Ork Boyz | B2: 10 to 30 | C2: 6 | E2: The entire mob may take:
A3: Wargear: | B3: Special Rules: | C3: Transport: | E3: Stikkbombs | F3: 1 | G3: x | I3: = | J3: =F3*H3 -> 0
A4: Slugga | B4: Furious Charge | C4: Mobs of 12 or | E4: The entire mob may replace their sluggas and choppas with shootas
A5: Choppa | B5: Mob Rule | C5: fewer may take | E5: Shootas | F5: 0 | G5: x | I5: = | J5: =F5*H5 -> 0
A6: Ard boyz wear | B6: Waaagh! | C6: a Trukk as a | E6: For every ten Orks in the mob, one Ork may exchange his slugga or shoota for:
A7: eavy armour | C7: dedicated | E7: Big Shoota | F7: 5 | G7: x | I7: = | J7: =F7*H7 -> 0
C8: trasport vehicle | E8: Rokkit Launcha | F8: 10 | G8: x | I8: = | J8: =F8*H8 -> 0
E9: One mob per army may be upgraded to
E10: Ard Boyz | F10: 4 | G10: x | I10: = | J10: =F10*H10 -> 0
E11: One Boy may be upgraded to Nob
E12: Nob Upgrade | F12: 10 | G12: x | I12: = | J12: =F12*H12 -> 0
E13: He may replace his choppa with one of the following:
E14: Nob, Big Choppa | F14: 5 | G14: x | I14: = | J14: =F14*H14 -> 0
E15: Nob, Power Klaw | F15: 25 | G15: x | I15: = | J15: =F15*H15 -> 0
E16: He may take any of the following:
E17: Nob, 'Eavy Armour | F17: 5 | G17: x | I17: = | J17: =F17*H17 -> 0 | K17: If not an 'Ard Boy Nob
E18: Nob, Bosspole | F18: 5 | G18: x | I18: = | J18: =F18*H18 -> 0
A19: Unit Type: Infantry | H19: Total Unit Price = | J19: =C2*D2+SUM(J3:J18) -> 0
A22: Unit Name | B22: Min/Max Models Per Unit | C22: Points per Model | D22: Number Of Models | E22: Options | F22: Cost | G22: x | H22: Amount | I22: = | J22: Total Upgrade Price | K22: Comments
A23: Gretchin | B23: 10-30 + 1-3 Runtherds | C23: 3 | E23: For every 10 Gretchin you must take one:
A24: Wargear: | B24: Special Rules: | E24: Runtherd | F24: 10 | G24: x | I24: = | J24: =F24*H24 -> 0
A25: Grechin: | B25: Gretchin: | C25: Runtherds: | E25: Runtherds may replace their grabba stikks with:
A26: Blasta | B26: It's a Grot's Life | C26: Furious Charge | E26: Grot-Prods | F26: 5 | G26: x | I26: = | J26: =F26*H26 -> 0
A27: Runtherds: | C27: Mob Rule
A28: Grabba Stikk | C28: Waaagh!
A29: Slugga
A30: Squig hound
A33: Unit Type: Infantry | H33: Total Unit Price = | J33: =C23*D23+SUM(J24:J32) -> 0
A36: If you are allowed to take Nobz or Meganobz as Troop choice ONLY!
A39: Unit Name | B39: Min/Max Models Per Unit | C39: Points per Model | D39: Number Of Models | E39: Options | F39: Cost | G39: x | H39: Amount | I39: = | J39: Total Upgrade Price | K39: Comments
A40: Nobz | B40: 3 to 10 | C40: 20 | E40: The entire mob may be upgraded to:
A41: Wargear: | B41: Special Rules: | C41: Transport: | E41: Nob Bikers | F41: 25 | G41: x | I41: = | J41: =F41*H41 -> 0
A42: Slugga | B42: Furious Charge | C42: Nob Mobz (except nob bikers) | E42: The entire mob may take:
A43: Choppa | B43: Mob Rule | C43: may take a Trukk as a dedicated | E43: Stikkbombz | F43: 1 | G43: x | I43: = | J43: =F43*H43 -> 0
A44: Nob Bikers are mounted | B44: Waaagh! | C44: transport vehicle. Alternatively | E44: Any Nob may replace his choppa with:
A45: on bikes | C45: they may take a battlewagon | E45: Big Choppa | F45: 5 | G45: x | I45: = | J45: =F45*H45 -> 0
A46: Painboy replaces slugga | C46: as a dedicated transport vehicle, | E46: Power Klaw | F46: 25 | G46: x | I46: = | J46: =F46*H46 -> 0
A47: and choppa with dok's | C47: thought it may not have the | E47: Any Nob may replace his slugga with:
A48: tools and 'urty syringe | C48: killkannon upgrade | E48: Twin-Linked Shoota | F48: 5 | G48: x | I48: = | J48: =F48*H48 -> 0
...

Sheet Troops (2)
A1: Unit Name | B1: Min/Max Models Per Unit | C1: Points per Model | D1: Number Of Models | E1: Options | F1: Cost | G1: x | H1: Amount | I1: = | J1: Total Upgrade Price | K1: Comments
A2: Ork Boyz | B2: 10 to 30 | C2: 6 | E2: The entire mob may take:
A3: Wargear: | B3: Special Rules: | C3: Transport: | E3: Stikkbombs | F3: 1 | G3: x | I3: = | J3: =F3*H3 -> 0
A4: Slugga | B4: Furious Charge | C4: Mobs of 12 or | E4: The entire mob may replace their sluggas and choppas with shootas
A5: Choppa | B5: Mob Rule | C5: fewer may take | E5: Shootas | F5: 0 | G5: x | I5: = | J5: =F5*H5 -> 0
A6: Ard boyz wear | B6: Waaagh! | C6: a Trukk as a | E6: For every ten Orks in the mob, one Ork may exchange his slugga or shoota for:
A7: eavy armour | C7: dedicated | E7: Big Shoota | F7: 5 | G7: x | I7: = | J7: =F7*H7 -> 0
C8: trasport vehicle | E8: Rokkit Launcha | F8: 10 | G8: x | I8: = | J8: =F8*H8 -> 0
E9: One mob per army may be upgraded to
E10: Ard Boyz | F10: 4 | G10: x | I10: = | J10: =F10*H10 -> 0
E11: One Boy may be upgraded to Nob
E12: Nob Upgrade | F12: 10 | G12: x | I12: = | J12: =F12*H12 -> 0
E13: He may replace his choppa with one of the following:
E14: Nob, Big Choppa | F14: 5 | G14: x | I14: = | J14: =F14*H14 -> 0
E15: Nob, Power Klaw | F15: 25 | G15: x | I15: = | J15: =F15*H15 -> 0
E16: He may take any of the following:
E17: Nob, 'Eavy Armour | F17: 5 | G17: x | I17: = | J17: =F17*H17 -> 0 | K17: If not an 'Ard Boy Nob
E18: Nob, Bosspole | F18: 5 | G18: x | I18: = | J18: =F18*H18 -> 0
A19: Unit Type: Infantry | H19: Total Unit Price = | J19: =C2*D2+SUM(J3:J18) -> 0
A22: Unit Name | B22: Min/Max Models Per Unit | C22: Points per Model | D22: Number Of Models | E22: Options | F22: Cost | G22: x | H22: Amount | I22: = | J22: Total Upgrade Price | K22: Comments
A23: Gretchin | B23: 10-30 + 1-3 Runtherds | C23: 3 | E23: For every 10 Gretchin you must take one:
A24: Wargear: | B24: Special Rules: | E24: Runtherd | F24: 10 | G24: x | I24: = | J24: =F24*H24 -> 0
A25: Grechin: | B25: Gretchin: | C25: Runtherds: | E25: Runtherds may replace their grabba stikks with:
A26: Blasta | B26: It's a Grot's Life | C26: Furious Charge | E26: Grot-Prods | F26: 5 | G26: x | I26: = | J26: =F26*H26 -> 0
A27: Runtherds: | C27: Mob Rule
A28: Grabba Stikk | C28: Waaagh!
A29: Slugga
A30: Squig hound
A33: Unit Type: Infantry | H33: Total Unit Price = | J33: =C23*D23+SUM(J24:J32) -> 0
A36: If you are allowed to take Nobz or Meganobz as Troop choice ONLY!
A39: Unit Name | B39: Min/Max Models Per Unit | C39: Points per Model | D39: Number Of Models | E39: Options | F39: Cost | G39: x | H39: Amount | I39: = | J39: Total Upgrade Price | K39: Comments
A40: Nobz | B40: 3 to 10 | C40: 20 | E40: The entire mob may be upgraded to:
A41: Wargear: | B41: Special Rules: | C41: Transport: | E41: Nob Bikers | F41: 25 | G41: x | I41: = | J41: =F41*H41 -> 0
A42: Slugga | B42: Furious Charge | C42: Nob Mobz (except nob bikers) | E42: The entire mob may take:
A43: Choppa | B43: Mob Rule | C43: may take a Trukk as a dedicated | E43: Stikkbombz | F43: 1 | G43: x | I43: = | J43: =F43*H43 -> 0
A44: Nob Bikers are mounted | B44: Waaagh! | C44: transport vehicle. Alternatively | E44: Any Nob may replace his choppa with:
A45: on bikes | C45: they may take a battlewagon | E45: Big Choppa | F45: 5 | G45: x | I45: = | J45: =F45*H45 -> 0
A46: Painboy replaces slugga | C46: as a dedicated transport vehicle, | E46: Power Klaw | F46: 25 | G46: x | I46: = | J46: =F46*H46 -> 0
A47: and choppa with dok's | C47: thought it may not have the | E47: Any Nob may replace his slugga with:
A48: tools and 'urty syringe | C48: killkannon upgrade | E48: Twin-Linked Shoota | F48: 5 | G48: x | I48: = | J48: =F48*H48 -> 0
...

Sheet Troops (3)
A1: Unit Name | B1: Min/Max Models Per Unit | C1: Points per Model | D1: Number Of Models | E1: Options | F1: Cost | G1: x | H1: Amount | I1: = | J1: Total Upgrade Price | K1: Comments
A2: Ork Boyz | B2: 10 to 30 | C2: 6 | E2: The entire mob may take:
A3: Wargear: | B3: Special Rules: | C3: Transport: | E3: Stikkbombs | F3: 1 | G3: x | I3: = | J3: =F3*H3 -> 0
A4: Slugga | B4: Furious Charge | C4: Mobs of 12 or | E4: The entire mob may replace their sluggas and choppas with shootas
A5: Choppa | B5: Mob Rule | C5: fewer may take | E5: Shootas | F5: 0 | G5: x | I5: = | J5: =F5*H5 -> 0
A6: Ard boyz wear | B6: Waaagh! | C6: a Trukk as a | E6: For every ten Orks in the mob, one Ork may exchange his slugga or shoota for:
A7: eavy armour | C7: dedicated | E7: Big Shoota | F7: 5 | G7: x | I7: = | J7: =F7*H7 -> 0
C8: trasport vehicle | E8: Rokkit Launcha | F8: 10 | G8: x | I8: = | J8: =F8*H8 -> 0
E9: One mob per army may be upgraded to
E10: Ard Boyz | F10: 4 | G10: x | I10: = | J10: =F10*H10 -> 0
E11: One Boy may be upgraded to Nob
E12: Nob Upgrade | F12: 10 | G12: x | I12: = | J12: =F12*H12 -> 0
E13: He may replace his choppa with one of the following:
E14: Nob, Big Choppa | F14: 5 | G14: x | I14: = | J14: =F14*H14 -> 0
E15: Nob, Power Klaw | F15: 25 | G15: x | I15: = | J15: =F15*H15 -> 0
E16: He may take any of the following:
E17: Nob, 'Eavy Armour | F17: 5 | G17: x | I17: = | J17: =F17*H17 -> 0 | K17: If not an 'Ard Boy Nob
E18: Nob, Bosspole | F18: 5 | G18: x | I18: = | J18: =F18*H18 -> 0
A19: Unit Type: Infantry | H19: Total Unit Price = | J19: =C2*D2+SUM(J3:J18) -> 0
A22: Unit Name | B22: Min/Max Models Per Unit | C22: Points per Model | D22: Number Of Models | E22: Options | F22: Cost | G22: x | H22: Amount | I22: = | J22: Total Upgrade Price | K22: Comments
A23: Gretchin | B23: 10-30 + 1-3 Runtherds | C23: 3 | E23: For every 10 Gretchin you must take one:
A24: Wargear: | B24: Special Rules: | E24: Runtherd | F24: 10 | G24: x | I24: = | J24: =F24*H24 -> 0
A25: Grechin: | B25: Gretchin: | C25: Runtherds: | E25: Runtherds may replace their grabba stikks with:
A26: Blasta | B26: It's a Grot's Life | C26: Furious Charge | E26: Grot-Prods | F26: 5 | G26: x | I26: = | J26: =F26*H26 -> 0
A27: Runtherds: | C27: Mob Rule
A28: Grabba Stikk | C28: Waaagh!
A29: Slugga
A30: Squig hound
A33: Unit Type: Infantry | H33: Total Unit Price = | J33: =C23*D23+SUM(J24:J32) -> 0
A36: If you are allowed to take Nobz or Meganobz as Troop choice ONLY!
A39: Unit Name | B39: Min/Max Models Per Unit | C39: Points per Model | D39: Number Of Models | E39: Options | F39: Cost | G39: x | H39: Amount | I39: = | J39: Total Upgrade Price | K39: Comments
A40: Nobz | B40: 3 to 10 | C40: 20 | E40: The entire mob may be upgraded to:
A41: Wargear: | B41: Special Rules: | C41: Transport: | E41: Nob Bikers | F41: 25 | G41: x | I41: = | J41: =F41*H41 -> 0
A42: Slugga | B42: Furious Charge | C42: Nob Mobz (except nob bikers) | E42: The entire mob may take:
A43: Choppa | B43: Mob Rule | C43: may take a Trukk as a dedicated | E43: Stikkbombz | F43: 1 | G43: x | I43: = | J43: =F43*H43 -> 0
A44: Nob Bikers are mounted | B44: Waaagh! | C44: transport vehicle. Alternatively | E44: Any Nob may replace his choppa with:
A45: on bikes | C45: they may take a battlewagon | E45: Big Choppa | F45: 5 | G45: x | I45: = | J45: =F45*H45 -> 0
A46: Painboy replaces slugga | C46: as a dedicated transport vehicle, | E46: Power Klaw | F46: 25 | G46: x | I46: = | J46: =F46*H46 -> 0
A47: and choppa with dok's | C47: thought it may not have the | E47: Any Nob may replace his slugga with:
A48: tools and 'urty syringe | C48: killkannon upgrade | E48: Twin-Linked Shoota | F48: 5 | G48: x | I48: = | J48: =F48*H48 -> 0
...

Sheet Troops (4)
A1: Unit Name | B1: Min/Max Models Per Unit | C1: Points per Model | D1: Number Of Models | E1: Options | F1: Cost | G1: x | H1: Amount | I1: = | J1: Total Upgrade Price | K1: Comments
A2: Ork Boyz | B2: 10 to 30 | C2: 6 | E2: The entire mob may take:
A3: Wargear: | B3: Special Rules: | C3: Transport: | E3: Stikkbombs | F3: 1 | G3: x | I3: = | J3: =F3*H3 -> 0
A4: Slugga | B4: Furious Charge | C4: Mobs of 12 or | E4: The entire mob may replace their sluggas and choppas with shootas
A5: Choppa | B5: Mob Rule | C5: fewer may take | E5: Shootas | F5: 0 | G5: x | I5: = | J5: =F5*H5 -> 0
A6: Ard boyz wear | B6: Waaagh! | C6: a Trukk as a | E6: For every ten Orks in the mob, one Ork may exchange his slugga or shoota for:
A7: eavy armour | C7: dedicated | E7: Big Shoota | F7: 5 | G7: x | I7: = | J7: =F7*H7 -> 0
C8: trasport vehicle | E8: Rokkit Launcha | F8: 10 | G8: x | I8: = | J8: =F8*H8 -> 0
E9: One mob per army may be upgraded to
E10: Ard Boyz | F10: 4 | G10: x | I10: = | J10: =F10*H10 -> 0
E11: One Boy may be upgraded to Nob
E12: Nob Upgrade | F12: 10 | G12: x | I12: = | J12: =F12*H12 -> 0
E13: He may replace his choppa with one of the following:
E14: Nob, Big Choppa | F14: 5 | G14: x | I14: = | J14: =F14*H14 -> 0
E15: Nob, Power Klaw | F15: 25 | G15: x | I15: = | J15: =F15*H15 -> 0
E16: He may take any of the following:
E17: Nob, 'Eavy Armour | F17: 5 | G17: x | I17: = | J17: =F17*H17 -> 0 | K17: If not an 'Ard Boy Nob
E18: Nob, Bosspole | F18: 5 | G18: x | I18: = | J18: =F18*H18 -> 0
A19: Unit Type: Infantry | H19: Total Unit Price = | J19: =C2*D2+SUM(J3:J18) -> 0
A22: Unit Name | B22: Min/Max Models Per Unit | C22: Points per Model | D22: Number Of Models | E22: Options | F22: Cost | G22: x | H22: Amount | I22: = | J22: Total Upgrade Price | K22: Comments
A23: Gretchin | B23: 10-30 + 1-3 Runtherds | C23: 3 | E23: For every 10 Gretchin you must take one:
A24: Wargear: | B24: Special Rules: | E24: Runtherd | F24: 10 | G24: x | I24: = | J24: =F24*H24 -> 0
A25: Grechin: | B25: Gretchin: | C25: Runtherds: | E25: Runtherds may replace their grabba stikks with:
A26: Blasta | B26: It's a Grot's Life | C26: Furious Charge | E26: Grot-Prods | F26: 5 | G26: x | I26: = | J26: =F26*H26 -> 0
A27: Runtherds: | C27: Mob Rule
A28: Grabba Stikk | C28: Waaagh!
A29: Slugga
A30: Squig hound
A33: Unit Type: Infantry | H33: Total Unit Price = | J33: =C23*D23+SUM(J24:J32) -> 0
A36: If you are allowed to take Nobz or Meganobz as Troop choice ONLY!
A39: Unit Name | B39: Min/Max Models Per Unit | C39: Points per Model | D39: Number Of Models | E39: Options | F39: Cost | G39: x | H39: Amount | I39: = | J39: Total Upgrade Price | K39: Comments
A40: Nobz | B40: 3 to 10 | C40: 20 | E40: The entire mob may be upgraded to:
A41: Wargear: | B41: Special Rules: | C41: Transport: | E41: Nob Bikers | F41: 25 | G41: x | I41: = | J41: =F41*H41 -> 0
A42: Slugga | B42: Furious Charge | C42: Nob Mobz (except nob bikers) | E42: The entire mob may take:
A43: Choppa | B43: Mob Rule | C43: may take a Trukk as a dedicated | E43: Stikkbombz | F43: 1 | G43: x | I43: = | J43: =F43*H43 -> 0
A44: Nob Bikers are mounted | B44: Waaagh! | C44: transport vehicle. Alternatively | E44: Any Nob may replace his choppa with:
A45: on bikes | C45: they may take a battlewagon | E45: Big Choppa | F45: 5 | G45: x | I45: = | J45: =F45*H45 -> 0
A46: Painboy replaces slugga | C46: as a dedicated transport vehicle, | E46: Power Klaw | F46: 25 | G46: x | I46: = | J46: =F46*H46 -> 0
A47: and choppa with dok's | C47: thought it may not have the | E47: Any Nob may replace his slugga with:
A48: tools and 'urty syringe | C48: killkannon upgrade | E48: Twin-Linked Shoota | F48: 5 | G48: x | I48: = | J48: =F48*H48 -> 0
...

Sheet Troops (5)
A1: Unit Name | B1: Min/Max Models Per Unit | C1: Points per Model | D1: Number Of Models | E1: Options | F1: Cost | G1: x | H1: Amount | I1: = | J1: Total Upgrade Price | K1: Comments
A2: Ork Boyz | B2: 10 to 30 | C2: 6 | E2: The entire mob may take:
A3: Wargear: | B3: Special Rules: | C3: Transport: | E3: Stikkbombs | F3: 1 | G3: x | I3: = | J3: =F3*H3 -> 0
A4: Slugga | B4: Furious Charge | C4: Mobs of 12 or | E4: The entire mob may replace their sluggas and choppas with shootas
A5: Choppa | B5: Mob Rule | C5: fewer may take | E5: Shootas | F5: 0 | G5: x | I5: = | J5: =F5*H5 -> 0
A6: Ard boyz wear | B6: Waaagh! | C6: a Trukk as a | E6: For every ten Orks in the mob, one Ork may exchange his slugga or shoota for:
A7: eavy armour | C7: dedicated | E7: Big Shoota | F7: 5 | G7: x | I7: = | J7: =F7*H7 -> 0
C8: trasport vehicle | E8: Rokkit Launcha | F8: 10 | G8: x | I8: = | J8: =F8*H8 -> 0
E9: One mob per army may be upgraded to
E10: Ard Boyz | F10: 4 | G10: x | I10: = | J10: =F10*H10 -> 0
E11: One Boy may be upgraded to Nob
E12: Nob Upgrade | F12: 10 | G12: x | I12: = | J12: =F12*H12 -> 0
E13: He may replace his choppa with one of the following:
E14: Nob, Big Choppa | F14: 5 | G14: x | I14: = | J14: =F14*H14 -> 0
E15: Nob, Power Klaw | F15: 25 | G15: x | I15: = | J15: =F15*H15 -> 0
E16: He may take any of the following:
E17: Nob, 'Eavy Armour | F17: 5 | G17: x | I17: = | J17: =F17*H17 -> 0 | K17: If not an 'Ard Boy Nob
E18: Nob, Bosspole | F18: 5 | G18: x | I18: = | J18: =F18*H18 -> 0
A19: Unit Type: Infantry | H19: Total Unit Price = | J19: =C2*D2+SUM(J3:J18) -> 0
A22: Unit Name | B22: Min/Max Models Per Unit | C22: Points per Model | D22: Number Of Models | E22: Options | F22: Cost | G22: x | H22: Amount | I22: = | J22: Total Upgrade Price | K22: Comments
A23: Gretchin | B23: 10-30 + 1-3 Runtherds | C23: 3 | E23: For every 10 Gretchin you must take one:
A24: Wargear: | B24: Special Rules: | E24: Runtherd | F24: 10 | G24: x | I24: = | J24: =F24*H24 -> 0
A25: Grechin: | B25: Gretchin: | C25: Runtherds: | E25: Runtherds may replace their grabba stikks with:
A26: Blasta | B26: It's a Grot's Life | C26: Furious Charge | E26: Grot-Prods | F26: 5 | G26: x | I26: = | J26: =F26*H26 -> 0
A27: Runtherds: | C27: Mob Rule
A28: Grabba Stikk | C28: Waaagh!
A29: Slugga
A30: Squig hound
A33: Unit Type: Infantry | H33: Total Unit Price = | J33: =C23*D23+SUM(J24:J32) -> 0
A36: If you are allowed to take Nobz or Meganobz as Troop choice ONLY!
A39: Unit Name | B39: Min/Max Models Per Unit | C39: Points per Model | D39: Number Of Models | E39: Options | F39: Cost | G39: x | H39: Amount | I39: = | J39: Total Upgrade Price | K39: Comments
A40: Nobz | B40: 3 to 10 | C40: 20 | E40: The entire mob may be upgraded to:
A41: Wargear: | B41: Special Rules: | C41: Transport: | E41: Nob Bikers | F41: 25 | G41: x | I41: = | J41: =F41*H41 -> 0
A42: Slugga | B42: Furious Charge | C42: Nob Mobz (except nob bikers) | E42: The entire mob may take:
A43: Choppa | B43: Mob Rule | C43: may take a Trukk as a dedicated | E43: Stikkbombz | F43: 1 | G43: x | I43: = | J43: =F43*H43 -> 0
A44: Nob Bikers are mounted | B44: Waaagh! | C44: transport vehicle. Alternatively | E44: Any Nob may replace his choppa with:
A45: on bikes | C45: they may take a battlewagon | E45: Big Choppa | F45: 5 | G45: x | I45: = | J45: =F45*H45 -> 0
A46: Painboy replaces slugga | C46: as a dedicated transport vehicle, | E46: Power Klaw | F46: 25 | G46: x | I46: = | J46: =F46*H46 -> 0
A47: and choppa with dok's | C47: thought it may not have the | E47: Any Nob may replace his slugga with:
A48: tools and 'urty syringe | C48: killkannon upgrade | E48: Twin-Linked Shoota | F48: 5 | G48: x | I48: = | J48: =F48*H48 -> 0
...

Sheet Troops (6)
A1: Unit Name | B1: Min/Max Models Per Unit | C1: Points per Model | D1: Number Of Models | E1: Options | F1: Cost | G1: x | H1: Amount | I1: = | J1: Total Upgrade Price | K1: Comments
A2: Ork Boyz | B2: 10 to 30 | C2: 6 | E2: The entire mob may take:
A3: Wargear: | B3: Special Rules: | C3: Transport: | E3: Stikkbombs | F3: 1 | G3: x | I3: = | J3: =F3*H3 -> 0
A4: Slugga | B4: Furious Charge | C4: Mobs of 12 or | E4: The entire mob may replace their sluggas and choppas with shootas
A5: Choppa | B5: Mob Rule | C5: fewer may take | E5: Shootas | F5: 0 | G5: x | I5: = | J5: =F5*H5 -> 0
A6: Ard boyz wear | B6: Waaagh! | C6: a Trukk as a | E6: For every ten Orks in the mob, one Ork may exchange his slugga or shoota for:
A7: eavy armour | C7: dedicated | E7: Big Shoota | F7: 5 | G7: x | I7: = | J7: =F7*H7 -> 0
C8: trasport vehicle | E8: Rokkit Launcha | F8: 10 | G8: x | I8: = | J8: =F8*H8 -> 0
E9: One mob per army may be upgraded to
E10: Ard Boyz | F10: 4 | G10: x | I10: = | J10: =F10*H10 -> 0
E11: One Boy may be upgraded to Nob
E12: Nob Upgrade | F12: 10 | G12: x | I12: = | J12: =F12*H12 -> 0
E13: He may replace his choppa with one of the following:
E14: Nob, Big Choppa | F14: 5 | G14: x | I14: = | J14: =F14*H14 -> 0
E15: Nob, Power Klaw | F15: 25 | G15: x | I15: = | J15: =F15*H15 -> 0
E16: He may take any of the following:
E17: Nob, 'Eavy Armour | F17: 5 | G17: x | I17: = | J17: =F17*H17 -> 0 | K17: If not an 'Ard Boy Nob
E18: Nob, Bosspole | F18: 5 | G18: x | I18: = | J18: =F18*H18 -> 0
A19: Unit Type: Infantry | H19: Total Unit Price = | J19: =C2*D2+SUM(J3:J18) -> 0
A22: Unit Name | B22: Min/Max Models Per Unit | C22: Points per Model | D22: Number Of Models | E22: Options | F22: Cost | G22: x | H22: Amount | I22: = | J22: Total Upgrade Price | K22: Comments
A23: Gretchin | B23: 10-30 + 1-3 Runtherds | C23: 3 | E23: For every 10 Gretchin you must take one:
A24: Wargear: | B24: Special Rules: | E24: Runtherd | F24: 10 | G24: x | I24: = | J24: =F24*H24 -> 0
A25: Grechin: | B25: Gretchin: | C25: Runtherds: | E25: Runtherds may replace their grabba stikks with:
A26: Blasta | B26: It's a Grot's Life | C26: Furious Charge | E26: Grot-Prods | F26: 5 | G26: x | I26: = | J26: =F26*H26 -> 0
A27: Runtherds: | C27: Mob Rule
A28: Grabba Stikk | C28: Waaagh!
A29: Slugga
A30: Squig hound
A33: Unit Type: Infantry | H33: Total Unit Price = | J33: =C23*D23+SUM(J24:J32) -> 0
A36: If you are allowed to take Nobz or Meganobz as Troop choice ONLY!
A39: Unit Name | B39: Min/Max Models Per Unit | C39: Points per Model | D39: Number Of Models | E39: Options | F39: Cost | G39: x | H39: Amount | I39: = | J39: Total Upgrade Price | K39: Comments
A40: Nobz | B40: 3 to 10 | C40: 20 | E40: The entire mob may be upgraded to:
A41: Wargear: | B41: Special Rules: | C41: Transport: | E41: Nob Bikers | F41: 25 | G41: x | I41: = | J41: =F41*H41 -> 0
A42: Slugga | B42: Furious Charge | C42: Nob Mobz (except nob bikers) | E42: The entire mob may take:
A43: Choppa | B43: Mob Rule | C43: may take a Trukk as a dedicated | E43: Stikkbombz | F43: 1 | G43: x | I43: = | J43: =F43*H43 -> 0
A44: Nob Bikers are mounted | B44: Waaagh! | C44: transport vehicle. Alternatively | E44: Any Nob may replace his choppa with:
A45: on bikes | C45: they may take a battlewagon | E45: Big Choppa | F45: 5 | G45: x | I45: = | J45: =F45*H45 -> 0
A46: Painboy replaces slugga | C46: as a dedicated transport vehicle, | E46: Power Klaw | F46: 25 | G46: x | I46: = | J46: =F46*H46 -> 0
A47: and choppa with dok's | C47: thought it may not have the | E47: Any Nob may replace his slugga with:
A48: tools and 'urty syringe | C48: killkannon upgrade | E48: Twin-Linked Shoota | F48: 5 | G48: x | I48: = | J48: =F48*H48 -> 0
...

Sheet Fast Attack
A1: Unit Name | B1: Min/Max Models Per Unit | C1: Points per Model | D1: Number Of Models | E1: Options | F1: Cost | G1: x | H1: Amount | I1: = | J1: Total Upgrade Price | K1: Comments
A2: Stormboyz | B2: 5 to 20 | C2: 12 | E2: One Stormboy may be upgrade to nob
A3: Wargear: | B3: Special Rules: | E3: Nob Upgrade | F3: 10 | G3: x | I3: = | J3: =F3*H3 -> 0
A4: Slugga | B4: Furious Charge | E4: He may replace his choppa with one of the following:
A5: Choppa | B5: Mob Rule | E5: Big Choppa | F5: 5 | G5: x | I5: = | J5: =F5*H5 -> 0
A6: Rokkit pack | E6: Power Klaw | F6: 25 | G6: x | I6: = | J6: =F6*H6 -> 0
A7: Stikkbombz | E7: He may take any of the following:
E8: Eavy Armour | F8: 5 | G8: x | I8: = | J8: =F8*H8 -> 0
E9: Boss Pole | F9: 5 | G9: x | I9: = | J9: =F9*H9 -> 0
E10: Instead of a Nob, one mob may be led by
E11: Boss Zagstruk | F11: 85 | G11: x | I11: = | J11: =F11*H11 -> 0
A12: Unit Type: Jump Infantry | H12: Total Unit Price = | J12: =C2*D2+SUM(J3:J11) -> 0
A15: Unit Name | B15: Min/Max Models Per Unit | C15: Points per Model | D15: Number Of Models | E15: Options | F15: Cost | G15: x | H15: Amount | I15: = | J15: Total Upgrade Price | K15: Comments
A16: Warbuggies | B16: 1 to 3 | C16: 30 | E16: Any Warbuggy may replace its twin-linked big shoota with one of the following:
A17: Wargear: | E17: Twin-Linked Rokkit Launcha | F17: 5 | G17: x | I17: = | J17: =F17*H17 -> 0
A18: Twin-Linked Big Shoota | E18: Skorcha | F18: 10 | G18: x | I18: = | J18: =F18*H18 -> 0
E19: Any Warbuggy may take any of the following:
E20: Red Paint Job | F20: 5 | G20: x | I20: = | J20: =F20*H20 -> 0
E21: Grot Riggers | F21: 5 | G21: x | I21: = | J21: =F21*H21 -> 0
E22: Armour Plates | F22: 10 | G22: x | I22: = | J22: =F22*H22 -> 0
E23: Wartrakk Upgrade | F23: 5 | G23: x | I23: = | J23: =F23*H23 -> 0
A24: Unit Type: Vehicle (Fast, Open-topped) | H24: Total Unit Price = | J24: =C16*D16+SUM(J17:J23) -> 0
A27: Unit Name | B27: Min/Max Models Per Unit | C27: Points per Model | D27: Number Of Models | E27: Options | F27: Cost | G27: x | H27: Amount | I27: = | J27: Total Upgrade Price | K27: Comments
A28: Warbikers | B28: 3 to 12 | C28: 25 | E28: One Warbiker can be upgraded to a Nob
A29: Wargear: | B29: Special Rules: | E29: Nob Upgrade | F29: 10 | G29: x | I29: = | J29: =F29*H29 -> 0
A30: Choppa | B30: Furious Charge | E30: He may replace his choppa with one of the following:
A31: Warbike | B31: Mob Rule | E31: Big Choppa | F31: 5 | G31: x | I31: = | J31: =F31*H31 -> 0
A32: Slugga | B32: Exhaust Cloud | E32: Power Klaw | F32: 25 | G32: x | I32: = | J32: =F32*H32 -> 0
A33: Dakkagun | E33: He may take any of the following:
E34: Boss Pole | F34: 5 | G34: x | I34: = | J34: =F34*H34 -> 0
A37: Unit Type: Bikes | H37: Total Unit Price = | J37: =C28*D28+SUM(J29:J34) -> 0
A40: Unit Name | B40: Min/Max Models Per Unit | C40: Points per Model | D40: Number Of Models | E40: Options | F40: Cost | G40: x | H40: Amount | I40: = | J40: Total Upgrade Price | K40: Comments
A41: Deffkoptas | B41: 1 to 5 | C41: 35 | E41: Any Deffkopta may replace its twin-linked big shootas with:
A42: Wargear: | B42: Special Rules: | E42: Twin-Linked Rokkit Launcha | F42: 10 | G42: x | I42: = | J42: =F42*H42 -> 0
A43: Choppa | B43: Furious Charge | E43: Kustom Mega-Blasta | F43: 5 | G43: x | I43: = | J43: =F43*H43 -> 0
A44: Twin-Linked Big Shoota | B44: Mob Rule | E44: Any Deffkopta may be equipped with:
B45: Scouts | E45: Bigbomm | F45: 15 | G45: x | I45: = | J45: =F45*H45 -> 0
B46: Hit and Run | E46: Buzzsaw | F46: 25 | G46: x | I46: = | J46: =F46*H46 -> 0
A49: Unit Type: Jetbikes | H49: Total Unit Price = | J49: =C41*D41+SUM(J42:J48) -> 0

Sheet Fast Attack (2)
A1: Unit Name | B1: Min/Max Models Per Unit | C1: Points per Model | D1: Number Of Models | E1: Options | F1: Cost | G1: x | H1: Amount | I1: = | J1: Total Upgrade Price | K1: Comments
A2: Stormboyz | B2: 5 to 20 | C2: 12 | E2: One Stormboy may be upgrade to nob
A3: Wargear: | B3: Special Rules: | E3: Nob Upgrade | F3: 10 | G3: x | I3: = | J3: =F3*H3 -> 0
A4: Slugga | B4: Furious Charge | E4: He may replace his choppa with one of the following:
A5: Choppa | B5: Mob Rule | E5: Big Choppa | F5: 5 | G5: x | I5: = | J5: =F5*H5 -> 0
A6: Rokkit pack | E6: Power Klaw | F6: 25 | G6: x | I6: = | J6: =F6*H6 -> 0
A7: Stikkbombz | E7: He may take any of the following:
E8: Eavy Armour | F8: 5 | G8: x | I8: = | J8: =F8*H8 -> 0
E9: Boss Pole | F9: 5 | G9: x | I9: = | J9: =F9*H9 -> 0
E10: Instead of a Nob, one mob may be led by
E11: Boss Zagstruk | F11: 85 | G11: x | I11: = | J11: =F11*H11 -> 0
A12: Unit Type: Jump Infantry | H12: Total Unit Price = | J12: =C2*D2+SUM(J3:J11) -> 0
A15: Unit Name | B15: Min/Max Models Per Unit | C15: Points per Model | D15: Number Of Models | E15: Options | F15: Cost | G15: x | H15: Amount | I15: = | J15: Total Upgrade Price | K15: Comments
A16: Warbuggies | B16: 1 to 3 | C16: 30 | E16: Any Warbuggy may replace its twin-linked big shoota with one of the following:
A17: Wargear: | E17: Twin-Linked Rokkit Launcha | F17: 5 | G17: x | I17: = | J17: =F17*H17 -> 0
A18: Twin-Linked Big Shoota | E18: Skorcha | F18: 10 | G18: x | I18: = | J18: =F18*H18 -> 0
E19: Any Warbuggy may take any of the following:
E20: Red Paint Job | F20: 5 | G20: x | I20: = | J20: =F20*H20 -> 0
E21: Grot Riggers | F21: 5 | G21: x | I21: = | J21: =F21*H21 -> 0
E22: Armour Plates | F22: 10 | G22: x | I22: = | J22: =F22*H22 -> 0
E23: Wartrakk Upgrade | F23: 5 | G23: x | I23: = | J23: =F23*H23 -> 0
A24: Unit Type: Vehicle (Fast, Open-topped) | H24: Total Unit Price = | J24: =C16*D16+SUM(J17:J23) -> 0
A27: Unit Name | B27: Min/Max Models Per Unit | C27: Points per Model | D27: Number Of Models | E27: Options | F27: Cost | G27: x | H27: Amount | I27: = | J27: Total Upgrade Price | K27: Comments
A28: Warbikers | B28: 3 to 12 | C28: 25 | E28: One Warbiker can be upgraded to a Nob
A29: Wargear: | B29: Special Rules: | E29: Nob Upgrade | F29: 10 | G29: x | I29: = | J29: =F29*H29 -> 0
A30: Choppa | B30: Furious Charge | E30: He may replace his choppa with one of the following:
A31: Warbike | B31: Mob Rule | E31: Big Choppa | F31: 5 | G31: x | I31: = | J31: =F31*H31 -> 0
A32: Slugga | B32: Exhaust Cloud | E32: Power Klaw | F32: 25 | G32: x | I32: = | J32: =F32*H32 -> 0
A33: Dakkagun | E33: He may take any of the following:
E34: Boss Pole | F34: 5 | G34: x | I34: = | J34: =F34*H34 -> 0
A37: Unit Type: Bikes | H37: Total Unit Price = | J37: =C28*D28+SUM(J29:J34) -> 0
A40: Unit Name | B40: Min/Max Models Per Unit | C40: Points per Model | D40: Number Of Models | E40: Options | F40: Cost | G40: x | H40: Amount | I40: = | J40: Total Upgrade Price | K40: Comments
A41: Deffkoptas | B41: 1 to 5 | C41: 35 | E41: Any Deffkopta may replace its twin-linked big shootas with:
A42: Wargear: | B42: Special Rules: | E42: Twin-Linked Rokkit Launcha | F42: 10 | G42: x | I42: = | J42: =F42*H42 -> 0
A43: Choppa | B43: Furious Charge | E43: Kustom Mega-Blasta | F43: 5 | G43: x | I43: = | J43: =F43*H43 -> 0
A44: Twin-Linked Big Shoota | B44: Mob Rule | E44: Any Deffkopta may be equipped with:
B45: Scouts | E45: Bigbomm | F45: 15 | G45: x | I45: = | J45: =F45*H45 -> 0
B46: Hit and Run | E46: Buzzsaw | F46: 25 | G46: x | I46: = | J46: =F46*H46 -> 0
A49: Unit Type: Jetbikes | H49: Total Unit Price = | J49: =C41*D41+SUM(J42:J48) -> 0

Sheet Fast Attack (3)
A1: Unit Name | B1: Min/Max Models Per Unit | C1: Points per Model | D1: Number Of Models | E1: Options | F1: Cost | G1: x | H1: Amount | I1: = | J1: Total Upgrade Price | K1: Comments
A2: Stormboyz | B2: 5 to 20 | C2: 12 | E2: One Stormboy may be upgrade to nob
A3: Wargear: | B3: Special Rules: | E3: Nob Upgrade | F3: 10 | G3: x | I3: = | J3: =F3*H3 -> 0
A4: Slugga | B4: Furious Charge | E4: He may replace his choppa with one of the following:
A5: Choppa | B5: Mob Rule | E5: Big Choppa | F5: 5 | G5: x | I5: = | J5: =F5*H5 -> 0
A6: Rokkit pack | E6: Power Klaw | F6: 25 | G6: x | I6: = | J6: =F6*H6 -> 0
A7: Stikkbombz | E7: He may take any of the following:
E8: Eavy Armour | F8: 5 | G8: x | I8: = | J8: =F8*H8 -> 0
E9: Boss Pole | F9: 5 | G9: x | I9: = | J9: =F9*H9 -> 0
E10: Instead of a Nob, one mob may be led by
E11: Boss Zagstruk | F11: 85 | G11: x | I11: = | J11: =F11*H11 -> 0
A12: Unit Type: Jump Infantry | H12: Total Unit Price = | J12: =C2*D2+SUM(J3:J11) -> 0
A15: Unit Name | B15: Min/Max Models Per Unit | C15: Points per Model | D15: Number Of Models | E15: Options | F15: Cost | G15: x | H15: Amount | I15: = | J15: Total Upgrade Price | K15: Comments
A16: Warbuggies | B16: 1 to 3 | C16: 30 | E16: Any Warbuggy may replace its twin-linked big shoota with one of the following:
A17: Wargear: | E17: Twin-Linked Rokkit Launcha | F17: 5 | G17: x | I17: = | J17: =F17*H17 -> 0
A18: Twin-Linked Big Shoota | E18: Skorcha | F18: 10 | G18: x | I18: = | J18: =F18*H18 -> 0
E19: Any Warbuggy may take any of the following:
E20: Red Paint Job | F20: 5 | G20: x | I20: = | J20: =F20*H20 -> 0
E21: Grot Riggers | F21: 5 | G21: x | I21: = | J21: =F21*H21 -> 0
E22: Armour Plates | F22: 10 | G22: x | I22: = | J22: =F22*H22 -> 0
E23: Wartrakk Upgrade | F23: 5 | G23: x | I23: = | J23: =F23*H23 -> 0
A24: Unit Type: Vehicle (Fast, Open-topped) | H24: Total Unit Price = | J24: =C16*D16+SUM(J17:J23) -> 0
A27: Unit Name | B27: Min/Max Models Per Unit | C27: Points per Model | D27: Number Of Models | E27: Options | F27: Cost | G27: x | H27: Amount | I27: = | J27: Total Upgrade Price | K27: Comments
A28: Warbikers | B28: 3 to 12 | C28: 25 | E28: One Warbiker can be upgraded to a Nob
A29: Wargear: | B29: Special Rules: | E29: Nob Upgrade | F29: 10 | G29: x | I29: = | J29: =F29*H29 -> 0
A30: Choppa | B30: Furious Charge | E30: He may replace his choppa with one of the following:
A31: Warbike | B31: Mob Rule | E31: Big Choppa | F31: 5 | G31: x | I31: = | J31: =F31*H31 -> 0
A32: Slugga | B32: Exhaust Cloud | E32: Power Klaw | F32: 25 | G32: x | I32: = | J32: =F32*H32 -> 0
A33: Dakkagun | E33: He may take any of the following:
E34: Boss Pole | F34: 5 | G34: x | I34: = | J34: =F34*H34 -> 0
A37: Unit Type: Bikes | H37: Total Unit Price = | J37: =C28*D28+SUM(J29:J34) -> 0
A40: Unit Name | B40: Min/Max Models Per Unit | C40: Points per Model | D40: Number Of Models | E40: Options | F40: Cost | G40: x | H40: Amount | I40: = | J40: Total Upgrade Price | K40: Comments
A41: Deffkoptas | B41: 1 to 5 | C41: 35 | E41: Any Deffkopta may replace its twin-linked big shootas with:
A42: Wargear: | B42: Special Rules: | E42: Twin-Linked Rokkit Launcha | F42: 10 | G42: x | I42: = | J42: =F42*H42 -> 0
A43: Choppa | B43: Furious Charge | E43: Kustom Mega-Blasta | F43: 5 | G43: x | I43: = | J43: =F43*H43 -> 0
A44: Twin-Linked Big Shoota | B44: Mob Rule | E44: Any Deffkopta may be equipped with:
B45: Scouts | E45: Bigbomm | F45: 15 | G45: x | I45: = | J45: =F45*H45 -> 0
B46: Hit and Run | E46: Buzzsaw | F46: 25 | G46: x | I46: = | J46: =F46*H46 -> 0
A49: Unit Type: Jetbikes | H49: Total Unit Price = | J49: =C41*D41+SUM(J42:J48) -> 0

Sheet Heavy Support
A1: Unit Name | B1: Min/Max Models Per Unit | C1: Points per Model | D1: Number Of Models | E1: Options | F1: Cost | G1: x | H1: Amount | I1: = | J1: Total Upgrade Price | K1: Comments
A2: Battlewagon | B2: 1 | C2: 90 | E2: May take any of the following:
A3: Transport Capacity | E3: Killkannon | F3: 60 | G3: x | I3: = | J3: =F3*H3 -> 0
A4: 20 Models. Models in Mega Armour counts as two models. | E4: Ard Case | F4: 15 | G4: x | I4: = | J4: =F4*H4 -> 0
E5: Deff Rolla* | F5: 20 | G5: x | I5: = | J5: =F5*H5 -> 0 | L5: * = May not take both a deff rolla and reinforced ram
A6: A Battlewagon with a killkannon has a transport capacity of 12 | E6: Red Paint Job | F6: 5 | G6: x | I6: = | J6: =F6*H6 -> 0
E7: Grot Riggers | F7: 5 | G7: x | I7: = | J7: =F7*H7 -> 0
E8: Stikkbomb Chukka | F8: 5 | G8: x | I8: = | J8: =F8*H8 -> 0
E9: Armour Plates | F9: 10 | G9: x | I9: = | J9: =F9*H9 -> 0
E10: Boarding Plank | F10: 5 | G10: x | I10: = | J10: =F10*H10 -> 0
E11: Wreckin' Ball | F11: 10 | G11: x | I11: = | J11: =F11*H11 -> 0
E12: Grabbin' Klaw | F12: 5 | G12: x | I12: = | J12: =F12*H12 -> 0
