Workbook

Sheet Main Army Builder
B2: Warhammer 40,000 Ork Army Creator
C6: Unit Name | D6: Unit Cost | G6: Unit Name | H6: Unit Cost
B7: HQ | C7: =IF(HQ!K12>0,HQ!A3,IF(HQ!D24>0,HQ!A17,IF(HQ!D37>0,HQ!A28,IF(HQ!D50>0,HQ!A41,IF(HQ!J70>0,HQ!A54,IF(HQ!J94>0,HQ!A74,IF(HQ!K105>0,HQ!A98,""))))))) | D7: =IF(HQ!K12>0,HQ!K12,IF(HQ!D24>0,HQ!D24,IF(HQ!D37>0,HQ!D37,IF(HQ!D50>0,HQ!D50,IF(HQ!J70>0,HQ!J70,IF(HQ!J94>0,HQ!J94,IF(HQ!K105>0,HQ!K105,""))))))) | F7: Dedicated Transports | G7: =IF('Dedicated Transports'!J12>0,'Dedicated Transports'!A2,"") | H7: =IF('Dedicated Transports'!J12>0,'Dedicated Transports'!J12,"")
B8: HQ | C8: =IF('HQ (2)'!K12>0,'HQ (2)'!A3,IF('HQ (2)'!D24>0,'HQ (2)'!A17,IF('HQ (2)'!D37>0,'HQ (2)'!A28,IF('HQ (2)'!D50>0,'HQ (2)'!A41,IF('HQ (2)'!J70>0,'HQ (2)'!A54,IF('HQ (2)'!J94>0,'HQ (2)'!A74,IF('HQ (2)'!K105>0,'HQ (2)'!A98,""))))))) | D8: =IF('HQ (2)'!K12>0,'HQ (2)'!K12,IF('HQ (2)'!D24>0,'HQ (2)'!D24,IF('HQ (2)'!D37>0,'HQ (2)'!D37,IF('HQ (2)'!D50>0,'HQ (2)'!D50,IF('HQ (2)'!J70>0,'HQ (2)'!J70,IF('HQ (2)'!J94>0,'HQ (2)'!J94,IF('HQ (2)'!K105>0,'HQ (2)'!K105,""))))))) | F8: Dedicated Transports | G8: =IF('Dedicated Transports'!J26>0,'Dedicated Transports'!A16,"") | H8: =IF('Dedicated Transports'!J26>0,'Dedicated Transports'!J26,"")
B9: Elites | C9: =IF(Elites!J23>0,Elites!A2,IF(Elites!J36>0,Elites!A27,IF(Elites!J48>0,Elites!A40,IF(Elites!J63>0,Elites!A52,IF(Elites!J75>0,Elites!A67,IF(Elites!J93>0,Elites!A79,"")))))) | D9: =IF(Elites!J23>0,Elites!J23,IF(Elites!J36>0,Elites!J36,IF(Elites!J48>0,Elites!J48,IF(Elites!J63>0,Elites!J63,IF(Elites!J75>0,Elites!J75,IF(Elites!J93>0,Elites!J93,"")))))) | F9: Dedicated Transports | G9: =IF('Dedicated Transports'!J40>0,'Dedicated Transports'!A30,"") | H9: =IF('Dedicated Transports'!J40>0,'Dedicated Transports'!J40,"")
B10: Elites | C10: =IF('Elites (2)'!J23>0,'Elites (2)'!A2,IF('Elites (2)'!J36>0,'Elites (2)'!A27,IF('Elites (2)'!J48>0,'Elites (2)'!A40,IF('Elites (2)'!J63>0,'Elites (2)'!A52,IF('Elites (2)'!J75>0,'Elites (2)'!A67,IF('Elites (2)'!J93>0,'Elites (2)'!A79,"")))))) | D10: =IF('Elites (2)'!J23>0,'Elites (2)'!J23,IF('Elites (2)'!J36>0,'Elites (2)'!J36,IF('Elites (2)'!J48>0,'Elites (2)'!J48,IF('Elites (2)'!J63>0,'Elites (2)'!J63,IF('Elites (2)'!J75>0,'Elites (2)'!J75,IF('Elites (2)'!J93>0,'Elites (2)'!J93,"")))))) | F10: Dedicated Transports | G10: =IF('Dedicated Transports'!J54>0,'Dedicated Transports'!A44,"") | H10: =IF('Dedicated Transports'!J54>0,'Dedicated Transports'!J54,"")
B11: Elites | C11: =IF('Elites (3)'!J23>0,'Elites (3)'!A2,IF('Elites (3)'!J36>0,'Elites (3)'!A27,IF('Elites (3)'!J48>0,'Elites (3)'!A40,IF('Elites (3)'!J63>0,'Elites (3)'!A52,IF('Elites (3)'!J75>0,'Elites (3)'!A67,IF('Elites (3)'!J93>0,'Elites (3)'!A79,"")))))) | D11: =IF('Elites (3)'!J23>0,'Elites (3)'!J23,IF('Elites (3)'!J36>0,'Elites (3)'!J36,IF('Elites (3)'!J48>0,'Elites (3)'!J48,IF('Elites (3)'!J63>0,'Elites (3)'!J63,IF('Elites (3)'!J75>0,'Elites (3)'!J75,IF('Elites (3)'!J93>0,'Elites (3)'!J93,"")))))) | F11: Dedicated Transports | G11: =IF('Dedicated Transports'!J68>0,'Dedicated Transports'!A58,"") | H11: =IF('Dedicated Transports'!J68>0,'Dedicated Transports'!J68,"")
B12: Troops | C12: =IF(Troops!J19>0,Troops!A2,IF(Troops!J33>0,Troops!A23,IF(Troops!J61>0,Troops!A40,IF(Troops!J74>0,Troops!A65,IF(Troops!J90>0,Troops!A81,IF(Troops!J106>0,Troops!A97,"")))))) | D12: =IF(Troops!J19>0,Troops!J19,IF(Troops!J33>0,Troops!J33,IF(Troops!J61>0,Troops!J61,IF(Troops!J74>0,Troops!J74,IF(Troops!J90>0,Troops!J90,IF(Troops!J106>0,Troops!J106,"")))))) | F12: Dedicated Transports | G12: =IF('Dedicated Transports'!J82>0,'Dedicated Transports'!A72,"") | H12: =IF('Dedicated Transports'!J82>0,'Dedicated Transports'!J82,"")
B13: Troops | C13: =IF('Troops (2)'!J19>0,'Troops (2)'!A2,IF('Troops (2)'!J33>0,'Troops (2)'!A23,IF('Troops (2)'!J61>0,'Troops (2)'!A40,IF('Troops (2)'!J74>0,'Troops (2)'!A65,IF('Troops (2)'!J90>0,'Troops (2)'!A81,IF('Troops (2)'!J106>0,'Troops (2)'!A97,"")))))) | D13: =IF('Troops (2)'!J19>0,'Troops (2)'!J19,IF('Troops (2)'!J33>0,'Troops (2)'!J33,IF('Troops (2)'!J61>0,'Troops (2)'!J61,IF('Troops (2)'!J74>0,'Troops (2)'!J74,IF('Troops (2)'!J90>0,'Troops (2)'!J90,IF('Troops (2)'!J106>0,'Troops (2)'!J106,""))))))
B14: Troops | C14: =IF('Troops (3)'!J19>0,'Troops (3)'!A2,IF('Troops (3)'!J33>0,'Troops (3)'!A23,IF('Troops (3)'!J61>0,'Troops (3)'!A40,IF('Troops (3)'!J74>0,'Troops (3)'!A65,IF('Troops (3)'!J90>0,'Troops (3)'!A81,IF('Troops (3)'!J106>0,'Troops (3)'!A97,"")))))) | D14: =IF('Troops (3)'!J19>0,'Troops (3)'!J19,IF('Troops (3)'!J33>0,'Troops (3)'!J33,IF('Troops (3)'!J61>0,'Troops (3)'!J61,IF('Troops (3)'!J74>0,'Troops (3)'!J74,IF('Troops (3)'!J90>0,'Troops (3)'!J90,IF('Troops (3)'!J106>0,'Troops (3)'!J106,""))))))
B15: Troops | C15: =IF('Troops (4)'!J19>0,'Troops (4)'!A2,IF('Troops (4)'!J33>0,'Troops (4)'!A23,IF('Troops (4)'!J61>0,'Troops (4)'!A40,IF('Troops (4)'!J74>0,'Troops (4)'!A65,IF('Troops (4)'!J90>0,'Troops (4)'!A81,IF('Troops (4)'!J106>0,'Troops (4)'!A97,"")))))) | D15: =IF('Troops (4)'!J19>0,'Troops (4)'!J19,IF('Troops (4)'!J33>0,'Troops (4)'!J33,IF('Troops (4)'!J61>0,'Troops (4)'!J61,IF('Troops (4)'!J74>0,'Troops (4)'!J74,IF('Troops (4)'!J90>0,'Troops (4)'!J90,IF('Troops (4)'!J106>0,'Troops (4)'!J106,""))))))
B16: Troops | C16: =IF('Troops (5)'!J19>0,'Troops (5)'!A2,IF('Troops (5)'!J33>0,'Troops (5)'!A23,IF('Troops (5)'!J61>0,'Troops (5)'!A40,IF('Troops (5)'!J74>0,'Troops (5)'!A65,IF('Troops (5)'!J90>0,'Troops (5)'!A81,IF('Troops (5)'!J106>0,'Troops (5)'!A97,"")))))) | D16: =IF('Troops (5)'!J19>0,'Troops (5)'!J19,IF('Troops (5)'!J33>0,'Troops (5)'!J33,IF('Troops (5)'!J61>0,'Troops (5)'!J61,IF('Troops (5)'!J74>0,'Troops (5)'!J74,IF('Troops (5)'!J90>0,'Troops (5)'!J90,IF('Troops (5)'!J106>0,'Troops (5)'!J106,"")))))) | F16: Each worksheet represents each slot in the force organisation chart
B17: Troops | C17: =IF('Troops (6)'!J19>0,'Troops (6)'!A2,IF('Troops (6)'!J33>0,'Troops (6)'!A23,IF('Troops (6)'!J61>0,'Troops (6)'!A40,IF('Troops (6)'!J74>0,'Troops (6)'!A65,IF('Troops (6)'!J90>0,'Troops (6)'!A81,IF('Troops (6)'!J106>0,'Troops (6)'!A97,"")))))) | D17: =IF('Troops (6)'!J19>0,'Troops (6)'!J19,IF('Troops (6)'!J33>0,'Troops (6)'!J33,IF('Troops (6)'!J61>0,'Troops (6)'!J61,IF('Troops (6)'!J74>0,'Troops (6)'!J74,IF('Troops (6)'!J90>0,'Troops (6)'!J90,IF('Troops (6)'!J106>0,'Troops (6)'!J106,"")))))) | F17: Except Dedicated Transports where you can fill in stuff on each field.
B18: Fast Attack | C18: =IF('Fast Attack'!J12>0,'Fast Attack'!A2,IF('Fast Attack'!J24>0,'Fast Attack'!A16,IF('Fast Attack'!J37>0,'Fast Attack'!A28,IF('Fast Attack'!J49>0,'Fast Attack'!A41,"")))) | D18: =IF('Fast Attack'!J12>0,'Fast Attack'!J12,IF('Fast Attack'!J24>0,'Fast Attack'!J24,IF('Fast Attack'!J37>0,'Fast Attack'!J37,IF('Fast Attack'!J49>0,'Fast Attack'!J49,"")))) | F18: Dont use 0 values, delete the value altogether
B19: Fast Attack | C19: =IF('Fast Attack (2)'!J12>0,'Fast Attack (2)'!A2,IF('Fast Attack (2)'!J24>0,'Fast Attack (2)'!A16,IF('Fast Attack (2)'!J37>0,'Fast Attack (2)'!A28,IF('Fast Attack (2)'!J49>0,'Fast Attack (2)'!A41,"")))) | D19: =IF('Fast Attack (2)'!J12>0,'Fast Attack (2)'!J12,IF('Fast Attack (2)'!J24>0,'Fast Attack (2)'!J24,IF('Fast Attack (2)'!J37>0,'Fast Attack (2)'!J37,IF('Fast Attack (2)'!J49>0,'Fast Attack (2)'!J49,"")))) | F19: Only insert values in the yellow boxes.
B20: Fast Attack | C20: =IF('Fast Attack (3)'!J12>0,'Fast Attack (3)'!A2,IF('Fast Attack (3)'!J24>0,'Fast Attack (3)'!A16,IF('Fast Attack (3)'!J37>0,'Fast Attack (3)'!A28,IF('Fast Attack (3)'!J49>0,'Fast Attack (3)'!A41,"")))) | D20: =IF('Fast Attack (3)'!J12>0,'Fast Attack (3)'!J12,IF('Fast Attack (3)'!J24>0,'Fast Attack (3)'!J24,IF('Fast Attack (3)'!J37>0,'Fast Attack (3)'!J37,IF('Fast Attack (3)'!J49>0,'Fast Attack (3)'!J49,"")))) | F20: There are many protections against wrong values but of course bugs might occur.
B21: Heavy Support | C21: =IF('Heavy Support'!J21>0,'Heavy Support'!A2,IF('Heavy Support'!J33>0,'Heavy Support'!A24,IF('Heavy Support'!J46>0,'Heavy Support'!A37,IF('Heavy Support'!J63>0,'Heavy Support'!A50,IF('Heavy Support'!J77>0,'Heavy Support'!A67,IF('Heavy Support'!J97>0,'Heavy Support'!A81,"")))))) | D21: =IF('Heavy Support'!J21>0,'Heavy Support'!J21,IF('Heavy Support'!J33>0,'Heavy Support'!J33,IF('Heavy Support'!J46>0,'Heavy Support'!J46,IF('Heavy Support'!J63>0,'Heavy Support'!J63,IF('Heavy Support'!J77>0,'Heavy Support'!J77,IF('Heavy Support'!J97>0,'Heavy Support'!J97,"")))))) | F21: If you dont like it, dont use it ;)
B22: Heavy Support | C22: =IF('Heavy Support (2)'!J21>0,'Heavy Support (2)'!A2,IF('Heavy Support (2)'!J33>0,'Heavy Support (2)'!A24,IF('Heavy Support (2)'!J46>0,'Heavy Support (2)'!A37,IF('Heavy Support (2)'!J63>0,'Heavy Support (2)'!A50,IF('Heavy Support (2)'!J77>0,'Heavy Support (2)'!A67,IF('Heavy Support (2)'!J97>0,'Heavy Support (2)'!A81,"")))))) | D22: =IF('Heavy Support (2)'!J21>0,'Heavy Support (2)'!J21,IF('Heavy Support (2)'!J33>0,'Heavy Support (2)'!J33,IF('Heavy Support (2)'!J46>0,'Heavy Support (2)'!J46,IF('Heavy Support (2)'!J63>0,'Heavy Support (2)'!J63,IF('Heavy Support (2)'!J77>0,'Heavy Support (2)'!J77,IF('Heavy Support (2)'!J97>0,'Heavy Support (2)'!J97,""))))))
B23: Heavy Support | C23: =IF('Heavy Support (3)'!J21>0,'Heavy Support (3)'!A2,IF('Heavy Support (3)'!J33>0,'Heavy Support (3)'!A24,IF('Heavy Support (3)'!J46>0,'Heavy Support (3)'!A37,IF('Heavy Support (3)'!J63>0,'Heavy Support (3)'!A50,IF('Heavy Support (3)'!J77>0,'Heavy Support (3)'!A67,IF('Heavy Support (3)'!J97>0,'Heavy Support (3)'!A81,"")))))) | D23: =IF('Heavy Support (3)'!J21>0,'Heavy Support (3)'!J21,IF('Heavy Support (3)'!J33>0,'Heavy Support (3)'!J33,IF('Heavy Support (3)'!J46>0,'Heavy Support (3)'!J46,IF('Heavy Support (3)'!J63>0,'Heavy Support (3)'!J63,IF('Heavy Support (3)'!J77>0,'Heavy Support (3)'!J77,IF('Heavy Support (3)'!J97>0,'Heavy Support (3)'!J97,""))))))
B25: Total Army Cost | D25: =SUM(D7:D23)+SUM(H7:H12) -> 0
B31: Warhammer 40,000 Ork Army Creator V0.006
B32: Created by SuperioR © 2008

Sheet HQ
A2: Unit Name | B2: Min/Max Models Per Unit | C2: Points per Model | D2: Number Of Models | E2: Options | F2: Cost | G2: x | H2: Amount | I2: = | J2: Total Upgrade Price | K2: Comments
A3: Ghazghkull Thraka | B3: 1(Unique) | C3: 225 | E3: May be accompanied by:
A4: Wargear: | B4: Special Rules: | C4: Da Big Boss: | E4: Ammo Runt | F4: 3 | G4: x | I4: = | J4: =F4*H4 -> 0
A5: Cybork Body | B5: Independent Character | C5: Ghazghkull allows
A6: Bosspole | B6: Furious Charge | C6: one Meganobz or
A7: Mega-Armour | B7: Mob Rule | C7: Nobz mob to be
A8: Stikkbombs | B8: Prophet of the Waaagh! | C8: taken as a Troops
A9: Big shoota | C9: choice.
A10: Adamantium skull
A12: Unit Type: Infantry | I12: Total Unit Price = | K12: =C3*D3+J4 -> 0
A16: Unit Name | B16: Min/Max Models Per Unit | C16: Points per Model | D16: Number Of Models
A17: Mad Dok Grotsnik | B17: 1(Unique) | C17: 160
A18: Wargear: | B18: Special Rules: | C18: Da Big Dok:
A19: Power Klaw | B19: Independent Character | C19: Any unit in an army
A20: Slugga | B20: Furious Charge | C20: including Grotsnik may
A21: Urty syringe | B21: Fearless | C21: upgrade its members to
A22: Dok's tools | B22: Waaagh! | C22: have cybork bodies for
A23: Cybork body | B23: One Scalpel Short of a Medpack | C23: 5 points per model.
A24: Unit Type: Infantry | C24: Total Unit Price = | D24: =C17*D17 -> 0
A27: Unit Name | B27: Min/Max Models | C27: Points per Model | D27: Number Of Models
A28: Wazdakka Gutsmek | B28: 1(Unique) | C28: 180
A29: Wargear: | B29: Special Rules: | C29: Da Bike Boss:
A30: Bike of the Aporkalypse | B30: Independent Character | C30: Wazdakka allows
A31: Kustom mega-blasta | B31: Furious Charge | C31: Warbiker mobs to
A32: Power klaw | B32: Mob Rule | C32: be taken as Troop
A33: Slugga | B33: Waaagh! | C33: choices.
A34: Mek's tools
A35: Stikkbombs
A36: Bosspole
A37: Unit Type: Bike | C37: Total Unit Price = | D37: =C28*D28 -> 0
A40: Unit Name | B40: Min/Max Models | C40: Points per Model | D40: Number Of Models
A41: Old Zogwort | B41: 1(Unique) | C41: 145
A42: Wargear: | B42: Special Rules:
A43: Nest of Vipers | B43: Independent Character
B44: Furious Charge
B45: Mob Rule
B46: Waaagh!
B47: Psyker
B48: Warphead
B49: Zogworth's Curse
A50: Unit Type: Infantry | C50: Total Unit Price = | D50: =C41*D41 -> 0
A53: Unit Name | B53: Min/Max Models Per Unit | C53: Points per Model | D53: Number Of Models | E53: Options | F53: Cost | G53: x | H53: Amount | I53: = | J53: Total Upgrade Price | K53: Comments
A54: Warboss | B54: 1 | C54: 60 | E54: Replace choppa with one of the following:
A55: Wargear: | B55: Special Rules: | C55: Da Big Boss: | E55: Big Choppa | F55: 5 | G55: x | I55: = | J55: =F55*H55 -> 0
A56: Slugga or Shoota | B56: Independent Character | C56: A Warboss allows | E56: Power Klaw | F56: 25 | G56: x | I56: = | J56: =F56*H56 -> 0
A57: Choppa | B57: Furious Charge | C57: one Meganobz or | E57: Replace slugga with one of the following:
A58: Stikkbombz | B58: Mob Rule | C58: Nobz mob to be | E58: Shoota/Rokkit Kombi-Weapon | F58: 5 | G58: x | I58: = | J58: =F58*H58 -> 0
B59: Waaagh! | C59: taken as a Troops | E59: Shoota/Skorcha Kombi-Weapon | F59: 5 | G59: x | I59: = | J59: =F59*H59 -> 0
C60: choice. | E60: Twin-Linked Shoota | F60: 5 | G60: x | I60: = | J60: =F60*H60 -> 0
E61: Replace slugga and choppa for:
E62: Mega Armour | F62: 40 | G62: x | I62: = | J62: =F62*H62 -> 0
E63: May take any of the following:
E64: Warbike | F64: 40 | G64: x | I64: = | J64: =F64*H64 -> 0 | K64: Can't have Mega Armour
E65: Ammo Runt | F65: 3 | G65: x | I65: = | J65: =F65*H65 -> 0
E66: Attack Squig | F66: 15 | G66: x | I66: = | J66: =F66*H66 -> 0
E67: Cybork Body | F67: 10 | G67: x | I67: = | J67: =F67*H67 -> 0
E68: Bosspole | F68: 5 | G68: x | I68: = | J68: =F68*H68 -> 0
E69: Eavy Armour | F69: 5 | G69: x | I69: = | J69: =F69*H69 -> 0
A70: Unit Type: Infantry | H70: Total Unit Price = | J70: =C54*D54+SUM(J55:J69) -> 0
A73: Unit Name | B73: Min/Max Models Per Unit | C73: Points per Model | D73: Number Of Models | E73: Options | F73: Cost | G73: x | H73: Amount | I73: = | J73: Total Upgrade Price | K73: Comments
A74: Big Mek | B74: 1 | C74: 35 | E74: Replace choppa with one of the following:
A75: Wargear: | B75: Special Rules: | C75: Da Big Mek | E75: Burna | F75: 20 | G75: x | I75: = | J75: =F75*H75 -> 0
A76: Slugga or Shoota | B76: Independent Character | C76: A Big Mek allows | E76: Power Klaw | F76: 25 | G76: x | I76: = | J76: =F76*H76 -> 0
A77: Choppa | B77: Furious Charge | C77: one Deff Dread to be | E77: Replace slugga with one of the following:
A78: Mek's Tools | B78: Mob Rule | C78: taken as a Troops | E78: Shoota/Rokkit Kombi-Weapon | F78: 5 | G78: x | I78: = | J78: =F78*H78 -> 0
B79: Waaagh! | C79: choice. | E79: Shoota/Skorcha Kombi-Weapon | F79: 5 | G79: x | I79: = | J79: =F79*H79 -> 0
E80: Kustom Mega-Blasta | F80: 15 | G80: x | I80: = | J80: =F80*H80 -> 0
E81: Replace slugga with one of the following:
E82: Mega Armour | F82: 40 | G82: x | I82: = | J82: =F82*H82 -> 0
E83: Shokk Attack Gun | F83: 60 | G83: x | I83: = | J83: =F83*H83 -> 0
E84: Kustom Force Field | F84: 50 | G84: x | I84: = | J84: =F84*H84 -> 0
E85: Warbike | F85: 40 | G85: x | I85: = | J85: =F85*H85 -> 0
E86: May take any of the following:
E87: Ammo Runt | F87: 3 | G87: x | I87: = | J87: =F87*H87 -> 0
E88: Cybork Body | F88: 10 | G88: x | I88: = | J88: =F88*H88 -> 0
E89: Eavy Armour | F89: 5 | G89: x | I89: = | J89: =F89*H89 -> 0
E90: Bosspole | F90: 5 | G90: x | I90: = | J90: =F90*H90 -> 0
E91: Attack Squig | F91: 15 | G91: x | I91: = | J91: =F91*H91 -> 0
E92: May be accompanied by up to 3:
E93: Grot Oilers | F93: 5 | G93: x | I93: = | J93: =F93*H93 -> 0
A94: Unit Type: Infantry | H94: Total Unit Price = | J94: =C74*D74+SUM(J75:J91)+J93 -> 0
A97: Unit Name | B97: Min/Max Models Per Unit | C97: Points per Model | D97: Number Of Models | E97: Options | F97: Cost | G97: x | H97: Amount | I97: = | J97: Total Upgrade Price | K97: Comments
A98: Weirdboy | B98: 1 | C98: 55 | E98: Upgrade to:
A99: Special Rules: | E99: Warphead | F99: 30 | G99: x | I99: = | J99: =F99*H99 -> 0
A100: Independent Character
A101: Furious Charge
A102: Mob Rule
A103: Waaagh!
A104: Psyker
A105: Unit Type: Infantry | I105: Total Unit Price = | K105: =C98*D98+J99 -> 0

Sheet HQ (2)
A2: Unit Name | B2: Min/Max Models Per Unit | C2: Points per Model | D2: Number Of Models | E2: Options | F2: Cost | G2: x | H2: Amount | I2: = | J2: Total Upgrade Price | K2: Comments
A3: Ghazghkull Thraka | B3: 1(Unique) | C3: 225 | E3: May be accompanied by:
A4: Wargear: | B4: Special Rules: | C4: Da Big Boss: | E4: Ammo Runt | F4: 3 | G4: x | I4: = | J4: =F4*H4 -> 0
A5: Cybork Body | B5: Independent Character | C5: Ghazghkull allows
A6: Bosspole | B6: Furious Charge | C6: one Meganobz or
A7: Mega-Armour | B7: Mob Rule | C7: Nobz mob to be
A8: Stikkbombs | B8: Prophet of the Waaagh! | C8: taken as a Troops
A9: Big shoota | C9: choice.
A10: Adamantium skull
A12: Unit Type: Infantry | I12: Total Unit Price = | K12: =C3*D3+J4 -> 0
A16: Unit Name | B16: Min/Max Models Per Unit | C16: Points per Model | D16: Number Of Models
A17: Mad Dok Grotsnik | B17: 1(Unique) | C17: 160
A18: Wargear: | B18: Special Rules: | C18: Da Big Dok:
A19: Power Klaw | B19: Independent Character | C19: Any unit in an army
A20: Slugga | B20: Furious Charge | C20: including Grotsnik may
A21: Urty syringe | B21: Fearless | C21: upgrade its members to
A22: Dok's tools | B22: Waaagh! | C22: have cybork bodies for
A23: Cybork body | B23: One Scalpel Short of a Medpack | C23: 5 points per model.
A24: Unit Type: Infantry | C24: Total Unit Price = | D24: =C17*D17 -> 0
A27: Unit Name | B27: Min/Max Models | C27: Points per Model | D27: Number Of Models
A28: Wazdakka Gutsmek | B28: 1(Unique) | C28: 180
A29: Wargear: | B29: Special Rules: | C29: Da Bike Boss:
A30: Bike of the Aporkalypse | B30: Independent Character | C30: Wazdakka allows
A31: Kustom mega-blasta | B31: Furious Charge | C31: Warbiker mobs to
A32: Power klaw | B32: Mob Rule | C32: be taken as Troop
A33: Slugga | B33: Waaagh! | C33: choices.
A34: Mek's tools
A35: Stikkbombs
A36: Bosspole
A37: Unit Type: Bike | C37: Total Unit Price = | D37: =C28*D28 -> 0
A40: Unit Name | B40: Min/Max Models | C40: Points per Model | D40: Number Of Models
A41: Old Zogwort | B41: 1(Unique) | C41: 145
A42: Wargear: | B42: Special Rules:
A43: Nest of Vipers | B43: Independent Character
B44: Furious Charge
B45: Mob Rule
B46: Waaagh!
B47: Psyker
B48: Warphead
B49: Zogworth's Curse
A50: Unit Type: Infantry | C50: Total Unit Price = | D50: =C41*D41 -> 0
A53: Unit Name | B53: Min/Max Models Per Unit | C53: Points per Model | D53: Number Of Models | E53: Options | F53: Cost | G53: x | H53: Amount | I53: = | J53: Total Upgrade Price | K53: Comments
A54: Warboss | B54: 1 | C54: 60 | E54: Replace choppa with one of the following:
A55: Wargear: | B55: Special Rules: | C55: Da Big Boss: | E55: Big Choppa | F55: 5 | G55: x | I55: = | J55: =F55*H55 -> 0
A56: Slugga or Shoota | B56: Independent Character | C56: A Warboss allows | E56: Power Klaw | F56: 25 | G56: x | I56: = | J56: =F56*H56 -> 0
A57: Choppa | B57: Furious Charge | C57: one Meganobz or | E57: Replace slugga with one of the following:
A58: Stikkbombz | B58: Mob Rule | C58: Nobz mob to be | E58: Shoota/Rokkit Kombi-Weapon | F58: 5 | G58: x | I58: = | J58: =F58*H58 -> 0
B59: Waaagh! | C59: taken as a Troops | E59: Shoota/Skorcha Kombi-Weapon | F59: 5 | G59: x | I59: = | J59: =F59*H59 -> 0
C60: choice. | E60: Twin-Linked Shoota | F60: 5 | G60: x | I60: = | J60: =F60*H60 -> 0
E61: Replace slugga and choppa for:
E62: Mega Armour | F62: 40 | G62: x | I62: = | J62: =F62*H62 -> 0
E63: May take any of the following:
E64: Warbike | F64: 40 | G64: x | I64: = | J64: =F64*H64 -> 0 | K64: Can't have Mega Armour
E65: Ammo Runt | F65: 3 | G65: x | I65: = | J65: =F65*H65 -> 0
E66: Attack Squig | F66: 15 | G66: x | I66: = | J66: =F66*H66 -> 0
E67: Cybork Body | F67: 10 | G67: x | I67: = | J67: =F67*H67 -> 0
E68: Bosspole | F68: 5 | G68: x | I68: = | J68: =F68*H68 -> 0
E69: Eavy Armour | F69: 5 | G69: x | I69: = | J69: =F69*H69 -> 0
A70: Unit Type: Infantry | H70: Total Unit Price = | J70: =C54*D54+SUM(J55:J69) -> 0
A73: Unit Name | B73: Min/Max Models Per Unit | C73: Points per Model | D73: Number Of Models | E73: Options | F73: Cost | G73: x | H73: Amount | I73: = | J73: Total Upgrade Price | K73: Comments
A74: Big Mek | B74: 1 | C74: 35 | E74: Replace choppa with one of the following:
A75: Wargear: | B75: Special Rules: | C75: Da Big Mek | E75: Burna | F75: 20 | G75: x | I75: = | J75: =F75*H75 -> 0
A76: Slugga or Shoota | B76: Independent Character | C76: A Big Mek allows | E76: Power Klaw | F76: 25 | G76: x | I76: = | J76: =F76*H76 -> 0
A77: Choppa | B77: Furious Charge | C77: one Deff Dread to be | E77: Replace slugga with one of the following:
A78: Mek's Tools | B78: Mob Rule | C78: taken as a Troops | E78: Shoota/Rokkit Kombi-Weapon | F78: 5 | G78: x | I78: = | J78: =F78*H78 -> 0
B79: Waaagh! | C79: choice. | E79: Shoota/Skorcha Kombi-Weapon | F79: 5 | G79: x | I79: = | J79: =F79*H79 -> 0
E80: Kustom Mega-Blasta | F80: 15 | G80: x | I80: = | J80: =F80*H80 -> 0
E81: Replace slugga with one of the following:
E82: Mega Armour | F82: 40 | G82: x | I82: = | J82: =F82*H82 -> 0
E83: Shokk Attack Gun | F83: 60 | G83: x | I83: = | J83: =F83*H83 -> 0
E84: Kustom Force Field | F84: 50 | G84: x | I84: = | J84: =F84*H84 -> 0
E85: Warbike | F85: 40 | G85: x | I85: = | J85: =F85*H85 -> 0
E86: May take any of the following:
E87: Ammo Runt | F87: 3 | G87: x | I87: = | J87: =F87*H87 -> 0
E88: Cybork Body | F88: 10 | G88: x | I88: = | J88: =F88*H88 -> 0
E89: Eavy Armour | F89: 5 | G89: x | I89: = | J89: =F89*H89 -> 0
E90: Bosspole | F90: 5 | G90: x | I90: = | J90: =F90*H90 -> 0
E91: Attack Squig | F91: 15 | G91: x | I91: = | J91: =F91*H91 -> 0
E92: May be accompanied by up to 3:
E93: Grot Oilers | F93: 5 | G93: x | I93: = | J93: =F93*H93 -> 0
A94: Unit Type: Infantry | H94: Total Unit Price = | J94: =C74*D74+SUM(J75:J91)+J93 -> 0
A97: Unit Name | B97: Min/Max Models Per Unit | C97: Points per Model | D97: Number Of Models | E97: Options | F97: Cost | G97: x | H97: Amount | I97: = | J97: Total Upgrade Price | K97: Comments
A98: Weirdboy | B98: 1 | C98: 55 | E98: Upgrade to:
A99: Special Rules: | E99: Warphead | F99: 30 | G99: x | I99: = | J99: =F99*H99 -> 0
A100: Independent Character
A101: Furious Charge
A102: Mob Rule
A103: Waaagh!
A104: Psyker
A105: Unit Type: Infantry | I105: Total Unit Price = | K105: =C98*D98+J99 -> 0

Sheet Elites
A1: Unit Name | B1: Min/Max Models Per Unit | C1: Points per Model | D1: Number Of Models | E1: Options | F1: Cost | G1: x | H1: Amount | I1: = | J1: Total Upgrade Price | K1: Comments
A2: Nobz | B2: 3 to 10 | C2: 20 | E2: The entire mob may be upgraded to:
A3: Wargear: | B3: Special Rules: | C3: Transport: | E3: Nob Bikers | F3: 25 | G3: x | I3: = | J3: =F3*H3 -> 0
A4: Slugga | B4: Furious Charge | C4: Nob Mobz (except nob bikers) | E4: The entire mob may take:
A5: Choppa | B5: Mob Rule | C5: may take a Trukk as a dedicated | E5: Stikkbombz | F5: 1 | G5: x | I5: = | J5: =F5*H5 -> 0
A6: Nob Bikers are mounted | B6: Waaagh! | C6: transport vehicle. Alternatively | E6: Any Nob may replace his choppa with:
A7: on bikes | C7: they may take a battlewagon | E7: Big Choppa | F7: 5 | G7: x | I7: = | J7: =F7*H7 -> 0
A8: Painboy replaces slugga | C8: as a dedicated transport vehicle, | E8: Power Klaw | F8: 25 | G8: x | I8: = | J8: =F8*H8 -> 0
A9: and choppa with dok's | C9: thought it may not have the | E9: Any Nob may replace his slugga with:
A10: tools and 'urty syringe | C10: killkannon upgrade | E10: Twin-Linked Shoota | F10: 5 | G10: x | I10: = | J10: =F10*H10 -> 0
E11: Shoota-Rokkit Kombi-Weapon | F11: 5 | G11: x | I11: = | J11: =F11*H11 -> 0
E12: Shoota-Skorcha Kombi-Weapon | F12: 5 | G12: x | I12: = | J12: =F12*H12 -> 0
E13: Any Nob may take any of the following:
E14: Eavy Armour | F14: 5 | G14: x | I14: = | J14: =F14*H14 -> 0
E15: Bosspole | F15: 5 | G15: x | I15: = | J15: =F15*H15 -> 0
E16: Waaagh! Banner | F16: 15 | G16: x | I16: = | J16: =F16*H16 -> 0
E17: Ammo Runt | F17: 3 | G17: x | I17: = | J17: =F17*H17 -> 0
E18: One Nob may be a Painboy
E19: Painboy Upgrade | F19: 30 | G19: x | I19: = | J19: =F19*H19 -> 0
E20: Painboy, Orderly | F20: 5 | G20: x | I20: = | J20: =F20*H20 -> 0
E21: All models in the Painboy's unit may have
E22: Cybork bodies | F22: 5 | G22: x | I22: = | J22: =F22*H22 -> 0
A23: Unit Type: Infantry | H23: Total Unit Price = | J23: =C2*D2+SUM(J3:J22) -> 0
A26: Unit Name | B26: Min/Max Models Per Unit | C26: Points per Model | D26: Number Of Models | E26: Options | F26: Cost | G26: x | H26: Amount | I26: = | J26: Total Upgrade Price | K26: Comments
A27: Meganobz | B27: 3 to 10 | C27: 40 | E27: Any Meganob may replace the twin-linked shoota on his mega armour with one of the following:
A28: Wargear: | B28: Special Rules: | C28: Transport | E28: Kombi Shoota-Skorcha | F28: 5 | G28: x | I28: = | J28: =F28*H28 -> 0
A29: Mega armour | B29: Furious Charge | C29: Meganobz may take a Battlewagon | E29: Kombi Shoota-Rokkit Launcha | F29: 5 | G29: x | I29: = | J29: =F29*H29 -> 0
A30: Stikkbombz | B30: Mob Rule | C30: as a dedicated transport vehicle,
B31: Waaagh! | C31: though it may not have the
C32: killkannon upgrade. Alternatively
C33: a mob of 6 or fewer may take a
C34: trukk as a dedicated transport
C35: vehicle
A36: Unit Type: Infantry | H36: Total Unit Price = | J36: =C27*D27+SUM(J28:J30) -> 0
A39: Unit Name | B39: Min/Max Models Per Unit | C39: Points per Model | D39: Number Of Models | E39: Options | F39: Cost | G39: x | H39: Amount | I39: = | J39: Total Upgrade Price | K39: Comments
A40: Burna Boyz | B40: 5 to 15 | C40: 15 | E40: Up to three Burna Boyz may be upgraded to Meks
A41: Wargear: | B41: Special Rules: | E41: Mek Upgrade | F41: 0 | G41: x | I41: = | J41: =F41*H41 -> 0
A42: Burna Boyz: | B42: Furious Charge | E42: Any Mek may replace his kustom mega-blasta with:
A43: Burna | B43: Mob Rule | E43: slugga and choppa | F43: 0 | G43: x | I43: = | J43: =F43*H43 -> 0
A44: Mek: | B44: Waaagh! | E44: big shoota | F44: 0 | G44: x | I44: = | J44: =F44*H44 -> 0
A45: Mek's Tools | E45: rokkit launcha | F45: 5 | G45: x | I45: = | J45: =F45*H45 -> 0
A46: Kustom mega-blasta | E46: Any Mek may be accompanied by:
E47: Grot oiler | F47: 5 | G47: x | I47: = | J47: =F47*H47 -> 0
A48: Unit Type: Infantry | H48: Total Unit Price = | J48: =C40*D40+SUM(J41:J46) -> 0
A51: Unit Name | B51: Min/Max Models Per Unit | C51: Points per Model | D51: Number Of Models | E51: Options | F51: Cost | G51: x | H51: Amount | I51: = | J51: Total Upgrade Price | K51: Comments
A52: Tankbustas | B52: 5 to 15 | C52: 15 | E52: A Tankbusta Mob may include up to three:
A53: Wargear: | B53: Special Rules: | E53: Bomb-Squigs | F53: 5 | G53: x | I53: = | J53: =F53*H53 -> 0
A54: Rokkit Launcha | B54: Furious Charge | E54: Up to two Tankbustas may replace their rokkit launchas with:
A55: Tankbusta Bombz | B55: Mob Rule | E55: Tank Hammers | F55: 0 | G55: x | I55: = | J55: =F55*H55 -> 0
B56: Waaagh! | E56: One Tankbusta may be upgraded to a Nob:
B57: Glory Hogs | E57: Nob upgrade | F57: 10 | G57: x | I57: = | J57: =F57*H57 -> 0
E58: He may replace his rokkit launcha with:
E59: Power Klaw | F59: 15 | G59: x | I59: = | J59: =F59*H59 -> 0
E60: He may take any of the following:
E61: Eavy Armour | F61: 5 | G61: x | I61: = | J61: =F61*H61 -> 0
E62: Bosspole | F62: 5 | G62: x | I62: = | J62: =F62*H62 -> 0
A63: Unit Type: Infantry | H63: Total Unit Price = | J63: =C52*D52+SUM(J53:J62) -> 0
A66: Unit Name | B66: Min/Max Models Per Unit | C66: Points per Model | D66: Number Of Models | E66: Options | F66: Cost | G66: x | H66: Amount | I66: = | J66: Total Upgrade Price | K66: Comments
A67: Lootas | B67: 5 to 15 | C67: 15 | E67: Up to three Burna Boyz may be upgraded to Meks
A68: Wargear: | B68: Special Rules: | E68: Mek Upgrade | F68: 0 | G68: x | I68: = | J68: =F68*H68 -> 0
A69: Lootas: | B69: Furious Charge | E69: Any Mek may replace his kustom mega-blasta with:
A70: Deffgun | B70: Mob Rule | E70: slugga and choppa | F70: 0 | G70: x | I70: = | J70: =F70*H70 -> 0
A71: Mek: | B71: Waaagh! | E71: big shoota | F71: 0 | G71: x | I71: = | J71: =F71*H71 -> 0
A72: Mek's tools | E72: rokkit launcha | F72: 5 | G72: x | I72: = | J72: =F72*H72 -> 0
A73: Kustom mega-blasta | E73: Any Mek may be accompanied by:
E74: Grot oiler | F74: 5 | G74: x | I74: = | J74: =F74*H74 -> 0
A75: Unit Type: Infantry | H75: Total Unit Price = | J75: =C67*D67+SUM(J68:J74) -> 0
A78: Unit Name | B78: Min/Max Models Per Unit | C78: Points per Model | D78: Number Of Models | E78: Options | F78: Cost | G78: x | H78: Amount | I78: = | J78: Total Upgrade Price | K78: Comments
A79: Kommandos | B79: 5 to 15 | C79: 10 | E79: Up to two Kommandos may replace their sluggas and choppas with one of the following:
A80: Wargear: | B80: Special Rules: | E80: Big shoota | F80: 5 | G80: x | I80: = | J80: =F80*H80 -> 0
A81: Slugga | B81: Furious Charge | E81: Rokkit launcha | F81: 10 | G81: x | I81: = | J81: =F81*H81 -> 0
A82: Choppa | B82: Mob Rule | E82: Burna | F82: 15 | G82: x | I82: = | J82: =F82*H82 -> 0
A83: Stikkbombz | B83: Move Through Cover | E83: One Kommando may be upgraded to Nob:
B84: Infiltrate | E84: Nob Upgrade | F84: 10 | G84: x | I84: = | J84: =F84*H84 -> 0
B85: Waaagh! | E85: He may replace his choppa with one of the following:
E86: big choppa | F86: 5 | G86: x | I86: = | J86: =F86*H86 -> 0
E87: power klaw | F87: 25 | G87: x | I87: = | J87: =F87*H87 -> 0
E88: He may take any of the following: | I88: =
E89: eavy armour | F89: 5 | G89: x | I89: = | J89: =F89*H89 -> 0
E90: bosspole | F90: 5 | G90: x | I90: = | J90: =F90*H90 -> 0
E91: Instead of a Nob, one mob may be led by:
E92: Boss Snikrot | F92: 85 | G92: x | I92: = | J92: =F92*H92 -> 0
A93: Unit Type: | H93: Total Unit Price = | J93: =C79*D79+SUM(J80:J92) -> 0

Sheet Elites (2)
A1: Unit Name | B1: Min/Max Models Per Unit | C1: Points per Model | D1: Number Of Models | E1: Options | F1: Cost | G1: x | H1: Amount | I1: = | J1: Total Upgrade Price | K1: Comments
A2: Nobz | B2: 3 to 10 | C2: 20 | E2: The entire mob may be upgraded to:
A3: Wargear: | B3: Special Rules: | C3: Transport: | E3: Nob Bikers | F3: 25 | G3: x | I3: = | J3: =F3*H3 -> 0
A4: Slugga | B4: Furious Charge | C4: Nob Mobz (except nob bikers) | E4: The entire mob may take:
A5: Choppa | B5: Mob Rule | C5: may take a Trukk as a dedicated | E5: Stikkbombz | F5: 1 | G5: x | I5: = | J5: =F5*H5 -> 0
A6: Nob Bikers are mounted | B6: Waaagh! | C6: transport vehicle. Alternatively | E6: Any Nob may replace his choppa with:
A7: on bikes | C7: they may take a battlewagon | E7: Big Choppa | F7: 5 | G7: x | I7: = | J7: =F7*H7 -> 0
A8: Painboy replaces slugga | C8: as a dedicated transport vehicle, | E8: Power Klaw | F8: 25 | G8: x | I8: = | J8: =F8*H8 -> 0
A9: and choppa with dok's | C9: thought it may not have the | E9: Any Nob may replace his slugga with:
A10: tools and 'urty syringe | C10: killkannon upgrade | E10: Twin-Linked Shoota | F10: 5 | G10: x | I10: = | J10: =F10*H10 -> 0
E11: Shoota-Rokkit Kombi-Weapon | F11: 5 | G11: x | I11: = | J11: =F11*H11 -> 0
E12: Shoota-Skorcha Kombi-Weapon | F12: 5 | G12: x | I12: = | J12: =F12*H12 -> 0
E13: Any Nob may take any of the following:
E14: Eavy Armour | F14: 5 | G14: x | I14: = | J14: =F14*H14 -> 0
E15: Bosspole | F15: 5 | G15: x | I15: = | J15: =F15*H15 -> 0
E16: Waaagh! Banner | F16: 15 | G16: x | I16: = | J16: =F16*H16 -> 0
E17: Ammo Runt | F17: 3 | G17: x | I17: = | J17: =F17*H17 -> 0
E18: One Nob may be a Painboy
E19: Painboy Upgrade | F19: 30 | G19: x | I19: = | J19: =F19*H19 -> 0
E20: Painboy, Orderly | F20: 5 | G20: x | I20: = | J20: =F20*H20 -> 0
E21: All models in the Painboy's unit may have
E22: Cybork bodies | F22: 5 | G22: x | I22: = | J22: =F22*H22 -> 0
A23: Unit Type: Infantry | H23: Total Unit Price = | J23: =C2*D2+SUM(J3:J22) -> 0
A26: Unit Name | B26: Min/Max Models Per Unit | C26: Points per Model | D26: Number Of Models | E26: Options | F26: Cost | G26: x | H26: Amount | I26: = | J26: Total Upgrade Price | K26: Comments
A27: Meganobz | B27: 3 to 10 | C27: 40 | E27: Any Meganob may replace the twin-linked shoota on his mega armour with one of the following:
A28: Wargear: | B28: Special Rules: | C28: Transport | E28: Kombi Shoota-Skorcha | F28: 5 | G28: x | I28: = | J28: =F28*H28 -> 0
A29: Mega armour | B29: Furious Charge | C29: Meganobz may take a Battlewagon | E29: Kombi Shoota-Rokkit Launcha | F29: 5 | G29: x | I29: = | J29: =F29*H29 -> 0
A30: Stikkbombz | B30: Mob Rule | C30: as a dedicated transport vehicle,
B31: Waaagh! | C31: though it may not have the
C32: killkannon upgrade. Alternatively
C33: a mob of 6 or fewer may take a
C34: trukk as a dedicated transport
C35: vehicle
A36: Unit Type: Infantry | H36: Total Unit Price = | J36: =C27*D27+SUM(J28:J30) -> 0
A39: Unit Name | B39: Min/Max Models Per Unit | C39: Points per Model | D39: Number Of Models | E39: Options | F39: Cost | G39: x | H39: Amount | I39: = | J39: Total Upgrade Price | K39: Comments
A40: Burna Boyz | B40: 5 to 15 | C40: 15 | E40: Up to three Burna Boyz may be upgraded to Meks
A41: Wargear: | B41: Special Rules: | E41: Mek Upgrade | F41: 0 | G41: x | I41: = | J41: =F41*H41 -> 0
A42: Burna Boyz: | B42: Furious Charge | E42: Any Mek may replace his kustom mega-blasta with:
A43: Burna | B43: Mob Rule | E43: slugga and choppa | F43: 0 | G43: x | I43: = | J43: =F43*H43 -> 0
A44: Mek: | B44: Waaagh! | E44: big shoota | F44: 0 | G44: x | I44: = | J44: =F44*H44 -> 0
A45: Mek's Tools | E45: rokkit launcha | F45: 5 | G45: x | I45: = | J45: =F45*H45 -> 0
A46: Kustom mega-blasta | E46: Any Mek may be accompanied by:
E47: Grot oiler | F47: 5 | G47: x | I47: = | J47: =F47*H47 -> 0
A48: Unit Type: Infantry | H48: Total Unit Price = | J48: =C40*D40+SUM(J41:J46) -> 0
A51: Unit Name | B51: Min/Max Models Per Unit | C51: Points per Model | D51: Number Of Models | E51: Options | F51: Cost | G51: x | H51: Amount | I51: = | J51: Total Upgrade Price | K51: Comments
A52: Tankbustas | B52: 5 to 15 | C52: 15 | E52: A Tankbusta Mob may include up to three:
A53: Wargear: | B53: Special Rules: | E53: Bomb-Squigs | F53: 5 | G53: x | I53: = | J53: =F53*H53 -> 0
A54: Rokkit Launcha | B54: Furious Charge | E54: Up to two Tankbustas may replace their rokkit launchas with:
A55: Tankbusta Bombz | B55: Mob Rule | E55: Tank Hammers | F55: 0 | G55: x | I55: = | J55: =F55*H55 -> 0
B56: Waaagh! | E56: One Tankbusta may be upgraded to a Nob:
B57: Glory Hogs | E57: Nob upgrade | F57: 10 | G57: x | I57: = | J57: =F57*H57 -> 0
E58: He may replace his rokkit launcha with:
E59: Power Klaw | F59: 15 | G59: x | I59: = | J59: =F59*H59 -> 0
E60: He may take any of the following:
E61: Eavy Armour | F61: 5 | G61: x | I61: = | J61: =F61*H61 -> 0
E62: Bosspole | F62: 5 | G62: x | I62: = | J62: =F62*H62 -> 0
A63: Unit Type: Infantry | H63: Total Unit Price = | J63: =C52*D52+SUM(J53:J62) -> 0
A66: Unit Name | B66: Min/Max Models Per Unit | C66: Points per Model | D66: Number Of Models | E66: Options | F66: Cost | G66: x | H66: Amount | I66: = | J66: Total Upgrade Price | K66: Comments
A67: Lootas | B67: 5 to 15 | C67: 15 | E67: Up to three Burna Boyz may be upgraded to Meks
A68: Wargear: | B68: Special Rules: | E68: Mek Upgrade | F68: 0 | G68: x | I68: = | J68: =F68*H68 -> 0
A69: Lootas: | B69: Furious Charge | E69: Any Mek may replace his kustom mega-blasta with:
A70: Deffgun | B70: Mob Rule | E70: slugga and choppa | F70: 0 | G70: x | I70: = | J70: =F70*H70 -> 0
A71: Mek: | B71: Waaagh! | E71: big shoota | F71: 0 | G71: x | I71: = | J71: =F71*H71 -> 0
A72: Mek's tools | E72: rokkit launcha | F72: 5 | G72: x | I72: = | J72: =F72*H72 -> 0
A73: Kustom mega-blasta | E73: Any Mek may be accompanied by:
E74: Grot oiler | F74: 5 | G74: x | I74: = | J74: =F74*H74 -> 0
A75: Unit Type: Infantry | H75: Total Unit Price = | J75: =C67*D67+SUM(J68:J74) -> 0
A78: Unit Name | B78: Min/Max Models Per Unit | C78: Points per Model | D78: Number Of Models | E78: Options | F78: Cost | G78: x | H78: Amount | I78: = | J78: Total Upgrade Price | K78: Comments
A79: Kommandos | B79: 5 to 15 | C79: 10 | E79: Up to two Kommandos may replace their sluggas and choppas with one of the following:
A80: Wargear: | B80: Special Rules: | E80: Big shoota | F80: 5 | G80: x | I80: = | J80: =F80*H80 -> 0
A81: Slugga | B81: Furious Charge | E81: Rokkit launcha | F81: 10 | G81: x | I81: = | J81: =F81*H81 -> 0
A82: Choppa | B82: Mob Rule | E82: Burna | F82: 15 | G82: x | I82: = | J82: =F82*H82 -> 0
A83: Stikkbombz | B83: Move Through Cover | E83: One Kommando may be upgraded to Nob:
B84: Infiltrate | E84: Nob Upgrade | F84: 10 | G84: x | I84: = | J84: =F84*H84 -> 0
B85: Waaagh! | E85: He may replace his choppa with one of the following:
E86: big choppa | F86: 5 | G86: x | I86: = | J86: =F86*H86 -> 0
E87: power klaw | F87: 25 | G87: x | I87: = | J87: =F87*H87 -> 0
E88: He may take any of the following: | I88: =
E89: eavy armour | F89: 5 | G89: x | I89: = | J89: =F89*H89 -> 0
E90: bosspole | F90: 5 | G90: x | I90: = | J90: =F90*H90 -> 0
E91: Instead of a Nob, one mob may be led by:
E92: Boss Snikrot | F92: 85 | G92: x | I92: = | J92: =F92*H92 -> 0
A93: Unit Type: | H93: Total Unit Price = | J93: =C79*D79+SUM(J80:J92) -> 0

Sheet Elites (3)
A1: Unit Name | B1: Min/Max Models Per Unit | C1: Points per Model | D1: Number Of Models | E1: Options | F1: Cost | G1: x | H1: Amount | I1: = | J1: Total Upgrade Price | K1: Comments
A2: Nobz | B2: 3 to 10 | C2: 20 | E2: The entire mob may be upgraded to:
A3: Wargear: | B3: Special Rules: | C3: Transport: | E3: Nob Bikers | F3: 25 | G3: x | I3: = | J3: =F3*H3 -> 0
A4: Slugga | B4: Furious Charge | C4: Nob Mobz (except nob bikers) | E4: The entire mob may take:
A5: Choppa | B5: Mob Rule | C5: may take a Trukk as a dedicated | E5: Stikkbombz | F5: 1 | G5: x | I5: = | J5: =F5*H5 -> 0
A6: Nob Bikers are mounted | B6: Waaagh! | C6: transport vehicle. Alternatively | E6: Any Nob may replace his choppa with:
A7: on bikes | C7: they may take a battlewagon | E7: Big Choppa | F7: 5 | G7: x | I7: = | J7: =F7*H7 -> 0
A8: Painboy replaces slugga | C8: as a dedicated transport vehicle, | E8: Power Klaw | F8: 25 | G8: x | I8: = | J8: =F8*H8 -> 0
A9: and choppa with dok's | C9: thought it may not have the | E9: Any Nob may replace his slugga with:
A10: tools and 'urty syringe | C10: killkannon upgrade | E10: Twin-Linked Shoota | F10: 5 | G10: x | I10: = | J10: =F10*H10 -> 0
E11: Shoota-Rokkit Kombi-Weapon | F11: 5 | G11: x | I11: = | J11: =F11*H11 -> 0
E12: Shoota-Skorcha Kombi-Weapon | F12: 5 | G12: x | I12: = | J12: =F12*H12 -> 0
E13: Any Nob may take any of the following:
E14: Eavy Armour | F14: 5 | G14: x | I14: = | J14: =F14*H14 -> 0
E15: Bosspole | F15: 5 | G15: x | I15: = | J15: =F15*H15 -> 0
E16: Waaagh! Banner | F16: 15 | G16: x | I16: = | J16: =F16*H16 -> 0
E17: Ammo Runt | F17: 3 | G17: x | I17: = | J17: =F17*H17 -> 0
E18: One Nob may be a Painboy
E19: Painboy Upgrade | F19: 30 | G19: x | I19: = | J19: =F19*H19 -> 0
E20: Painboy, Orderly | F20: 5 | G20: x | I20: = | J20: =F20*H20 -> 0
E21: All models in the Painboy's unit may have
E22: Cybork bodies | F22: 5 | G22: x | I22: = | J22: =F22*H22 -> 0
A23: Unit Type: Infantry | H23: Total Unit Price = | J23: =C2*D2+SUM(J3:J22) -> 0
A26: Unit Name | B26: Min/Max Models Per Unit | C26: Points per Model | D26: Number Of Models | E26: Options | F26: Cost | G26: x | H26: Amount | I26: = | J26: Total Upgrade Price | K26: Comments
A27: Meganobz | B27: 3 to 10 | C27: 40 | E27: Any Meganob may replace the twin-linked shoota on his mega armour with one of the following:
A28: Wargear: | B28: Special Rules: | C28: Transport | E28: Kombi Shoota-Skorcha | F28: 5 | G28: x | I28: = | J28: =F28*H28 -> 0
A29: Mega armour | B29: Furious Charge | C29: Meganobz may take a Battlewagon | E29: Kombi Shoota-Rokkit Launcha | F29: 5 | G29: x | I29: = | J29: =F29*H29 -> 0
A30: Stikkbombz | B30: Mob Rule | C30: as a dedicated transport vehicle,
B31: Waaagh! | C31: though it may not have the
C32: killkannon upgrade. Alternatively
C33: a mob of 6 or fewer may take a
C34: trukk as a dedicated transport
C35: vehicle
A36: Unit Type: Infantry | H36: Total Unit Price = | J36: =C27*D27+SUM(J28:J30) -> 0
A39: Unit Name | B39: Min/Max Models Per Unit | C39: Points per Model | D39: Number Of Models | E39: Options | F39: Cost | G39: x | H39: Amount | I39: = | J39: Total Upgrade Price | K39: Comments
A40: Burna Boyz | B40: 5 to 15 | C40: 15 | E40: Up to three Burna Boyz may be upgraded to Meks
A41: Wargear: | B41: Special Rules: | E41: Mek Upgrade | F41: 0 | G41: x | I41: = | J41: =F41*H41 -> 0
A42: Burna Boyz: | B42: Furious Charge | E42: Any Mek may replace his kustom mega-blasta with:
A43: Burna | B43: Mob Rule | E43: slugga and choppa | F43: 0 | G43: x | I43: = | J43: =F43*H43 -> 0
A44: Mek: | B44: Waaagh! | E44: big shoota | F44: 0 | G44: x | I44: = | J44: =F44*H44 -> 0
A45: Mek's Tools | E45: rokkit launcha | F45: 5 | G45: x | I45: = | J45: =F45*H45 -> 0
A46: Kustom mega-blasta | E46: Any Mek may be accompanied by:
E47: Grot oiler | F47: 5 | G47: x | I47: = | J47: =F47*H47 -> 0
A48: Unit Type: Infantry | H48: Total Unit Price = | J48: =C40*D40+SUM(J41:J46) -> 0
A51: Unit Name | B51: Min/Max Models Per Unit | C51: Points per Model | D51: Number Of Models | E51: Options | F51: Cost | G51: x | H51: Amount | I51: = | J51: Total Upgrade Price | K51: Comments
A52: Tankbustas | B52: 5 to 15 | C52: 15 | E52: A Tankbusta Mob may include up to three:
A53: Wargear: | B53: Special Rules: | E53: Bomb-Squigs | F53: 5 | G53: x | I53: = | J53: =F53*H53 -> 0
A54: Rokkit Launcha | B54: Furious Charge | E54: Up to two Tankbustas may replace their rokkit launchas with:
A55: Tankbusta Bombz | B55: Mob Rule | E55: Tank Hammers | F55: 0 | G55: x | I55: = | J55: =F55*H55 -> 0
B56: Waaagh! | E56: One Tankbusta may be upgraded to a Nob:
B57: Glory Hogs | E57: Nob upgrade | F57: 10 | G57: x | I57: = | J57: =F57*H57 -> 0
E58: He may replace his rokkit launcha with:
E59: Power Klaw | F59: 15 | G59: x | I59: = | J59: =F59*H59 -> 0
E60: He may take any of the following:
E61: Eavy Armour | F61: 5 | G61: x | I61: = | J61: =F61*H61 -> 0
E62: Bosspole | F62: 5 | G62: x | I62: = | J62: =F62*H62 -> 0
A63: Unit Type: Infantry | H63: Total Unit Price = | J63: =C52*D52+SUM(J53:J62) -> 0
A66: Unit Name | B66: Min/Max Models Per Unit | C66: Points per Model | D66: Number Of Models | E66: Options | F66: Cost | G66: x | H66: Amount | I66: = | J66: Total Upgrade Price | K66: Comments
A67: Lootas | B67: 5 to 15 | C67: 15 | E67: Up to three Burna Boyz may be upgraded to Meks
A68: Wargear: | B68: Special Rules: | E68: Mek Upgrade | F68: 0 | G68: x | I68: = | J68: =F68*H68 -> 0
A69: Lootas: | B69: Furious Charge | E69: Any Mek may replace his kustom mega-blasta with:
A70: Deffgun | B70: Mob Rule | E70: slugga and choppa | F70: 0 | G70: x | I70: = | J70: =F70*H70 -> 0
A71: Mek: | B71: Waaagh! | E71: big shoota | F71: 0 | G71: x | I71: = | J71: =F71*H71 -> 0
A72: Mek's tools | E72: rokkit launcha | F72: 5 | G72: x | I72: = | J72: =F72*H72 -> 0
A73: Kustom mega-blasta | E73: Any Mek may be accompanied by:
E74: Grot oiler | F74: 5 | G74: x | I74: = | J74: =F74*H74 -> 0
A75: Unit Type: Infantry | H75: Total Unit Price = | J75: =C67*D67+SUM(J68:J74) -> 0
A78: Unit Name | B78: Min/Max Models Per Unit | C78: Points per Model | D78: Number Of Models | E78: Options | F78: Cost | G78: x | H78: Amount | I78: = | J78: Total Upgrade Price | K78: Comments
A79: Kommandos | B79: 5 to 15 | C79: 10 | E79: Up to two Kommandos may replace their sluggas and choppas with one of the following:
A80: Wargear: | B80: Special Rules: | E80: Big shoota | F80: 5 | G80: x | I80: = | J80: =F80*H80 -> 0
A81: Slugga | B81: Furious Charge | E81: Rokkit launcha | F81: 10 | G81: x | I81: = | J81: =F81*H81 -> 0
A82: Choppa | B82: Mob Rule | E82: Burna | F82: 15 | G82: x | I82: = | J82: =F82*H82 -> 0
A83: Stikkbombz | B83: Move Through Cover | E83: One Kommando may be upgraded to Nob:
B84: Infiltrate | E84: Nob Upgrade | F84: 10 | G84: x | I84: = | J84: =F84*H84 -> 0
B85: Waaagh! | E85: He may replace his choppa with one of the following:
E86: big choppa | F86: 5 | G86: x | I86: = | J86: =F86*H86 -> 0
E87: power klaw | F87: 25 | G87: x | I87: = | J87: =F87*H87 -> 0
E88: He may take any of the following: | I88: =
E89: eavy armour | F89: 5 | G89: x | I89: = | J89: =F89*H89 -> 0
E90: bosspole | F90: 5 | G90: x | I90: = | J90: =F90*H90 -> 0
E91: Instead of a Nob, one mob may be led by:
E92: Boss Snikrot | F92: 85 | G92: x | I92: = | J92: =F92*H92 -> 0
A93: Unit Type: | H93: Total Unit Price = | J93: =C79*D79+SUM(J80:J92) -> 0

Sheet Troops
A1: Unit Name | B1: Min/Max Models Per Unit | C1: Points per Model | D1: Number Of Models | E1: Options | F1: Cost | G1: x | H1: Amount | I1: = | J1: Total Upgrade Price | K1: Comments
A2: Ork Boyz | B2: 10 to 30 | C2: 6 | E2: The entire mob may take:
A3: Wargear: | B3: Special Rules: | C3: Transport: | E3: Stikkbombs | F3: 1 | G3: x | I3: = | J3: =F3*H3 -> 0
A4: Slugga | B4: Furious Charge | C4: Mobs of 12 or | E4: The entire mob may replace their sluggas and choppas with shootas
A5: Choppa | B5: Mob Rule | C5: fewer may take | E5: Shootas | F5: 0 | G5: x | I5: = | J5: =F5*H5 -> 0
A6: Ard boyz wear | B6: Waaagh! | C6: a Trukk as a | E6: For every ten Orks in the mob, one Ork may exchange his slugga or shoota for:
A7: eavy armour | C7: dedicated | E7: Big Shoota | F7: 5 | G7: x | I7: = | J7: =F7*H7 -> 0
C8: trasport vehicle | E8: Rokkit Launcha | F8: 10 | G8: x | I8: = | J8: =F8*H8 -> 0
E9: One mob per army may be upgraded to
E10: Ard Boyz | F10: 4 | G10: x | I10: = | J10: =F10*H10 -> 0
E11: One Boy may be upgraded to Nob
E12: Nob Upgrade | F12: 10 | G12: x | I12: = | J12: =F12*H12 -> 0
E13: He may replace his choppa with one of the following:
E14: Nob, Big Choppa | F14: 5 | G14: x | I14: = | J14: =F14*H14 -> 0
E15: Nob, Power Klaw | F15: 25 | G15: x | I15: = | J15: =F15*H15 -> 0
E16: He may take any of the following:
E17: Nob, 'Eavy Armour | F17: 5 | G17: x | I17: = | J17: =F17*H17 -> 0 | K17: If not an 'Ard Boy Nob
E18: Nob, Bosspole | F18: 5 | G18: x | I18: = | J18: =F18*H18 -> 0
A19: Unit Type: Infantry | H19: Total Unit Price = | J19: =C2*D2+SUM(J3:J18) -> 0
A22: Unit Name | B22: Min/Max Models Per Unit | C22: Points per Model | D22: Number Of Models | E22: Options | F22: Cost | G22: x | H22: Amount | I22: = | J22: Total Upgrade Price | K22: Comments
A23: Gretchin | B23: 10-30 + 1-3 Runtherds | C23: 3 | E23: For every 10 Gretchin you must take one:
A24: Wargear: | B24: Special Rules: | E24: Runtherd | F24: 10 | G24: x | I24: = | J24: =F24*H24 -> 0
A25: Grechin: | B25: Gretchin: | C25: Runtherds: | E25: Runtherds may replace their grabba stikks with:
A26: Blasta | B26: It's a Grot's Life | C26: Furious Charge | E26: Grot-Prods | F26: 5 | G26: x | I26: = | J26: =F26*H26 -> 0
A27: Runtherds: | C27: Mob Rule
A28: Grabba Stikk | C28: Waaagh!
A29: Slugga
A30: Squig hound
A33: Unit Type: Infantry | H33: Total Unit Price = | J33: =C23*D23+SUM(J24:J32) -> 0
A36: If you are allowed to take Nobz or Meganobz as Troop choice ONLY!
A39: Unit Name | B39: Min/Max Models Per Unit | C39: Points per Model | D39: Number Of Models | E39: Options | F39: Cost | G39: x | H39: Amount | I39: = | J39: Total Upgrade Price | K39: Comments
A40: Nobz | B40: 3 to 10 | C40: 20 | E40: The entire mob may be upgraded to:
A41: Wargear: | B41: Special Rules: | C41: Transport: | E41: Nob Bikers | F41: 25 | G41: x | I41: = | J41: =F41*H41 -> 0
A42: Slugga | B42: Furious Charge | C42: Nob Mobz (except nob bikers) | E42: The entire mob may take:
A43: Choppa | B43: Mob Rule | C43: may take a Trukk as a dedicated | E43: Stikkbombz | F43: 1 | G43: x | I43: = | J43: =F43*H43 -> 0
A44: Nob Bikers are mounted | B44: Waaagh! | C44: transport vehicle. Alternatively | E44: Any Nob may replace his choppa with:
A45: on bikes | C45: they may take a battlewagon | E45: Big Choppa | F45: 5 | G45: x | I45: = | J45: =F45*H45 -> 0
A46: Painboy replaces slugga | C46: as a dedicated transport vehicle, | E46: Power Klaw | F46: 25 | G46: x | I46: = | J46: =F46*H46 -> 0
A47: and choppa with dok's | C47: thought it may not have the | E47: Any Nob may replace his slugga with:
A48: tools and 'urty syringe | C48: killkannon upgrade | E48: Twin-Linked Shoota | F48: 5 | G48: x | I48: = | J48: =F48*H48 -> 0
E49: Shoota-Rokkit Kombi-Weapon | F49: 5 | G49: x | I49: = | J49: =F49*H49 -> 0
E50: Shoota-Skorcha Kombi-Weapon | F50: 5 | G50: x | I50: = | J50: =F50*H50 -> 0
E51: Any Nob may take any of the following:
E52: Eavy Armour | F52: 5 | G52: x | I52: = | J52: =F52*H52 -> 0
E53: Bosspole | F53: 5 | G53: x | I53: = | J53: =F53*H53 -> 0
E54: Waaagh! Banner | F54: 15 | G54: x | I54: = | J54: =F54*H54 -> 0
E55: Ammo Runt | F55: 3 | G55: x | I55: = | J55: =F55*H55 -> 0
E56: One Nob may be a Painboy
E57: Painboy Upgrade | F57: 30 | G57: x | I57: = | J57: =F57*H57 -> 0
E58: Painboy, Orderly | F58: 5 | G58: x | I58: = | J58: =F58*H58 -> 0
E59: All models in the Painboy's unit may have
E60: Cybork bodies | F60: 5 | G60: x | I60: = | J60: =F60*H60 -> 0
A61: Unit Type: Infantry | H61: Total Unit Price = | J61: =C40*D40+SUM(J41:J60) -> 0
A64: Unit Name | B64: Min/Max Models Per Unit | C64: Points per Model | D64: Number Of Models | E64: Options | F64: Cost | G64: x | H64: Amount | I64: = | J64: Total Upgrade Price | K64: Comments
A65: Meganobz | B65: 3 to 10 | C65: 40 | E65: Any Meganob may replace the twin-linked shoota on his mega armour with one of the following:
A66: Wargear: | B66: Special Rules: | C66: Transport | E66: Kombi Shoota-Skorcha | F66: 5 | G66: x | I66: = | J66: =F66*H66 -> 0
A67: Mega armour | B67: Furious Charge | C67: Meganobz may take a Battlewagon | E67: Kombi Shoota-Rokkit Launcha | F67: 5 | G67: x | I67: = | J67: =F67*H67 -> 0
A68: Stikkbombz | B68: Mob Rule | C68: as a dedicated transport vehicle,
B69: Waaagh! | C69: though it may not have the
C70: killkannon upgrade. Alternatively
C71: a mob of 6 or fewer may take a
C72: trukk as a dedicated transport
C73: vehicle
A74: Unit Type: Infantry | H74: Total Unit Price = | J74: =C65*D65+SUM(J66:J68) -> 0
A77: If you are allowed to take Deff Dreads as Troop choice ONLY!
A80: Unit Name | B80: Min/Max Models Per Unit | C80: Points per Model | D80: Number Of Models | E80: Options | F80: Cost | G80: x | H80: Amount | I80: = | J80: Total Upgrade Price | K80: Comments
A81: Deff Dread | B81: 1 | C81: 75 | E81: The Deff Dread must take two of the following:
A82: Wargear: | E82: Big Shoota | F82: 5 | G82: x | I82: = | J82: =F82*H82 -> 0
A83: Two Dreadnought close combat weapons (each additional gives +1 attack) | E83: Rokkit Launcha | F83: 10 | G83: x | I83: = | J83: =F83*H83 -> 0
E84: Kustom Mega-Blasta | F84: 15 | G84: x | I84: = | J84: =F84*H84 -> 0
E85: Skorcha | F85: 5 | G85: x | I85: = | J85: =F85*H85 -> 0
E86: Dreadnought Close Combat Weapon | F86: 15 | G86: x | I86: = | J86: =F86*H86 -> 0
E87: May take any of the following:
E88: Grot Riggers | F88: 5 | G88: x | I88: = | J88: =F88*H88 -> 0
E89: Armour Plates | F89: 10 | G89: x | I89: = | J89: =F89*H89 -> 0
A90: Unit Type: Walker | H90: Total Unit Price = | J90: =C81*D81+SUM(J82:J89) -> 0
A93: If you are allowed to take Warbiker Mobs as Troop choice ONLY!
A96: Unit Name | B96: Min/Max Models Per Unit | C96: Points per Model | D96: Number Of Models | E96: Options | F96: Cost | G96: x | H96: Amount | I96: = | J96: Total Upgrade Price | K96: Comments
A97: Warbikers | B97: 3 to 12 | C97: 25 | E97: One Warbiker can be upgraded to a Nob
A98: Wargear: | B98: Special Rules: | E98: Nob Upgrade | F98: 10 | G98: x | I98: = | J98: =F98*H98 -> 0
A99: Choppa | B99: Furious Charge | E99: He may replace his choppa with one of the following:
A100: Warbike | B100: Mob Rule | E100: Big Choppa | F100: 5 | G100: x | I100: = | J100: =F100*H100 -> 0
A101: Slugga | B101: Exhaust Cloud | E101: Power Klaw | F101: 25 | G101: x | I101: = | J101: =F101*H101 -> 0
A102: Dakkagun | E102: He may take any of the following:
E103: Boss Pole | F103: 5 | G103: x | I103: = | J103: =F103*H103 -> 0
A106: Unit Type: Bikes | H106: Total Unit Price = | J106: =C97*D97+SUM(J98:J103) -> 0

Sheet Troops (2)
A1: Unit Name | B1: Min/Max Models Per Unit | C1: Points per Model | D1: Number Of Models | E1: Options | F1: Cost | G1: x | H1: Amount | I1: = | J1: Total Upgrade Price | K1: Comments
A2: Ork Boyz | B2: 10 to 30 | C2: 6 | E2: The entire mob may take:
A3: Wargear: | B3: Special Rules: | C3: Transport: | E3: Stikkbombs | F3: 1 | G3: x | I3: = | J3: =F3*H3 -> 0
A4: Slugga | B4: Furious Charge | C4: Mobs of 12 or | E4: The entire mob may replace their sluggas and choppas with shootas
A5: Choppa | B5: Mob Rule | C5: fewer may take | E5: Shootas | F5: 0 | G5: x | I5: = | J5: =F5*H5 -> 0
A6: Ard boyz wear | B6: Waaagh! | C6: a Trukk as a | E6: For every ten Orks in the mob, one Ork may exchange his slugga or shoota for:
A7: eavy armour | C7: dedicated | E7: Big Shoota | F7: 5 | G7: x | I7: = | J7: =F7*H7 -> 0
C8: trasport vehicle | E8: Rokkit Launcha | F8: 10 | G8: x | I8: = | J8: =F8*H8 -> 0
E9: One mob per army may be upgraded to
E10: Ard Boyz | F10: 4 | G10: x | I10: = | J10: =F10*H10 -> 0
E11: One Boy may be upgraded to Nob
E12: Nob Upgrade | F12: 10 | G12: x | I12: = | J12: =F12*H12 -> 0
E13: He may replace his choppa with one of the following:
E14: Nob, Big Choppa | F14: 5 | G14: x | I14: = | J14: =F14*H14 -> 0
E15: Nob, Power Klaw | F15: 25 | G15: x | I15: = | J15: =F15*H15 -> 0
E16: He may take any of the following:
E17: Nob, 'Eavy Armour | F17: 5 | G17: x | I17: = | J17: =F17*H17 -> 0 | K17: If not an 'Ard Boy Nob
E18: Nob, Bosspole | F18: 5 | G18: x | I18: = | J18: =F18*H18 -> 0
A19: Unit Type: Infantry | H19: Total Unit Price = | J19: =C2*D2+SUM(J3:J18) -> 0
A22: Unit Name | B22: Min/Max Models Per Unit | C22: Points per Model | D22: Number Of Models | E22: Options | F22: Cost | G22: x | H22: Amount | I22: = | J22: Total Upgrade Price | K22: Comments
A23: Gretchin | B23: 10-30 + 1-3 Runtherds | C23: 3 | E23: For every 10 Gretchin you must take one:
A24: Wargear: | B24: Special Rules: | E24: Runtherd | F24: 10 | G24: x | I24: = | J24: =F24*H24 -> 0
A25: Grechin: | B25: Gretchin: | C25: Runtherds: | E25: Runtherds may replace their grabba stikks with:
A26: Blasta | B26: It's a Grot's Life | C26: Furious Charge | E26: Grot-Prods | F26: 5 | G26: x | I26: = | J26: =F26*H26 -> 0
A27: Runtherds: | C27: Mob Rule
A28: Grabba Stikk | C28: Waaagh!
A29: Slugga
A30: Squig hound
A33: Unit Type: Infantry | H33: Total Unit Price = | J33: =C23*D23+SUM(J24:J32) -> 0
A36: If you are allowed to take Nobz or Meganobz as Troop choice ONLY!
A39: Unit Name | B39: Min/Max Models Per Unit | C39: Points per Model | D39: Number Of Models | E39: Options | F39: Cost | G39: x | H39: Amount | I39: = | J39: Total Upgrade Price | K39: Comments
A40: Nobz | B40: 3 to 10 | C40: 20 | E40: The entire mob may be upgraded to:
A41: Wargear: | B41: Special Rules: | C41: Transport: | E41: Nob Bikers | F41: 25 | G41: x | I41: = | J41: =F41*H41 -> 0
A42: Slugga | B42: Furious Charge | C42: Nob Mobz (except nob bikers) | E42: The entire mob may take:
A43: Choppa | B43: Mob Rule | C43: may take a Trukk as a dedicated | E43: Stikkbombz | F43: 1 | G43: x | I43: = | J43: =F43*H43 -> 0
A44: Nob Bikers are mounted | B44: Waaagh! | C44: transport vehicle. Alternatively | E44: Any Nob may replace his choppa with:
A45: on bikes | C45: they may take a battlewagon | E45: Big Choppa | F45: 5 | G45: x | I45: = | J45: =F45*H45 -> 0
A46: Painboy replaces slugga | C46: as a dedicated transport vehicle, | E46: Power Klaw | F46: 25 | G46: x | I46: = | J46: =F46*H46 -> 0
A47: and choppa with dok's | C47: thought it may not have the | E47: Any Nob may replace his slugga with:
A48: tools and 'urty syringe | C48: killkannon upgrade | E48: Twin-Linked Shoota | F48: 5 | G48: x | I48: = | J48: =F48*H48 -> 0
E49: Shoota-Rokkit Kombi-Weapon | F49: 5 | G49: x | I49: = | J49: =F49*H49 -> 0
E50: Shoota-Skorcha Kombi-Weapon | F50: 5 | G50: x | I50: = | J50: =F50*H50 -> 0
E51: Any Nob may take any of the following:
E52: Eavy Armour | F52: 5 | G52: x | I52: = | J52: =F52*H52 -> 0
E53: Bosspole | F53: 5 | G53: x | I53: = | J53: =F53*H53 -> 0
E54: Waaagh! Banner | F54: 15 | G54: x | I54: = | J54: =F54*H54 -> 0
E55: Ammo Runt | F55: 3 | G55: x | I55: = | J55: =F55*H55 -> 0
E56: One Nob may be a Painboy
E57: Painboy Upgrade | F57: 30 | G57: x | I57: = | J57: =F57*H57 -> 0
E58: Painboy, Orderly | F58: 5 | G58: x | I58: = | J58: =F58*H58 -> 0
E59: All models in the Painboy's unit may have
E60: Cybork bodies | F60: 5 | G60: x | I60: = | J60: =F60*H60 -> 0
A61: Unit Type: Infantry | H61: Total Unit Price = | J61: =C40*D40+SUM(J41:J60) -> 0
A64: Unit Name | B64: Min/Max Models Per Unit | C64: Points per Model | D64: Number Of Models | E64: Options | F64: Cost | G64: x | H64: Amount | I64: = | J64: Total Upgrade Price | K64: Comments
A65: Meganobz | B65: 3 to 10 | C65: 40 | E65: Any Meganob may replace the twin-linked shoota on his mega armour with one of the following:
A66: Wargear: | B66: Special Rules: | C66: Transport | E66: Kombi Shoota-Skorcha | F66: 5 | G66: x | I66: = | J66: =F66*H66 -> 0
A67: Mega armour | B67: Furious Charge | C67: Meganobz may take a Battlewagon | E67: Kombi Shoota-Rokkit Launcha | F67: 5 | G67: x | I67: = | J67: =F67*H67 -> 0
A68: Stikkbombz | B68: Mob Rule | C68: as a dedicated transport vehicle,
B69: Waaagh! | C69: though it may not have the
C70: killkannon upgrade. Alternatively
C71: a mob of 6 or fewer may take a
C72: trukk as a dedicated transport
C73: vehicle
A74: Unit Type: Infantry | H74: Total Unit Price = | J74: =C65*D65+SUM(J66:J68) -> 0
A77: If you are allowed to take Deff Dreads as Troop choice ONLY!
A80: Unit Name | B80: Min/Max Models Per Unit | C80: Points per Model | D80: Number Of Models | E80: Options | F80: Cost | G80: x | H80: Amount | I80: = | J80: Total Upgrade Price | K80: Comments
A81: Deff Dread | B81: 1 | C81: 75 | E81: The Deff Dread must take two of the following:
A82: Wargear: | E82: Big Shoota | F82: 5 | G82: x | I82: = | J82: =F82*H82 -> 0
A83: Two Dreadnought close combat weapons (each additional gives +1 attack) | E83: Rokkit Launcha | F83: 10 | G83: x | I83: = | J83: =F83*H83 -> 0
E84: Kustom Mega-Blasta | F84: 15 | G84: x | I84: = | J84: =F84*H84 -> 0
E85: Skorcha | F85: 5 | G85: x | I85: = | J85: =F85*H85 -> 0
E86: Dreadnought Close Combat Weapon | F86: 15 | G86: x | I86: = | J86: =F86*H86 -> 0
E87: May take any of the following:
E88: Grot Riggers | F88: 5 | G88: x | I88: = | J88: =F88*H88 -> 0
E89: Armour Plates | F89: 10 | G89: x | I89: = | J89: =F89*H89 -> 0
A90: Unit Type: Walker | H90: Total Unit Price = | J90: =C81*D81+SUM(J82:J89) -> 0
A93: If you are allowed to take Warbiker Mobs as Troop choice ONLY!
A96: Unit Name | B96: Min/Max Models Per Unit | C96: Points per Model | D96: Number Of Models | E96: Options | F96: Cost | G96: x | H96: Amount | I96: = | J96: Total Upgrade Price | K96: Comments
A97: Warbikers | B97: 3 to 12 | C97: 25 | E97: One Warbiker can be upgraded to a Nob
A98: Wargear: | B98: Special Rules: | E98: Nob Upgrade | F98: 10 | G98: x | I98: = | J98: =F98*H98 -> 0
A99: Choppa | B99: Furious Charge | E99: He may replace his choppa with one of the following:
A100: Warbike | B100: Mob Rule | E100: Big Choppa | F100: 5 | G100: x | I100: = | J100: =F100*H100 -> 0
A101: Slugga | B101: Exhaust Cloud | E101: Power Klaw | F101: 25 | G101: x | I101: = | J101: =F101*H101 -> 0
A102: Dakkagun | E102: He may take any of the following:
E103: Boss Pole | F103: 5 | G103: x | I103: = | J103: =F103*H103 -> 0
A106: Unit Type: Bikes | H106: Total Unit Price = | J106: =C97*D97+SUM(J98:J103) -> 0

Sheet Troops (3)
A1: Unit Name | B1: Min/Max Models Per Unit | C1: Points per Model | D1: Number Of Models | E1: Options | F1: Cost | G1: x | H1: Amount | I1: = | J1: Total Upgrade Price | K1: Comments
A2: Ork Boyz | B2: 10 to 30 | C2: 6 | E2: The entire mob may take:
A3: Wargear: | B3: Special Rules: | C3: Transport: | E3: Stikkbombs | F3: 1 | G3: x | I3: = | J3: =F3*H3 -> 0
A4: Slugga | B4: Furious Charge | C4: Mobs of 12 or | E4: The entire mob may replace their sluggas and choppas with shootas
A5: Choppa | B5: Mob Rule | C5: fewer may take | E5: Shootas | F5: 0 | G5: x | I5: = | J5: =F5*H5 -> 0
A6: Ard boyz wear | B6: Waaagh! | C6: a Trukk as a | E6: For every ten Orks in the mob, one Ork may exchange his slugga or shoota for:
A7: eavy armour | C7: dedicated | E7: Big Shoota | F7: 5 | G7: x | I7: = | J7: =F7*H7 -> 0
C8: trasport vehicle | E8: Rokkit Launcha | F8: 10 | G8: x | I8: = | J8: =F8*H8 -> 0
E9: One mob per army may be upgraded to
E10: Ard Boyz | F10: 4 | G10: x | I10: = | J10: =F10*H10 -> 0
E11: One Boy may be upgraded to Nob
E12: Nob Upgrade | F12: 10 | G12: x | I12: = | J12: =F12*H12 -> 0
E13: He may replace his choppa with one of the following:
E14: Nob, Big Choppa | F14: 5 | G14: x | I14: = | J14: =F14*H14 -> 0
E15: Nob, Power Klaw | F15: 25 | G15: x | I15: = | J15: =F15*H15 -> 0
E16: He may take any of the following:
E17: Nob, 'Eavy Armour | F17: 5 | G17: x | I17: = | J17: =F17*H17 -> 0 | K17: If not an 'Ard Boy Nob
E18: Nob, Bosspole | F18: 5 | G18: x | I18: = | J18: =F18*H18 -> 0
A19: Unit Type: Infantry | H19: Total Unit Price = | J19: =C2*D2+SUM(J3:J18) -> 0
A22: Unit Name | B22: Min/Max Models Per Unit | C22: Points per Model | D22: Number Of Models | E22: Options | F22: Cost | G22: x | H22: Amount | I22: = | J22: Total Upgrade Price | K22: Comments
A23: Gretchin | B23: 10-30 + 1-3 Runtherds | C23: 3 | E23: For every 10 Gretchin you must take one:
A24: Wargear: | B24: Special Rules: | E24: Runtherd | F24: 10 | G24: x | I24: = | J24: =F24*H24 -> 0
A25: Grechin: | B25: Gretchin: | C25: Runtherds: | E25: Runtherds may replace their grabba stikks with:
A26: Blasta | B26: It's a Grot's Life | C26: Furious Charge | E26: Grot-Prods | F26: 5 | G26: x | I26: = | J26: =F26*H26 -> 0
A27: Runtherds: | C27: Mob Rule
A28: Grabba Stikk | C28: Waaagh!
A29: Slugga
A30: Squig hound
A33: Unit Type: Infantry | H33: Total Unit Price = | J33: =C23*D23+SUM(J24:J32) -> 0
A36: If you are allowed to take Nobz or Meganobz as Troop choice ONLY!
A39: Unit Name | B39: Min/Max Models Per Unit | C39: Points per Model | D39: Number Of Models | E39: Options | F39: Cost | G39: x | H39: Amount | I39: = | J39: Total Upgrade Price | K39: Comments
A40: Nobz | B40: 3 to 10 | C40: 20 | E40: The entire mob may be upgraded to:
A41: Wargear: | B41: Special Rules: | C41: Transport: | E41: Nob Bikers | F41: 25 | G41: x | I41: = | J41: =F41*H41 -> 0
A42: Slugga | B42: Furious Charge | C42: Nob Mobz (except nob bikers) | E42: The entire mob may take:
A43: Choppa | B43: Mob Rule | C43: may take a Trukk as a dedicated | E43: Stikkbombz | F43: 1 | G43: x | I43: = | J43: =F43*H43 -> 0
A44: Nob Bikers are mounted | B44: Waaagh! | C44: transport vehicle. Alternatively | E44: Any Nob may replace his choppa with:
A45: on bikes | C45: they may take a battlewagon | E45: Big Choppa | F45: 5 | G45: x | I45: = | J45: =F45*H45 -> 0
A46: Painboy replaces slugga | C46: as a dedicated transport vehicle, | E46: Power Klaw | F46: 25 | G46: x | I46: = | J46: =F46*H46 -> 0
A47: and choppa with dok's | C47: thought it may not have the | E47: Any Nob may replace his slugga with:
A48: tools and 'urty syringe | C48: killkannon upgrade | E48: Twin-Linked Shoota | F48: 5 | G48: x | I48: = | J48: =F48*H48 -> 0
E49: Shoota-Rokkit Kombi-Weapon | F49: 5 | G49: x | I49: = | J49: =F49*H49 -> 0
E50: Shoota-Skorcha Kombi-Weapon | F50: 5 | G50: x | I50: = | J50: =F50*H50 -> 0
E51: Any Nob may take any of the following:
E52: Eavy Armour | F52: 5 | G52: x | I52: = | J52: =F52*H52 -> 0
E53: Bosspole | F53: 5 | G53: x | I53: = | J53: =F53*H53 -> 0
E54: Waaagh! Banner | F54: 15 | G54: x | I54: = | J54: =F54*H54 -> 0
E55: Ammo Runt | F55: 3 | G55: x | I55: = | J55: =F55*H55 -> 0
E56: One Nob may be a Painboy
E57: Painboy Upgrade | F57: 30 | G57: x | I57: = | J57: =F57*H57 -> 0
E58: Painboy, Orderly | F58: 5 | G58: x | I58: = | J58: =F58*H58 -> 0
E59: All models in the Painboy's unit may have
E60: Cybork bodies | F60: 5 | G60: x | I60: = | J60: =F60*H60 -> 0
A61: Unit Type: Infantry | H61: Total Unit Price = | J61: =C40*D40+SUM(J41:J60) -> 0
A64: Unit Name | B64: Min/Max Models Per Unit | C64: Points per Model | D64: Number Of Models | E64: Options | F64: Cost | G64: x | H64: Amount | I64: = | J64: Total Upgrade Price | K64: Comments
A65: Meganobz | B65: 3 to 10 | C65: 40 | E65: Any Meganob may replace the twin-linked shoota on his mega armour with one of the following:
A66: Wargear: | B66: Special Rules: | C66: Transport | E66: Kombi Shoota-Skorcha | F66: 5 | G66: x | I66: = | J66: =F66*H66 -> 0
A67: Mega armour | B67: Furious Charge | C67: Meganobz may take a Battlewagon | E67: Kombi Shoota-Rokkit Launcha | F67: 5 | G67: x | I67: = | J67: =F67*H67 -> 0
A68: Stikkbombz | B68: Mob Rule | C68: as a dedicated transport vehicle,
B69: Waaagh! | C69: though it may not have the
C70: killkannon upgrade. Alternatively
C71: a mob of 6 or fewer may take a
C72: trukk as a dedicated transport
C73: vehicle
A74: Unit Type: Infantry | H74: Total Unit Price = | J74: =C65*D65+SUM(J66:J68) -> 0
A77: If you are allowed to take Deff Dreads as Troop choice ONLY!
A80: Unit Name | B80: Min/Max Models Per Unit | C80: Points per Model | D80: Number Of Models | E80: Options | F80: Cost | G80: x | H80: Amount | I80: = | J80: Total Upgrade Price | K80: Comments
A81: Deff Dread | B81: 1 | C81: 75 | E81: The Deff Dread must take two of the following:
A82: Wargear: | E82: Big Shoota | F82: 5 | G82: x | I82: = | J82: =F82*H82 -> 0
A83: Two Dreadnought close combat weapons (each additional gives +1 attack) | E83: Rokkit Launcha | F83: 10 | G83: x | I83: = | J83: =F83*H83 -> 0
E84: Kustom Mega-Blasta | F84: 15 | G84: x | I84: = | J84: =F84*H84 -> 0
E85: Skorcha | F85: 5 | G85: x | I85: = | J85: =F85*H85 -> 0
E86: Dreadnought Close Combat Weapon | F86: 15 | G86: x | I86: = | J86: =F86*H86 -> 0
E87: May take any of the following:
E88: Grot Riggers | F88: 5 | G88: x | I88: = | J88: =F88*H88 -> 0
E89: Armour Plates | F89: 10 | G89: x | I89: = | J89: =F89*H89 -> 0
A90: Unit Type: Walker | H90: Total Unit Price = | J90: =C81*D81+SUM(J82:J89) -> 0
A93: If you are allowed to take Warbiker Mobs as Troop choice ONLY!
A96: Unit Name | B96: Min/Max Models Per Unit | C96: Points per Model | D96: Number Of Models | E96: Options | F96: Cost | G96: x | H96: Amount | I96: = | J96: Total Upgrade Price | K96: Comments
A97: Warbikers | B97: 3 to 12 | C97: 25 | E97: One Warbiker can be upgraded to a Nob
A98: Wargear: | B98: Special Rules: | E98: Nob Upgrade | F98: 10 | G98: x | I98: = | J98: =F98*H98 -> 0
A99: Choppa | B99: Furious Charge | E99: He may replace his choppa with one of the following:
A100: Warbike | B100: Mob Rule | E100: Big Choppa | F100: 5 | G100: x | I100: = | J100: =F100*H100 -> 0
A101: Slugga | B101: Exhaust Cloud | E101: Power Klaw | F101: 25 | G101: x | I101: = | J101: =F101*H101 -> 0
A102: Dakkagun | E102: He may take any of the following:
E103: Boss Pole | F103: 5 | G103: x | I103: = | J103: =F103*H103 -> 0
A106: Unit Type: Bikes | H106: Total Unit Price = | J106: =C97*D97+SUM(J98:J103) -> 0

Sheet Troops (4)
A1: Unit Name | B1: Min/Max Models Per Unit | C1: Points per Model | D1: Number Of Models | E1: Options | F1: Cost | G1: x | H1: Amount | I1: = | J1: Total Upgrade Price | K1: Comments
A2: Ork Boyz | B2: 10 to 30 | C2: 6 | E2: The entire mob may take:
A3: Wargear: | B3: Special Rules: | C3: Transport: | E3: Stikkbombs | F3: 1 | G3: x | I3: = | J3: =F3*H3 -> 0
A4: Slugga | B4: Furious Charge | C4: Mobs of 12 or | E4: The entire mob may replace their sluggas and choppas with shootas
A5: Choppa | B5: Mob Rule | C5: fewer may take | E5: Shootas | F5: 0 | G5: x | I5: = | J5: =F5*H5 -> 0
A6: Ard boyz wear | B6: Waaagh! | C6: a Trukk as a | E6: For every ten Orks in the mob, one Ork may exchange his slugga or shoota for:
A7: eavy armour | C7: dedicated | E7: Big Shoota | F7: 5 | G7: x | I7: = | J7: =F7*H7 -> 0
C8: trasport vehicle | E8: Rokkit Launcha | F8: 10 | G8: x | I8: = | J8: =F8*H8 -> 0
E9: One mob per army may be upgraded to
E10: Ard Boyz | F10: 4 | G10: x | I10: = | J10: =F10*H10 -> 0
E11: One Boy may be upgraded to Nob
E12: Nob Upgrade | F12: 10 | G12: x | I12: = | J12: =F12*H12 -> 0
E13: He may replace his choppa with one of the following:
E14: Nob, Big Choppa | F14: 5 | G14: x | I14: = | J14: =F14*H14 -> 0
E15: Nob, Power Klaw | F15: 25 | G15: x | I15: = | J15: =F15*H15 -> 0
E16: He may take any of the following:
E17: Nob, 'Eavy Armour | F17: 5 | G17: x | I17: = | J17: =F17*H17 -> 0 | K17: If not an 'Ard Boy Nob
E18: Nob, Bosspole | F18: 5 | G18: x | I18: = | J18: =F18*H18 -> 0
A19: Unit Type: Infantry | H19: Total Unit Price = | J19: =C2*D2+SUM(J3:J18) -> 0
A22: Unit Name | B22: Min/Max Models Per Unit | C22: Points per Model | D22: Number Of Models | E22: Options | F22: Cost | G22: x | H22: Amount | I22: = | J22: Total Upgrade Price | K22: Comments
A23: Gretchin | B23: 10-30 + 1-3 Runtherds | C23: 3 | E23: For every 10 Gretchin you must take one:
A24: Wargear: | B24: Special Rules: | E24: Runtherd | F24: 10 | G24: x | I24: = | J24: =F24*H24 -> 0
A25: Grechin: | B25: Gretchin: | C25: Runtherds: | E25: Runtherds may replace their grabba stikks with:
A26: Blasta | B26: It's a Grot's Life | C26: Furious Charge | E26: Grot-Prods | F26: 5 | G26: x | I26: = | J26: =F26*H26 -> 0
A27: Runtherds: | C27: Mob Rule
A28: Grabba Stikk | C28: Waaagh!
A29: Slugga
A30: Squig hound
A33: Unit Type: Infantry | H33: Total Unit Price = | J33: =C23*D23+SUM(J24:J32) -> 0
A36: If you are allowed to take Nobz or Meganobz as Troop choice ONLY!
A39: Unit Name | B39: Min/Max Models Per Unit | C39: Points per Model | D39: Number Of Models | E39: Options | F39: Cost | G39: x | H39: Amount | I39: = | J39: Total Upgrade Price | K39: Comments
A40: Nobz | B40: 3 to 10 | C40: 20 | E40: The entire mob may be upgraded to:
A41: Wargear: | B41: Special Rules: | C41: Transport: | E41: Nob Bikers | F41: 25 | G41: x | I41: = | J41: =F41*H41 -> 0
A42: Slugga | B42: Furious Charge | C42: Nob Mobz (except nob bikers) | E42: The entire mob may take:
A43: Choppa | B43: Mob Rule | C43: may take a Trukk as a dedicated | E43: Stikkbombz | F43: 1 | G43: x | I43: = | J43: =F43*H43 -> 0
A44: Nob Bikers are mounted | B44: Waaagh! | C44: transport vehicle. Alternatively | E44: Any Nob may replace his choppa with:
A45: on bikes | C45: they may take a battlewagon | E45: Big Choppa | F45: 5 | G45: x | I45: = | J45: =F45*H45 -> 0
A46: Painboy replaces slugga | C46: as a dedicated transport vehicle, | E46: Power Klaw | F46: 25 | G46: x | I46: = | J46: =F46*H46 -> 0
A47: and choppa with dok's | C47: thought it may not have the | E47: Any Nob may replace his slugga with:
A48: tools and 'urty syringe | C48: killkannon upgrade | E48: Twin-Linked Shoota | F48: 5 | G48: x | I48: = | J48: =F48*H48 -> 0
E49: Shoota-Rokkit Kombi-Weapon | F49: 5 | G49: x | I49: = | J49: =F49*H49 -> 0
E50: Shoota-Skorcha Kombi-Weapon | F50: 5 | G50: x | I50: = | J50: =F50*H50 -> 0
E51: Any Nob may take any of the following:
E52: Eavy Armour | F52: 5 | G52: x | I52: = | J52: =F52*H52 -> 0
E53: Bosspole | F53: 5 | G53: x | I53: = | J53: =F53*H53 -> 0
E54: Waaagh! Banner | F54: 15 | G54: x | I54: = | J54: =F54*H54 -> 0
E55: Ammo Runt | F55: 3 | G55: x | I55: = | J55: =F55*H55 -> 0
E56: One Nob may be a Painboy
E57: Painboy Upgrade | F57: 30 | G57: x | I57: = | J57: =F57*H57 -> 0
E58: Painboy, Orderly | F58: 5 | G58: x | I58: = | J58: =F58*H58 -> 0
E59: All models in the Painboy's unit may have
E60: Cybork bodies | F60: 5 | G60: x | I60: = | J60: =F60*H60 -> 0
A61: Unit Type: Infantry | H61: Total Unit Price = | J61: =C40*D40+SUM(J41:J60) -> 0
A64: Unit Name | B64: Min/Max Models Per Unit | C64: Points per Model | D64: Number Of Models | E64: Options | F64: Cost | G64: x | H64: Amount | I64: = | J64: Total Upgrade Price | K64: Comments
A65: Meganobz | B65: 3 to 10 | C65: 40 | E65: Any Meganob may replace the twin-linked shoota on his mega armour with one of the following:
A66: Wargear: | B66: Special Rules: | C66: Transport | E66: Kombi Shoota-Skorcha | F66: 5 | G66: x | I66: = | J66: =F66*H66 -> 0
A67: Mega armour | B67: Furious Charge | C67: Meganobz may take a Battlewagon | E67: Kombi Shoota-Rokkit Launcha | F67: 5 | G67: x | I67: = | J67: =F67*H67 -> 0
A68: Stikkbombz | B68: Mob Rule | C68: as a dedicated transport vehicle,
B69: Waaagh! | C69: though it may not have the
C70: killkannon upgrade. Alternatively
C71: a mob of 6 or fewer may take a
C72: trukk as a dedicated transport
C73: vehicle
A74: Unit Type: Infantry | H74: Total Unit Price = | J74: =C65*D65+SUM(J66:J68) -> 0
A77: If you are allowed to take Deff Dreads as Troop choice ONLY!
A80: Unit Name | B80: Min/Max Models Per Unit | C80: Points per Model | D80: Number Of Models | E80: Options | F80: Cost | G80: x | H80: Amount | I80: = | J80: Total Upgrade Price | K80: Comments
A81: Deff Dread | B81: 1 | C81: 75 | E81: The Deff Dread must take two of the following:
A82: Wargear: | E82: Big Shoota | F82: 5 | G82: x | I82: = | J82: =F82*H82 -> 0
A83: Two Dreadnought close combat weapons (each additional gives +1 attack) | E83: Rokkit Launcha | F83: 10 | G83: x | I83: = | J83: =F83*H83 -> 0
E84: Kustom Mega-Blasta | F84: 15 | G84: x | I84: = | J84: =F84*H84 -> 0
E85: Skorcha | F85: 5 | G85: x | I85: = | J85: =F85*H85 -> 0
E86: Dreadnought Close Combat Weapon | F86: 15 | G86: x | I86: = | J86: =F86*H86 -> 0
E87: May take any of the following:
E88: Grot Riggers | F88: 5 | G88: x | I88: = | J88: =F88*H88 -> 0
E89: Armour Plates | F89: 10 | G89: x | I89: = | J89: =F89*H89 -> 0
A90: Unit Type: Walker | H90: Total Unit Price = | J90: =C81*D81+SUM(J82:J89) -> 0
A93: If you are allowed to take Warbiker Mobs as Troop choice ONLY!
A96: Unit Name | B96: Min/Max Models Per Unit | C96: Points per Model | D96: Number Of Models | E96: Options | F96: Cost | G96: x | H96: Amount | I96: = | J96: Total Upgrade Price | K96: Comments
A97: Warbikers | B97: 3 to 12 | C97: 25 | E97: One Warbiker can be upgraded to a Nob
A98: Wargear: | B98: Special Rules: | E98: Nob Upgrade | F98: 10 | G98: x | I98: = | J98: =F98*H98 -> 0
A99: Choppa | B99: Furious Charge | E99: He may replace his choppa with one of the following:
A100: Warbike | B100: Mob Rule | E100: Big Choppa | F100: 5 | G100: x | I100: = | J100: =F100*H100 -> 0
A101: Slugga | B101: Exhaust Cloud | E101: Power Klaw | F101: 25 | G101: x | I101: = | J101: =F101*H101 -> 0
A102: Dakkagun | E102: He may take any of the following:
E103: Boss Pole | F103: 5 | G103: x | I103: = | J103: =F103*H103 -> 0
A106: Unit Type: Bikes | H106: Total Unit Price = | J106: =C97*D97+SUM(J98:J103) -> 0

Sheet Troops (5)
A1: Unit Name | B1: Min/Max Models Per Unit | C1: Points per Model | D1: Number Of Models | E1: Options | F1: Cost | G1: x | H1: Amount | I1: = | J1: Total Upgrade Price | K1: Comments
A2: Ork Boyz | B2: 10 to 30 | C2: 6 | E2: The entire mob may take:
A3: Wargear: | B3: Special Rules: | C3: Transport: | E3: Stikkbombs | F3: 1 | G3: x | I3: = | J3: =F3*H3 -> 0
A4: Slugga | B4: Furious Charge | C4: Mobs of 12 or | E4: The entire mob may replace their sluggas and choppas with shootas
A5: Choppa | B5: Mob Rule | C5: fewer may take | E5: Shootas | F5: 0 | G5: x | I5: = | J5: =F5*H5 -> 0
A6: Ard boyz wear | B6: Waaagh! | C6: a Trukk as a | E6: For every ten Orks in the mob, one Ork may exchange his slugga or shoota for:
A7: eavy armour | C7: dedicated | E7: Big Shoota | F7: 5 | G7: x | I7: = | J7: =F7*H7 -> 0
C8: trasport vehicle | E8: Rokkit Launcha | F8: 10 | G8: x | I8: = | J8: =F8*H8 -> 0
E9: One mob per army may be upgraded to
E10: Ard Boyz | F10: 4 | G10: x | I10: = | J10: =F10*H10 -> 0
E11: One Boy may be upgraded to Nob
E12: Nob Upgrade | F12: 10 | G12: x | I12: = | J12: =F12*H12 -> 0
E13: He may replace his choppa with one of the following:
E14: Nob, Big Choppa | F14: 5 | G14: x | I14: = | J14: =F14*H14 -> 0
E15: Nob, Power Klaw | F15: 25 | G15: x | I15: = | J15: =F15*H15 -> 0
E16: He may take any of the following:
E17: Nob, 'Eavy Armour | F17: 5 | G17: x | I17: = | J17: =F17*H17 -> 0 | K17: If not an 'Ard Boy Nob
E18: Nob, Bosspole | F18: 5 | G18: x | I18: = | J18: =F18*H18 -> 0
A19: Unit Type: Infantry | H19: Total Unit Price = | J19: =C2*D2+SUM(J3:J18) -> 0
A22: Unit Name | B22: Min/Max Models Per Unit | C22: Points per Model | D22: Number Of Models | E22: Options | F22: Cost | G22: x | H22: Amount | I22: = | J22: Total Upgrade Price | K22: Comments
A23: Gretchin | B23: 10-30 + 1-3 Runtherds | C23: 3 | E23: For every 10 Gretchin you must take one:
A24: Wargear: | B24: Special Rules: | E24: Runtherd | F24: 10 | G24: x | I24: = | J24: =F24*H24 -> 0
A25: Grechin: | B25: Gretchin: | C25: Runtherds: | E25: Runtherds may replace their grabba stikks with:
A26: Blasta | B26: It's a Grot's Life | C26: Furious Charge | E26: Grot-Prods | F26: 5 | G26: x | I26: = | J26: =F26*H26 -> 0
A27: Runtherds: | C27: Mob Rule
A28: Grabba Stikk | C28: Waaagh!
A29: Slugga
A30: Squig hound
A33: Unit Type: Infantry | H33: Total Unit Price = | J33: =C23*D23+SUM(J24:J32) -> 0
A36: If you are allowed to take Nobz or Meganobz as Troop choice ONLY!
A39: Unit Name | B39: Min/Max Models Per Unit | C39: Points per Model | D39: Number Of Models | E39: Options | F39: Cost | G39: x | H39: Amount | I39: = | J39: Total Upgrade Price | K39: Comments
A40: Nobz | B40: 3 to 10 | C40: 20 | E40: The entire mob may be upgraded to:
A41: Wargear: | B41: Special Rules: | C41: Transport: | E41: Nob Bikers | F41: 25 | G41: x | I41: = | J41: =F41*H41 -> 0
A42: Slugga | B42: Furious Charge | C42: Nob Mobz (except nob bikers) | E42: The entire mob may take:
A43: Choppa | B43: Mob Rule | C43: may take a Trukk as a dedicated | E43: Stikkbombz | F43: 1 | G43: x | I43: = | J43: =F43*H43 -> 0
A44: Nob Bikers are mounted | B44: Waaagh! | C44: transport vehicle. Alternatively | E44: Any Nob may replace his choppa with:
A45: on bikes | C45: they may take a battlewagon | E45: Big Choppa | F45: 5 | G45: x | I45: = | J45: =F45*H45 -> 0
A46: Painboy replaces slugga | C46: as a dedicated transport vehicle, | E46: Power Klaw | F46: 25 | G46: x | I46: = | J46: =F46*H46 -> 0
A47: and choppa with dok's | C47: thought it may not have the | E47: Any Nob may replace his slugga with:
A48: tools and 'urty syringe | C48: killkannon upgrade | E48: Twin-Linked Shoota | F48: 5 | G48: x | I48: = | J48: =F48*H48 -> 0
E49: Shoota-Rokkit Kombi-Weapon | F49: 5 | G49: x | I49: = | J49: =F49*H49 -> 0
E50: Shoota-Skorcha Kombi-Weapon | F50: 5 | G50: x | I50: = | J50: =F50*H50 -> 0
E51: Any Nob may take any of the following:
E52: Eavy Armour | F52: 5 | G52: x | I52: = | J52: =F52*H52 -> 0
E53: Bosspole | F53: 5 | G53: x | I53: = | J53: =F53*H53 -> 0
E54: Waaagh! Banner | F54: 15 | G54: x | I54: = | J54: =F54*H54 -> 0
E55: Ammo Runt | F55: 3 | G55: x | I55: = | J55: =F55*H55 -> 0
E56: One Nob may be a Painboy
E57: Painboy Upgrade | F57: 30 | G57: x | I57: = | J57: =F57*H57 -> 0
E58: Painboy, Orderly | F58: 5 | G58: x | I58: = | J58: =F58*H58 -> 0
E59: All models in the Painboy's unit may have
E60: Cybork bodies | F60: 5 | G60: x | I60: = | J60: =F60*H60 -> 0
A61: Unit Type: Infantry | H61: Total Unit Price = | J61: =C40*D40+SUM(J41:J60) -> 0
A64: Unit Name | B64: Min/Max Models Per Unit | C64: Points per Model | D64: Number Of Models | E64: Options | F64: Cost | G64: x | H64: Amount | I64: = | J64: Total Upgrade Price | K64: Comments
A65: Meganobz | B65: 3 to 10 | C65: 40 | E65: Any Meganob may replace the twin-linked shoota on his mega armour with one of the following:
A66: Wargear: | B66: Special Rules: | C66: Transport | E66: Kombi Shoota-Skorcha | F66: 5 | G66: x | I66: = | J66: =F66*H66 -> 0
A67: Mega armour | B67: Furious Charge | C67: Meganobz may take a Battlewagon | E67: Kombi Shoota-Rokkit Launcha | F67: 5 | G67: x | I67: = | J67: =F67*H67 -> 0
A68: Stikkbombz | B68: Mob Rule | C68: as a dedicated transport vehicle,
B69: Waaagh! | C69: though it may not have the
C70: killkannon upgrade. Alternatively
C71: a mob of 6 or fewer may take a
C72: trukk as a dedicated transport
C73: vehicle
A74: Unit Type: Infantry | H74: Total Unit Price = | J74: =C65*D65+SUM(J66:J68) -> 0
A77: If you are allowed to take Deff Dreads as Troop choice ONLY!
A80: Unit Name | B80: Min/Max Models Per Unit | C80: Points per Model | D80: Number Of Models | E80: Options | F80: Cost | G80: x | H80: Amount | I80: = | J80: Total Upgrade Price | K80: Comments
A81: Deff Dread | B81: 1 | C81: 75 | E81: The Deff Dread must take two of the following:
A82: Wargear: | E82: Big Shoota | F82: 5 | G82: x | I82: = | J82: =F82*H82 -> 0
A83: Two Dreadnought close combat weapons (each additional gives +1 attack) | E83: Rokkit Launcha | F83: 10 | G83: x | I83: = | J83: =F83*H83 -> 0
E84: Kustom Mega-Blasta | F84: 15 | G84: x | I84: = | J84: =F84*H84 -> 0
E85: Skorcha | F85: 5 | G85: x | I85: = | J85: =F85*H85 -> 0
E86: Dreadnought Close Combat Weapon | F86: 15 | G86: x | I86: = | J86: =F86*H86 -> 0
E87: May take any of the following:
E88: Grot Riggers | F88: 5 | G88: x | I88: = | J88: =F88*H88 -> 0
E89: Armour Plates | F89: 10 | G89: x | I89: = | J89: =F89*H89 -> 0
A90: Unit Type: Walker | H90: Total Unit Price = | J90: =C81*D81+SUM(J82:J89) -> 0
A93: If you are allowed to take Warbiker Mobs as Troop choice ONLY!
A96: Unit Name | B96: Min/Max Models Per Unit | C96: Points per Model | D96: Number Of Models | E96: Options | F96: Cost | G96: x | H96: Amount | I96: = | J96: Total Upgrade Price | K96: Comments
A97: Warbikers | B97: 3 to 12 | C97: 25 | E97: One Warbiker can be upgraded to a Nob
A98: Wargear: | B98: Special Rules: | E98: Nob Upgrade | F98: 10 | G98: x | I98: = | J98: =F98*H98 -> 0
A99: Choppa | B99: Furious Charge | E99: He may replace his choppa with one of the following:
A100: Warbike | B100: Mob Rule | E100: Big Choppa | F100: 5 | G100: x | I100: = | J100: =F100*H100 -> 0
A101: Slugga | B101: Exhaust Cloud | E101: Power Klaw | F101: 25 | G101: x | I101: = | J101: =F101*H101 -> 0
A102: Dakkagun | E102: He may take any of the following:
E103: Boss Pole | F103: 5 | G103: x | I103: = | J103: =F103*H103 -> 0
A106: Unit Type: Bikes | H106: Total Unit Price = | J106: =C97*D97+SUM(J98:J103) -> 0

Sheet Troops (6)
A1: Unit Name | B1: Min/Max Models Per Unit | C1: Points per Model | D1: Number Of Models | E1: Options | F1: Cost | G1: x | H1: Amount | I1: = | J1: Total Upgrade Price | K1: Comments
A2: Ork Boyz | B2: 10 to 30 | C2: 6 | E2: The entire mob may take:
A3: Wargear: | B3: Special Rules: | C3: Transport: | E3: Stikkbombs | F3: 1 | G3: x | I3: = | J3: =F3*H3 -> 0
A4: Slugga | B4: Furious Charge | C4: Mobs of 12 or | E4: The entire mob may replace their sluggas and choppas with shootas
A5: Choppa | B5: Mob Rule | C5: fewer may take | E5: Shootas | F5: 0 | G5: x | I5: = | J5: =F5*H5 -> 0
A6: Ard boyz wear | B6: Waaagh! | C6: a Trukk as a | E6: For every ten Orks in the mob, one Ork may exchange his slugga or shoota for:
A7: eavy armour | C7: dedicated | E7: Big Shoota | F7: 5 | G7: x | I7: = | J7: =F7*H7 -> 0
C8: trasport vehicle | E8: Rokkit Launcha | F8: 10 | G8: x | I8: = | J8: =F8*H8 -> 0
E9: One mob per army may be upgraded to
E10: Ard Boyz | F10: 4 | G10: x | I10: = | J10: =F10*H10 -> 0
E11: One Boy may be upgraded to Nob
E12: Nob Upgrade | F12: 10 | G12: x | I12: = | J12: =F12*H12 -> 0
E13: He may replace his choppa with one of the following:
E14: Nob, Big Choppa | F14: 5 | G14: x | I14: = | J14: =F14*H14 -> 0
E15: Nob, Power Klaw | F15: 25 | G15: x | I15: = | J15: =F15*H15 -> 0
E16: He may take any of the following:
E17: Nob, 'Eavy Armour | F17: 5 | G17: x | I17: = | J17: =F17*H17 -> 0 | K17: If not an 'Ard Boy Nob
E18: Nob, Bosspole | F18: 5 | G18: x | I18: = | J18: =F18*H18 -> 0
A19: Unit Type: Infantry | H19: Total Unit Price = | J19: =C2*D2+SUM(J3:J18) -> 0
A22: Unit Name | B22: Min/Max Models Per Unit | C22: Points per Model | D22: Number Of Models | E22: Options | F22: Cost | G22: x | H22: Amount | I22: = | J22: Total Upgrade Price | K22: Comments
A23: Gretchin | B23: 10-30 + 1-3 Runtherds | C23: 3 | E23: For every 10 Gretchin you must take one:
A24: Wargear: | B24: Special Rules: | E24: Runtherd | F24: 10 | G24: x | I24: = | J24: =F24*H24 -> 0
A25: Grechin: | B25: Gretchin: | C25: Runtherds: | E25: Runtherds may replace their grabba stikks with:
A26: Blasta | B26: It's a Grot's Life | C26: Furious Charge | E26: Grot-Prods | F26: 5 | G26: x | I26: = | J26: =F26*H26 -> 0
A27: Runtherds: | C27: Mob Rule
A28: Grabba Stikk | C28: Waaagh!
A29: Slugga
A30: Squig hound
A33: Unit Type: Infantry | H33: Total Unit Price = | J33: =C23*D23+SUM(J24:J32) -> 0
A36: If you are allowed to take Nobz or Meganobz as Troop choice ONLY!
A39: Unit Name | B39: Min/Max Models Per Unit | C39: Points per Model | D39: Number Of Models | E39: Options | F39: Cost | G39: x | H39: Amount | I39: = | J39: Total Upgrade Price | K39: Comments
A40: Nobz | B40: 3 to 10 | C40: 20 | E40: The entire mob may be upgraded to:
A41: Wargear: | B41: Special Rules: | C41: Transport: | E41: Nob Bikers | F41: 25 | G41: x | I41: = | J41: =F41*H41 -> 0
A42: Slugga | B42: Furious Charge | C42: Nob Mobz (except nob bikers) | E42: The entire mob may take:
A43: Choppa | B43: Mob Rule | C43: may take a Trukk as a dedicated | E43: Stikkbombz | F43: 1 | G43: x | I43: = | J43: =F43*H43 -> 0
A44: Nob Bikers are mounted | B44: Waaagh! | C44: transport vehicle. Alternatively | E44: Any Nob may replace his choppa with:
A45: on bikes | C45: they may take a battlewagon | E45: Big Choppa | F45: 5 | G45: x | I45: = | J45: =F45*H45 -> 0
A46: Painboy replaces slugga | C46: as a dedicated transport vehicle, | E46: Power Klaw | F46: 25 | G46: x | I46: = | J46: =F46*H46 -> 0
A47: and choppa with dok's | C47: thought it may not have the | E47: Any Nob may replace his slugga with:
A48: tools and 'urty syringe | C48: killkannon upgrade | E48: Twin-Linked Shoota | F48: 5 | G48: x | I48: = | J48: =F48*H48 -> 0
E49: Shoota-Rokkit Kombi-Weapon | F49: 5 | G49: x | I49: = | J49: =F49*H49 -> 0
E50: Shoota-Skorcha Kombi-Weapon | F50: 5 | G50: x | I50: = | J50: =F50*H50 -> 0
E51: Any Nob may take any of the following:
E52: Eavy Armour | F52: 5 | G52: x | I52: = | J52: =F52*H52 -> 0
E53: Bosspole | F53: 5 | G53: x | I53: = | J53: =F53*H53 -> 0
E54: Waaagh! Banner | F54: 15 | G54: x | I54: = | J54: =F54*H54 -> 0
E55: Ammo Runt | F55: 3 | G55: x | I55: = | J55: =F55*H55 -> 0
E56: One Nob may be a Painboy
E57: Painboy Upgrade | F57: 30 | G57: x | I57: = | J57: =F57*H57 -> 0
E58: Painboy, Orderly | F58: 5 | G58: x | I58: = | J58: =F58*H58 -> 0
E59: All models in the Painboy's unit may have
E60: Cybork bodies | F60: 5 | G60: x | I60: = | J60: =F60*H60 -> 0
A61: Unit Type: Infantry | H61: Total Unit Price = | J61: =C40*D40+SUM(J41:J60) -> 0
A64: Unit Name | B64: Min/Max Models Per Unit | C64: Points per Model | D64: Number Of Models | E64: Options | F64: Cost | G64: x | H64: Amount | I64: = | J64: Total Upgrade Price | K64: Comments
A65: Meganobz | B65: 3 to 10 | C65: 40 | E65: Any Meganob may replace the twin-linked shoota on his mega armour with one of the following:
A66: Wargear: | B66: Special Rules: | C66: Transport | E66: Kombi Shoota-Skorcha | F66: 5 | G66: x | I66: = | J66: =F66*H66 -> 0
A67: Mega armour | B67: Furious Charge | C67: Meganobz may take a Battlewagon | E67: Kombi Shoota-Rokkit Launcha | F67: 5 | G67: x | I67: = | J67: =F67*H67 -> 0
A68: Stikkbombz | B68: Mob Rule | C68: as a dedicated transport vehicle,
B69: Waaagh! | C69: though it may not have the
C70: killkannon upgrade. Alternatively
C71: a mob of 6 or fewer may take a
C72: trukk as a dedicated transport
C73: vehicle
A74: Unit Type: Infantry | H74: Total Unit Price = | J74: =C65*D65+SUM(J66:J68) -> 0
A77: If you are allowed to take Deff Dreads as Troop choice ONLY!
A80: Unit Name | B80: Min/Max Models Per Unit | C80: Points per Model | D80: Number Of Models | E80: Options | F80: Cost | G80: x | H80: Amount | I80: = | J80: Total Upgrade Price | K80: Comments
A81: Deff Dread | B81: 1 | C81: 75 | E81: The Deff Dread must take two of the following:
A82: Wargear: | E82: Big Shoota | F82: 5 | G82: x | I82: = | J82: =F82*H82 -> 0
A83: Two Dreadnought close combat weapons (each additional gives +1 attack) | E83: Rokkit Launcha | F83: 10 | G83: x | I83: = | J83: =F83*H83 -> 0
E84: Kustom Mega-Blasta | F84: 15 | G84: x | I84: = | J84: =F84*H84 -> 0
E85: Skorcha | F85: 5 | G85: x | I85: = | J85: =F85*H85 -> 0
E86: Dreadnought Close Combat Weapon | F86: 15 | G86: x | I86: = | J86: =F86*H86 -> 0
E87: May take any of the following:
E88: Grot Riggers | F88: 5 | G88: x | I88: = | J88: =F88*H88 -> 0
E89: Armour Plates | F89: 10 | G89: x | I89: = | J89: =F89*H89 -> 0
A90: Unit Type: Walker | H90: Total Unit Price = | J90: =C81*D81+SUM(J82:J89) -> 0
A93: If you are allowed to take Warbiker Mobs as Troop choice ONLY!
A96: Unit Name | B96: Min/Max Models Per Unit | C96: Points per Model | D96: Number Of Models | E96: Options | F96: Cost | G96: x | H96: Amount | I96: = | J96: Total Upgrade Price | K96: Comments
A97: Warbikers | B97: 3 to 12 | C97: 25 | E97: One Warbiker can be upgraded to a Nob
A98: Wargear: | B98: Special Rules: | E98: Nob Upgrade | F98: 10 | G98: x | I98: = | J98: =F98*H98 -> 0
A99: Choppa | B99: Furious Charge | E99: He may replace his choppa with one of the following:
A100: Warbike | B100: Mob Rule | E100: Big Choppa | F100: 5 | G100: x | I100: = | J100: =F100*H100 -> 0
A101: Slugga | B101: Exhaust Cloud | E101: Power Klaw | F101: 25 | G101: x | I101: = | J101: =F101*H101 -> 0
A102: Dakkagun | E102: He may take any of the following:
E103: Boss Pole | F103: 5 | G103: x | I103: = | J103: =F103*H103 -> 0
A106: Unit Type: Bikes | H106: Total Unit Price = | J106: =C97*D97+SUM(J98:J103) -> 0

Sheet Fast Attack
A1: Unit Name | B1: Min/Max Models Per Unit | C1: Points per Model | D1: Number Of Models | E1: Options | F1: Cost | G1: x | H1: Amount | I1: = | J1: Total Upgrade Price | K1: Comments
A2: Stormboyz | B2: 5 to 20 | C2: 12 | E2: One Stormboy may be upgrade to nob
A3: Wargear: | B3: Special Rules: | E3: Nob Upgrade | F3: 10 | G3: x | I3: = | J3: =F3*H3 -> 0
A4: Slugga | B4: Furious Charge | E4: He may replace his choppa with one of the following:
A5: Choppa | B5: Mob Rule | E5: Big Choppa | F5: 5 | G5: x | I5: = | J5: =F5*H5 -> 0
A6: Rokkit pack | E6: Power Klaw | F6: 25 | G6: x | I6: = | J6: =F6*H6 -> 0
A7: Stikkbombz | E7: He may take any of the following:
E8: Eavy Armour | F8: 5 | G8: x | I8: = | J8: =F8*H8 -> 0
E9: Boss Pole | F9: 5 | G9: x | I9: = | J9: =F9*H9 -> 0
E10: Instead of a Nob, one mob may be led by
E11: Boss Zagstruk | F11: 85 | G11: x | I11: = | J11: =F11*H11 -> 0
A12: Unit Type: Jump Infantry | H12: Total Unit Price = | J12: =C2*D2+SUM(J3:J11) -> 0
A15: Unit Name | B15: Min/Max Models Per Unit | C15: Points per Model | D15: Number Of Models | E15: Options | F15: Cost | G15: x | H15: Amount | I15: = | J15: Total Upgrade Price | K15: Comments
A16: Warbuggies | B16: 1 to 3 | C16: 30 | E16: Any Warbuggy may replace its twin-linked big shoota with one of the following:
A17: Wargear: | E17: Twin-Linked Rokkit Launcha | F17: 5 | G17: x | I17: = | J17: =F17*H17 -> 0
A18: Twin-Linked Big Shoota | E18: Skorcha | F18: 10 | G18: x | I18: = | J18: =F18*H18 -> 0
E19: Any Warbuggy may take any of the following:
E20: Red Paint Job | F20: 5 | G20: x | I20: = | J20: =F20*H20 -> 0
E21: Grot Riggers | F21: 5 | G21: x | I21: = | J21: =F21*H21 -> 0
E22: Armour Plates | F22: 10 | G22: x | I22: = | J22: =F22*H22 -> 0
E23: Wartrakk Upgrade | F23: 5 | G23: x | I23: = | J23: =F23*H23 -> 0
A24: Unit Type: Vehicle (Fast, Open-topped) | H24: Total Unit Price = | J24: =C16*D16+SUM(J17:J23) -> 0
A27: Unit Name | B27: Min/Max Models Per Unit | C27: Points per Model | D27: Number Of Models | E27: Options | F27: Cost | G27: x | H27: Amount | I27: = | J27: Total Upgrade Price | K27: Comments
A28: Warbikers | B28: 3 to 12 | C28: 25 | E28: One Warbiker can be upgraded to a Nob
A29: Wargear: | B29: Special Rules: | E29: Nob Upgrade | F29: 10 | G29: x | I29: = | J29: =F29*H29 -> 0
A30: Choppa | B30: Furious Charge | E30: He may replace his choppa with one of the following:
A31: Warbike | B31: Mob Rule | E31: Big Choppa | F31: 5 | G31: x | I31: = | J31: =F31*H31 -> 0
A32: Slugga | B32: Exhaust Cloud | E32: Power Klaw | F32: 25 | G32: x | I32: = | J32: =F32*H32 -> 0
A33: Dakkagun | E33: He may take any of the following:
E34: Boss Pole | F34: 5 | G34: x | I34: = | J34: =F34*H34 -> 0
A37: Unit Type: Bikes | H37: Total Unit Price = | J37: =C28*D28+SUM(J29:J34) -> 0
A40: Unit Name | B40: Min/Max Models Per Unit | C40: Points per Model | D40: Number Of Models | E40: Options | F40: Cost | G40: x | H40: Amount | I40: = | J40: Total Upgrade Price | K40: Comments
A41: Deffkoptas | B41: 1 to 5 | C41: 35 | E41: Any Deffkopta may replace its twin-linked big shootas with:
A42: Wargear: | B42: Special Rules: | E42: Twin-Linked Rokkit Launcha | F42: 10 | G42: x | I42: = | J42: =F42*H42 -> 0
A43: Choppa | B43: Furious Charge | E43: Kustom Mega-Blasta | F43: 5 | G43: x | I43: = | J43: =F43*H43 -> 0
A44: Twin-Linked Big Shoota | B44: Mob Rule | E44: Any Deffkopta may be equipped with:
B45: Scouts | E45: Bigbomm | F45: 15 | G45: x | I45: = | J45: =F45*H45 -> 0
B46: Hit and Run | E46: Buzzsaw | F46: 25 | G46: x | I46: = | J46: =F46*H46 -> 0
A49: Unit Type: Jetbikes | H49: Total Unit Price = | J49: =C41*D41+SUM(J42:J48) -> 0

Sheet Fast Attack (2)
A1: Unit Name | B1: Min/Max Models Per Unit | C1: Points per Model | D1: Number Of Models | E1: Options | F1: Cost | G1: x | H1: Amount | I1: = | J1: Total Upgrade Price | K1: Comments
A2: Stormboyz | B2: 5 to 20 | C2: 12 | E2: One Stormboy may be upgrade to nob
A3: Wargear: | B3: Special Rules: | E3: Nob Upgrade | F3: 10 | G3: x | I3: = | J3: =F3*H3 -> 0
A4: Slugga | B4: Furious Charge | E4: He may replace his choppa with one of the following:
A5: Choppa | B5: Mob Rule | E5: Big Choppa | F5: 5 | G5: x | I5: = | J5: =F5*H5 -> 0
A6: Rokkit pack | E6: Power Klaw | F6: 25 | G6: x | I6: = | J6: =F6*H6 -> 0
A7: Stikkbombz | E7: He may take any of the following:
E8: Eavy Armour | F8: 5 | G8: x | I8: = | J8: =F8*H8 -> 0
E9: Boss Pole | F9: 5 | G9: x | I9: = | J9: =F9*H9 -> 0
E10: Instead of a Nob, one mob may be led by
E11: Boss Zagstruk | F11: 85 | G11: x | I11: = | J11: =F11*H11 -> 0
A12: Unit Type: Jump Infantry | H12: Total Unit Price = | J12: =C2*D2+SUM(J3:J11) -> 0
A15: Unit Name | B15: Min/Max Models Per Unit | C15: Points per Model | D15: Number Of Models | E15: Options | F15: Cost | G15: x | H15: Amount | I15: = | J15: Total Upgrade Price | K15: Comments
A16: Warbuggies | B16: 1 to 3 | C16: 30 | E16: Any Warbuggy may replace its twin-linked big shoota with one of the following:
A17: Wargear: | E17: Twin-Linked Rokkit Launcha | F17: 5 | G17: x | I17: = | J17: =F17*H17 -> 0
A18: Twin-Linked Big Shoota | E18: Skorcha | F18: 10 | G18: x | I18: = | J18: =F18*H18 -> 0
E19: Any Warbuggy may take any of the following:
E20: Red Paint Job | F20: 5 | G20: x | I20: = | J20: =F20*H20 -> 0
E21: Grot Riggers | F21: 5 | G21: x | I21: = | J21: =F21*H21 -> 0
E22: Armour Plates | F22: 10 | G22: x | I22: = | J22: =F22*H22 -> 0
E23: Wartrakk Upgrade | F23: 5 | G23: x | I23: = | J23: =F23*H23 -> 0
A24: Unit Type: Vehicle (Fast, Open-topped) | H24: Total Unit Price = | J24: =C16*D16+SUM(J17:J23) -> 0
A27: Unit Name | B27: Min/Max Models Per Unit | C27: Points per Model | D27: Number Of Models | E27: Options | F27: Cost | G27: x | H27: Amount | I27: = | J27: Total Upgrade Price | K27: Comments
A28: Warbikers | B28: 3 to 12 | C28: 25 | E28: One Warbiker can be upgraded to a Nob
A29: Wargear: | B29: Special Rules: | E29: Nob Upgrade | F29: 10 | G29: x | I29: = | J29: =F29*H29 -> 0
A30: Choppa | B30: Furious Charge | E30: He may replace his choppa with one of the following:
A31: Warbike | B31: Mob Rule | E31: Big Choppa | F31: 5 | G31: x | I31: = | J31: =F31*H31 -> 0
A32: Slugga | B32: Exhaust Cloud | E32: Power Klaw | F32: 25 | G32: x | I32: = | J32: =F32*H32 -> 0
A33: Dakkagun | E33: He may take any of the following:
E34: Boss Pole | F34: 5 | G34: x | I34: = | J34: =F34*H34 -> 0
A37: Unit Type: Bikes | H37: Total Unit Price = | J37: =C28*D28+SUM(J29:J34) -> 0
A40: Unit Name | B40: Min/Max Models Per Unit | C40: Points per Model | D40: Number Of Models | E40: Options | F40: Cost | G40: x | H40: Amount | I40: = | J40: Total Upgrade Price | K40: Comments
A41: Deffkoptas | B41: 1 to 5 | C41: 35 | E41: Any Deffkopta may replace its twin-linked big shootas with:
A42: Wargear: | B42: Special Rules: | E42: Twin-Linked Rokkit Launcha | F42: 10 | G42: x | I42: = | J42: =F42*H42 -> 0
A43: Choppa | B43: Furious Charge | E43: Kustom Mega-Blasta | F43: 5 | G43: x | I43: = | J43: =F43*H43 -> 0
A44: Twin-Linked Big Shoota | B44: Mob Rule | E44: Any Deffkopta may be equipped with:
B45: Scouts | E45: Bigbomm | F45: 15 | G45: x | I45: = | J45: =F45*H45 -> 0
B46: Hit and Run | E46: Buzzsaw | F46: 25 | G46: x | I46: = | J46: =F46*H46 -> 0
A49: Unit Type: Jetbikes | H49: Total Unit Price = | J49: =C41*D41+SUM(J42:J48) -> 0

Sheet Fast Attack (3)
A1: Unit Name | B1: Min/Max Models Per Unit | C1: Points per Model | D1: Number Of Models | E1: Options | F1: Cost | G1: x | H1: Amount | I1: = | J1: Total Upgrade Price | K1: Comments
A2: Stormboyz | B2: 5 to 20 | C2: 12 | E2: One Stormboy may be upgrade to nob
A3: Wargear: | B3: Special Rules: | E3: Nob Upgrade | F3: 10 | G3: x | I3: = | J3: =F3*H3 -> 0
A4: Slugga | B4: Furious Charge | E4: He may replace his choppa with one of the following:
A5: Choppa | B5: Mob Rule | E5: Big Choppa | F5: 5 | G5: x | I5: = | J5: =F5*H5 -> 0
A6: Rokkit pack | E6: Power Klaw | F6: 25 | G6: x | I6: = | J6: =F6*H6 -> 0
A7: Stikkbombz | E7: He may take any of the following:
E8: Eavy Armour | F8: 5 | G8: x | I8: = | J8: =F8*H8 -> 0
E9: Boss Pole | F9: 5 | G9: x | I9: = | J9: =F9*H9 -> 0
E10: Instead of a Nob, one mob may be led by
E11: Boss Zagstruk | F11: 85 | G11: x | I11: = | J11: =F11*H11 -> 0
A12: Unit Type: Jump Infantry | H12: Total Unit Price = | J12: =C2*D2+SUM(J3:J11) -> 0
A15: Unit Name | B15: Min/Max Models Per Unit | C15: Points per Model | D15: Number Of Models | E15: Options | F15: Cost | G15: x | H15: Amount | I15: = | J15: Total Upgrade Price | K15: Comments
A16: Warbuggies | B16: 1 to 3 | C16: 30 | E16: Any Warbuggy may replace its twin-linked big shoota with one of the following:
A17: Wargear: | E17: Twin-Linked Rokkit Launcha | F17: 5 | G17: x | I17: = | J17: =F17*H17 -> 0
A18: Twin-Linked Big Shoota | E18: Skorcha | F18: 10 | G18: x | I18: = | J18: =F18*H18 -> 0
E19: Any Warbuggy may take any of the following:
E20: Red Paint Job | F20: 5 | G20: x | I20: = | J20: =F20*H20 -> 0
E21: Grot Riggers | F21: 5 | G21: x | I21: = | J21: =F21*H21 -> 0
E22: Armour Plates | F22: 10 | G22: x | I22: = | J22: =F22*H22 -> 0
E23: Wartrakk Upgrade | F23: 5 | G23: x | I23: = | J23: =F23*H23 -> 0
A24: Unit Type: Vehicle (Fast, Open-topped) | H24: Total Unit Price = | J24: =C16*D16+SUM(J17:J23) -> 0
A27: Unit Name | B27: Min/Max Models Per Unit | C27: Points per Model | D27: Number Of Models | E27: Options | F27: Cost | G27: x | H27: Amount | I27: = | J27: Total Upgrade Price | K27: Comments
A28: Warbikers | B28: 3 to 12 | C28: 25 | E28: One Warbiker can be upgraded to a Nob
A29: Wargear: | B29: Special Rules: | E29: Nob Upgrade | F29: 10 | G29: x | I29: = | J29: =F29*H29 -> 0
A30: Choppa | B30: Furious Charge | E30: He may replace his choppa with one of the following:
A31: Warbike | B31: Mob Rule | E31: Big Choppa | F31: 5 | G31: x | I31: = | J31: =F31*H31 -> 0
A32: Slugga | B32: Exhaust Cloud | E32: Power Klaw | F32: 25 | G32: x | I32: = | J32: =F32*H32 -> 0
A33: Dakkagun | E33: He may take any of the following:
E34: Boss Pole | F34: 5 | G34: x | I34: = | J34: =F34*H34 -> 0
A37: Unit Type: Bikes | H37: Total Unit Price = | J37: =C28*D28+SUM(J29:J34) -> 0
A40: Unit Name | B40: Min/Max Models Per Unit | C40: Points per Model | D40: Number Of Models | E40: Options | F40: Cost | G40: x | H40: Amount | I40: = | J40: Total Upgrade Price | K40: Comments
A41: Deffkoptas | B41: 1 to 5 | C41: 35 | E41: Any Deffkopta may replace its twin-linked big shootas with:
A42: Wargear: | B42: Special Rules: | E42: Twin-Linked Rokkit Launcha | F42: 10 | G42: x | I42: = | J42: =F42*H42 -> 0
A43: Choppa | B43: Furious Charge | E43: Kustom Mega-Blasta | F43: 5 | G43: x | I43: = | J43: =F43*H43 -> 0
A44: Twin-Linked Big Shoota | B44: Mob Rule | E44: Any Deffkopta may be equipped with:
B45: Scouts | E45: Bigbomm | F45: 15 | G45: x | I45: = | J45: =F45*H45 -> 0
B46: Hit and Run | E46: Buzzsaw | F46: 25 | G46: x | I46: = | J46: =F46*H46 -> 0
A49: Unit Type: Jetbikes | H49: Total Unit Price = | J49: =C41*D41+SUM(J42:J48) -> 0

Sheet Heavy Support
A1: Unit Name | B1: Min/Max Models Per Unit | C1: Points per Model | D1: Number Of Models | E1: Options | F1: Cost | G1: x | H1: Amount | I1: = | J1: Total Upgrade Price | K1: Comments
A2: Battlewagon | B2: 1 | C2: 90 | E2: May take any of the following:
A3: Transport Capacity | E3: Killkannon | F3: 60 | G3: x | I3: = | J3: =F3*H3 -> 0
A4: 20 Models. Models in Mega Armour counts as two models. | E4: Ard Case | F4: 15 | G4: x | I4: = | J4: =F4*H4 -> 0
E5: Deff Rolla* | F5: 20 | G5: x | I5: = | J5: =F5*H5 -> 0 | L5: * = May not take both a deff rolla and reinforced ram
A6: A Battlewagon with a killkannon has a transport capacity of 12 | E6: Red Paint Job | F6: 5 | G6: x | I6: = | J6: =F6*H6 -> 0
E7: Grot Riggers | F7: 5 | G7: x | I7: = | J7: =F7*H7 -> 0
E8: Stikkbomb Chukka | F8: 5 | G8: x | I8: = | J8: =F8*H8 -> 0
E9: Armour Plates | F9: 10 | G9: x | I9: = | J9: =F9*H9 -> 0
E10: Boarding Plank | F10: 5 | G10: x | I10: = | J10: =F10*H10 -> 0
E11: Wreckin' Ball | F11: 10 | G11: x | I11: = | J11: =F11*H11 -> 0
E12: Grabbin' Klaw | F12: 5 | G12: x | I12: = | J12: =F12*H12 -> 0
E13: Reinforced Ram* | F13: 5 | G13: x | I13: = | J13: =F13*H13 -> 0
E14: May take a single big gun (does not include crew):
E15: Kannon | F15: 10 | G15: x | I15: = | J15: =F15*H15 -> 0
E16: Lobba | F16: 15 | G16: x | I16: = | J16: =F16*H16 -> 0
E17: Zzap Gun | F17: 15 | G17: x | I17: = | J17: =F17*H17 -> 0
E18: May take up to 4 of the following:
E19: Big Shoota | F19: 5 | G19: x | I19: = | J19: =F19*H19 -> 0
E20: Rokkit Launchas | F20: 10 | G20: x | I20: = | J20: =F20*H20 -> 0
A21: Unit Type: (Tank, Open-Topped) | H21: Total Unit Price = | J21: =C2*D2+SUM(J3:J20) -> 0
A23: Unit Name | B23: Min/Max Models Per Unit | C23: Points per Model | D23: Number Of Models | E23: Options | F23: Cost | G23: x | H23: Amount | I23: = | J23: Total Upgrade Price | K23: Comments
A24: Deff Dread | B24: 1 | C24: 75 | E24: The Deff Dread must take two of the following:
A25: Wargear: | E25: Big Shoota | F25: 5 | G25: x | I25: = | J25: =F25*H25 -> 0
A26: Two Dreadnought close combat weapons (each additional gives +1 attack) | E26: Rokkit Launcha | F26: 10 | G26: x | I26: = | J26: =F26*H26 -> 0
E27: Kustom Mega-Blasta | F27: 15 | G27: x | I27: = | J27: =F27*H27 -> 0
E28: Skorcha | F28: 5 | G28: x | I28: = | J28: =F28*H28 -> 0
E29: Dreadnought Close Combat Weapon | F29: 15 | G29: x | I29: = | J29: =F29*H29 -> 0
E30: May take any of the following:
E31: Grot Riggers | F31: 5 | G31: x | I31: = | J31: =F31*H31 -> 0
E32: Armour Plates | F32: 10 | G32: x | I32: = | J32: =F32*H32 -> 0
A33: Unit Type: Walker | H33: Total Unit Price = | J33: =C24*D24+SUM(J25:J32) -> 0
A36: Unit Name | B36: Min/Max Models Per Unit | C36: Points per Model | D36: Number Of Models | E36: Options | F36: Cost | G36: x | H36: Amount | I36: = | J36: Total Upgrade Price | K36: Comments
A37: Killa Kans | B37: 1 to 3 | C37: 35 | E37: Each Killa Kan must take one of the following:
A38: Wargear: | E38: Big Shoota | F38: 5 | G38: x | I38: = | J38: =F38*H38 -> 0
A39: Dreadnought close combat weapon | E39: Rokkit Launcha | F39: 15 | G39: x | I39: = | J39: =F39*H39 -> 0
E40: Kustom Mega-Blasta | F40: 20 | G40: x | I40: = | J40: =F40*H40 -> 0
E41: Skorcha | F41: 5 | G41: x | I41: = | J41: =F41*H41 -> 0
E42: Grotzooka | F42: 10 | G42: x | I42: = | J42: =F42*H42 -> 0
E43: Any Killa Kan may take any of the following:
E44: Grot Riggers | F44: 5 | G44: x | I44: = | J44: =F44*H44 -> 0
E45: Armour Plates | F45: 10 | G45: x | I45: = | J45: =F45*H45 -> 0
A46: Unit Type: Walker | H46: Total Unit Price = | J46: =C37*D37+SUM(J38:J45) -> 0
A49: Unit Name | B49: Min/Max Models Per Unit | C49: Points per Model | D49: Number Of Models | E49: Options | F49: Cost | G49: x | H49: Amount | I49: = | J49: Total Upgrade Price | K49: Comments
A50: Flash Gitz | B50: 5 to 10 | C50: 25 | E50: The unit may take any of the following:
A51: Wargear: | B51: Special Rules: | E51: More Dakka | F51: 5 | G51: x | I51: = | J51: =F51*H51 -> 0
A52: Eavy Armour | B52: Furious Charge | C52: Painboy replaces 'eavy | E52: Shootier | F52: 5 | G52: x | I52: = | J52: =F52*H52 -> 0
A53: Snazzgun | B53: Mob Rule | C53: armour, snazzgun and | E53: Blastas | F53: 5 | G53: x | I53: = | J53: =F53*H53 -> 0
E54: The unit may include up to three:
A55: Gitfinda | B55: Waaagh! | C55: gitfinda with dok's tools | E55: Ammo Runts | F55: 5 | G55: x | I55: = | J55: =F55*H55 -> 0
C56: and 'urty syringe | E56: One Flash Gitz mob may be led by:
E57: Kaptain Badrukk | F57: 135 | G57: x | I57: = | J57: =F57*H57 -> 0
E58: One Flash Git may be a Painboy:
E59: Painboy | F59: 30 | G59: x | I59: = | J59: =F59*H59 -> 0
E60: Painboy, Orderly | F60: 5 | G60: x | I60: = | J60: =F60*H60 -> 0
E61: All models in the Painboy's unit may have
E62: Cybork Bodies | F62: 5 | G62: x | I62: = | J62: =F62*H62 -> 0
A63: Unit Type: Infantry | H63: Total Unit Price = | J63: =C50*D50+SUM(J51:J62) -> 0
A66: Unit Name | B66: Min/Max Models Per Unit | C66: Points per Model | D66: Number Of Models | E66: Options | F66: Cost | G66: x | H66: Amount | I66: = | J66: Total Upgrade Price | K66: Comments
A67: Big Gunz | B67: 1 to 3 | C67: 20 | E67: The Big Gunz must all be of the same type of gun chose from the following types
A68: Wargear: | B68: Special Rules: | E68: Kannons | F68: 0 | G68: x | I68: = | J68: =F68*H68 -> 0
A69: Gretchin: | B69: Grechin: | E69: Lobbas | F69: 5 | G69: x | I69: = | J69: =F69*H69 -> 0
A70: None | B70: None | E70: Zzap Guns | F70: 10 | G70: x | I70: = | J70: =F70*H70 -> 0
E71: The Battery may include any of the following:
A72: Runtherds: | B72: Runtherds: | E72: Ammo Runts | F72: 3 | G72: x | I72: = | J72: =F72*H72 -> 0 | K72: Up to 3
A73: Grabba Stikk | B73: Furious Charge | E73: Grot Krew | F73: 3 | G73: x | I73: = | J73: =F73*H73 -> 0 | K73: Up to 6
A74: Slugga | E74: The unit may include a Runtherd:
A75: Squig Hound | E75: Runtherd | F75: 10 | G75: x | I75: = | J75: =F75*H75 -> 0
E76: Runtherd, Grot Prod | F76: 5 | G76: x | I76: = | J76: =F76*H76 -> 0 | K76: Replace Grabba Stikk
A77: Unit Type: Artillery | H77: Total Unit Price = | J77: =C67*D67+SUM(J68:J76) -> 0
A80: Unit Name | B80: Min/Max Models Per Unit | C80: Points per Model | D80: Number Of Models | E80: Options | F80: Cost | G80: x | H80: Amount | I80: = | J80: Total Upgrade Price | K80: Comments
A81: Looted Wagon | B81: 1 | C81: 35 | E81: May take one of the following:
A82: Special Rules: | B82: Transport Capacity | E82: Boomgun | F82: 70 | G82: x | I82: = | J82: =F82*H82 -> 0
A83: Don't Press Dat! | B83: 12 Models. Models with mega armour counts as | E83: Skorcha | F83: 15 | G83: x | I83: = | J83: =F83*H83 -> 0
B84: two models. | E84: May take up to two of the following:
E85: Big Shoota | F85: 5 | G85: x | I85: = | J85: =F85*H85 -> 0
B86: A Looted Wagon with a boomgun loses its | E86: Rokkit Launcha | F86: 10 | G86: x | I86: = | J86: =F86*H86 -> 0
B87: transport capacity altogether | E87: May take any of the following:
E88: Ard Case | F88: 10 | G88: x | I88: = | J88: =F88*H88 -> 0
E89: Red Paint Job | F89: 5 | G89: x | I89: = | J89: =F89*H89 -> 0
E90: Grot Riggers | F90: 5 | G90: x | I90: = | J90: =F90*H90 -> 0
E91: Stikkbomb Chukka | F91: 5 | G91: x | I91: = | J91: =F91*H91 -> 0
E92: Armour Plates | F92: 10 | G92: x | I92: = | J92: =F92*H92 -> 0
E93: Boarding Plank | F93: 5 | G93: x | I93: = | J93: =F93*H93 -> 0
E94: Wreckin' Ball | F94: 10 | G94: x | I94: = | J94: =F94*H94 -> 0
E95: Reinforced Ram | F95: 5 | G95: x | I95: = | J95: =F95*H95 -> 0
E96: Grabbin' Klaw | F96: 5 | G96: x | I96: = | J96: =F96*H96 -> 0
A97: Unit Type: Vehicle (Tank, Open-Topped) | H97: Total Unit Price = | J97: =C81*D81+SUM(J82:J96) -> 0

Sheet Template
A1: Unit Name | B1: Min/Max Models Per Unit | C1: Points per Model | D1: Number Of Models | E1: Options | F1: Cost | G1: x | H1: Amount | I1: = | J1: Total Upgrade Price | K1: Comments
E2: Namestuff
A3: Wargear: | B3: Special Rules: | G3: x | I3: = | J3: =F3*H3 -> 0
G4: x | I4: = | J4: =F4*H4 -> 0
G5: x | I5: = | J5: =F5*H5 -> 0
G6: x | I6: = | J6: =F6*H6 -> 0
G7: x | I7: = | J7: =F7*H7 -> 0
G8: x | I8: = | J8: =F8*H8 -> 0
G9: x | I9: = | J9: =F9*H9 -> 0
G10: x | I10: = | J10: =F10*H10 -> 0
G11: x | I11: = | J11: =F11*H11 -> 0
G12: x | I12: = | J12: =F12*H12 -> 0
G13: x | I13: = | J13: =F13*H13 -> 0
G14: x | I14: = | J14: =F14*H14 -> 0
A15: Unit Type: | H15: Total Unit Price = | J15: =C2*D2+SUM(J3:J14) -> 0

Sheet Heavy Support (2)
A1: Unit Name | B1: Min/Max Models Per Unit | C1: Points per Model | D1: Number Of Models | E1: Options | F1: Cost | G1: x | H1: Amount | I1: = | J1: Total Upgrade Price | K1: Comments
A2: Battlewagon | B2: 1 | C2: 90 | E2: May take any of the following:
A3: Transport Capacity | E3: Killkannon | F3: 60 | G3: x | I3: = | J3: =F3*H3 -> 0
A4: 20 Models. Models in Mega Armour counts as two models. | E4: Ard Case | F4: 15 | G4: x | I4: = | J4: =F4*H4 -> 0
E5: Deff Rolla* | F5: 20 | G5: x | I5: = | J5: =F5*H5 -> 0 | L5: * = May not take both a deff rolla and reinforced ram
A6: A Battlewagon with a killkannon has a transport capacity of 12 | E6: Red Paint Job | F6: 5 | G6: x | I6: = | J6: =F6*H6 -> 0
E7: Grot Riggers | F7: 5 | G7: x | I7: = | J7: =F7*H7 -> 0
E8: Stikkbomb Chukka | F8: 5 | G8: x | I8: = | J8: =F8*H8 -> 0
E9: Armour Plates | F9: 10 | G9: x | I9: = | J9: =F9*H9 -> 0
E10: Boarding Plank | F10: 5 | G10: x | I10: = | J10: =F10*H10 -> 0
E11: Wreckin' Ball | F11: 10 | G11: x | I11: = | J11: =F11*H11 -> 0
E12: Grabbin' Klaw | F12: 5 | G12: x | I12: = | J12: =F12*H12 -> 0
E13: Reinforced Ram* | F13: 5 | G13: x | I13: = | J13: =F13*H13 -> 0
E14: May take a single big gun (does not include crew):
E15: Kannon | F15: 10 | G15: x | I15: = | J15: =F15*H15 -> 0
E16: Lobba | F16: 15 | G16: x | I16: = | J16: =F16*H16 -> 0
E17: Zzap Gun | F17: 15 | G17: x | I17: = | J17: =F17*H17 -> 0
E18: May take up to 4 of the following:
E19: Big Shoota | F19: 5 | G19: x | I19: = | J19: =F19*H19 -> 0
E20: Rokkit Launchas | F20: 10 | G20: x | I20: = | J20: =F20*H20 -> 0
A21: Unit Type: (Tank, Open-Topped) | H21: Total Unit Price = | J21: =C2*D2+SUM(J3:J20) -> 0
A23: Unit Name | B23: Min/Max Models Per Unit | C23: Points per Model | D23: Number Of Models | E23: Options | F23: Cost | G23: x | H23: Amount | I23: = | J23: Total Upgrade Price | K23: Comments
A24: Deff Dread | B24: 1 | C24: 75 | E24: The Deff Dread must take two of the following:
A25: Wargear: | E25: Big Shoota | F25: 5 | G25: x | I25: = | J25: =F25*H25 -> 0
A26: Two Dreadnought close combat weapons (each additional gives +1 attack) | E26: Rokkit Launcha | F26: 10 | G26: x | I26: = | J26: =F26*H26 -> 0
E27: Kustom Mega-Blasta | F27: 15 | G27: x | I27: = | J27: =F27*H27 -> 0
E28: Skorcha | F28: 5 | G28: x | I28: = | J28: =F28*H28 -> 0
E29: Dreadnought Close Combat Weapon | F29: 15 | G29: x | I29: = | J29: =F29*H29 -> 0
E30: May take any of the following:
E31: Grot Riggers | F31: 5 | G31: x | I31: = | J31: =F31*H31 -> 0
E32: Armour Plates | F32: 10 | G32: x | I32: = | J32: =F32*H32 -> 0
A33: Unit Type: Walker | H33: Total Unit Price = | J33: =C24*D24+SUM(J25:J32) -> 0
A36: Unit Name | B36: Min/Max Models Per Unit | C36: Points per Model | D36: Number Of Models | E36: Options | F36: Cost | G36: x | H36: Amount | I36: = | J36: Total Upgrade Price | K36: Comments
A37: Killa Kans | B37: 1 to 3 | C37: 35 | E37: Each Killa Kan must take one of the following:
A38: Wargear: | E38: Big Shoota | F38: 5 | G38: x | I38: = | J38: =F38*H38 -> 0
A39: Dreadnought close combat weapon | E39: Rokkit Launcha | F39: 15 | G39: x | I39: = | J39: =F39*H39 -> 0
E40: Kustom Mega-Blasta | F40: 20 | G40: x | I40: = | J40: =F40*H40 -> 0
E41: Skorcha | F41: 5 | G41: x | I41: = | J41: =F41*H41 -> 0
E42: Grotzooka | F42: 10 | G42: x | I42: = | J42: =F42*H42 -> 0
E43: Any Killa Kan may take any of the following:
E44: Grot Riggers | F44: 5 | G44: x | I44: = | J44: =F44*H44 -> 0
E45: Armour Plates | F45: 10 | G45: x | I45: = | J45: =F45*H45 -> 0
A46: Unit Type: Walker | H46: Total Unit Price = | J46: =C37*D37+SUM(J38:J45) -> 0
A49: Unit Name | B49: Min/Max Models Per Unit | C49: Points per Model | D49: Number Of Models | E49: Options | F49: Cost | G49: x | H49: Amount | I49: = | J49: Total Upgrade Price | K49: Comments
A50: Flash Gitz | B50: 5 to 10 | C50: 25 | E50: The unit may take any of the following:
A51: Wargear: | B51: Special Rules: | E51: More Dakka | F51: 5 | G51: x | I51: = | J51: =F51*H51 -> 0
A52: Eavy Armour | B52: Furious Charge | C52: Painboy replaces 'eavy | E52: Shootier | F52: 5 | G52: x | I52: = | J52: =F52*H52 -> 0
A53: Snazzgun | B53: Mob Rule | C53: armour, snazzgun and | E53: Blastas | F53: 5 | G53: x | I53: = | J53: =F53*H53 -> 0
E54: The unit may include up to three:
A55: Gitfinda | B55: Waaagh! | C55: gitfinda with dok's tools | E55: Ammo Runts | F55: 5 | G55: x | I55: = | J55: =F55*H55 -> 0
C56: and 'urty syringe | E56: One Flash Gitz mob may be led by:
E57: Kaptain Badrukk | F57: 135 | G57: x | I57: = | J57: =F57*H57 -> 0
E58: One Flash Git may be a Painboy:
E59: Painboy | F59: 30 | G59: x | I59: = | J59: =F59*H59 -> 0
E60: Painboy, Orderly | F60: 5 | G60: x | I60: = | J60: =F60*H60 -> 0
E61: All models in the Painboy's unit may have
E62: Cybork Bodies | F62: 5 | G62: x | I62: = | J62: =F62*H62 -> 0
A63: Unit Type: Infantry | H63: Total Unit Price = | J63: =C50*D50+SUM(J51:J62) -> 0
A66: Unit Name | B66: Min/Max Models Per Unit | C66: Points per Model | D66: Number Of Models | E66: Options | F66: Cost | G66: x | H66: Amount | I66: = | J66: Total Upgrade Price | K66: Comments
A67: Big Gunz | B67: 1 to 3 | C67: 20 | E67: The Big Gunz must all be of the same type of gun chose from the following types
A68: Wargear: | B68: Special Rules: | E68: Kannons | F68: 0 | G68: x | I68: = | J68: =F68*H68 -> 0
A69: Gretchin: | B69: Grechin: | E69: Lobbas | F69: 5 | G69: x | I69: = | J69: =F69*H69 -> 0
A70: None | B70: None | E70: Zzap Guns | F70: 10 | G70: x | I70: = | J70: =F70*H70 -> 0
E71: The Battery may include any of the following:
A72: Runtherds: | B72: Runtherds: | E72: Ammo Runts | F72: 3 | G72: x | I72: = | J72: =F72*H72 -> 0 | K72: Up to 3
A73: Grabba Stikk | B73: Furious Charge | E73: Grot Krew | F73: 3 | G73: x | I73: = | J73: =F73*H73 -> 0 | K73: Up to 6
A74: Slugga | E74: The unit may include a Runtherd:
A75: Squig Hound | E75: Runtherd | F75: 10 | G75: x | I75: = | J75: =F75*H75 -> 0
E76: Runtherd, Grot Prod | F76: 5 | G76: x | I76: = | J76: =F76*H76 -> 0 | K76: Replace Grabba Stikk
A77: Unit Type: Artillery | H77: Total Unit Price = | J77: =C67*D67+SUM(J68:J76) -> 0
A80: Unit Name | B80: Min/Max Models Per Unit | C80: Points per Model | D80: Number Of Models | E80: Options | F80: Cost | G80: x | H80: Amount | I80: = | J80: Total Upgrade Price | K80: Comments
A81: Looted Wagon | B81: 1 | C81: 35 | E81: May take one of the following:
A82: Special Rules: | B82: Transport Capacity | E82: Boomgun | F82: 70 | G82: x | I82: = | J82: =F82*H82 -> 0
A83: Don't Press Dat! | B83: 12 Models. Models with mega armour counts as | E83: Skorcha | F83: 15 | G83: x | I83: = | J83: =F83*H83 -> 0
B84: two models. | E84: May take up to two of the following:
E85: Big Shoota | F85: 5 | G85: x | I85: = | J85: =F85*H85 -> 0
B86: A Looted Wagon with a boomgun loses its | E86: Rokkit Launcha | F86: 10 | G86: x | I86: = | J86: =F86*H86 -> 0
B87: transport capacity altogether | E87: May take any of the following:
E88: Ard Case | F88: 10 | G88: x | I88: = | J88: =F88*H88 -> 0
E89: Red Paint Job | F89: 5 | G89: x | I89: = | J89: =F89*H89 -> 0
E90: Grot Riggers | F90: 5 | G90: x | I90: = | J90: =F90*H90 -> 0
E91: Stikkbomb Chukka | F91: 5 | G91: x | I91: = | J91: =F91*H91 -> 0
E92: Armour Plates | F92: 10 | G92: x | I92: = | J92: =F92*H92 -> 0
E93: Boarding Plank | F93: 5 | G93: x | I93: = | J93: =F93*H93 -> 0
E94: Wreckin' Ball | F94: 10 | G94: x | I94: = | J94: =F94*H94 -> 0
E95: Reinforced Ram | F95: 5 | G95: x | I95: = | J95: =F95*H95 -> 0
E96: Grabbin' Klaw | F96: 5 | G96: x | I96: = | J96: =F96*H96 -> 0
A97: Unit Type: Vehicle (Tank, Open-Topped) | H97: Total Unit Price = | J97: =C81*D81+SUM(J82:J96) -> 0

Sheet Heavy Support (3)
A1: Unit Name | B1: Min/Max Models Per Unit | C1: Points per Model | D1: Number Of Models | E1: Options | F1: Cost | G1: x | H1: Amount | I1: = | J1: Total Upgrade Price | K1: Comments
A2: Battlewagon | B2: 1 | C2: 90 | E2: May take any of the following:
A3: Transport Capacity | E3: Killkannon | F3: 60 | G3: x | I3: = | J3: =F3*H3 -> 0
A4: 20 Models. Models in Mega Armour counts as two models. | E4: Ard Case | F4: 15 | G4: x | I4: = | J4: =F4*H4 -> 0
E5: Deff Rolla* | F5: 20 | G5: x | I5: = | J5: =F5*H5 -> 0 | L5: * = May not take both a deff rolla and reinforced ram
A6: A Battlewagon with a killkannon has a transport capacity of 12 | E6: Red Paint Job | F6: 5 | G6: x | I6: = | J6: =F6*H6 -> 0
E7: Grot Riggers | F7: 5 | G7: x | I7: = | J7: =F7*H7 -> 0
E8: Stikkbomb Chukka | F8: 5 | G8: x | I8: = | J8: =F8*H8 -> 0
E9: Armour Plates | F9: 10 | G9: x | I9: = | J9: =F9*H9 -> 0
E10: Boarding Plank | F10: 5 | G10: x | I10: = | J10: =F10*H10 -> 0
E11: Wreckin' Ball | F11: 10 | G11: x | I11: = | J11: =F11*H11 -> 0
E12: Grabbin' Klaw | F12: 5 | G12: x | I12: = | J12: =F12*H12 -> 0
E13: Reinforced Ram* | F13: 5 | G13: x | I13: = | J13: =F13*H13 -> 0
E14: May take a single big gun (does not include crew):
E15: Kannon | F15: 10 | G15: x | I15: = | J15: =F15*H15 -> 0
E16: Lobba | F16: 15 | G16: x | I16: = | J16: =F16*H16 -> 0
E17: Zzap Gun | F17: 15 | G17: x | I17: = | J17: =F17*H17 -> 0
E18: May take up to 4 of the following:
E19: Big Shoota | F19: 5 | G19: x | I19: = | J19: =F19*H19 -> 0
E20: Rokkit Launchas | F20: 10 | G20: x | I20: = | J20: =F20*H20 -> 0
A21: Unit Type: (Tank, Open-Topped) | H21: Total Unit Price = | J21: =C2*D2+SUM(J3:J20) -> 0
A23: Unit Name | B23: Min/Max Models Per Unit | C23: Points per Model | D23: Number Of Models | E23: Options | F23: Cost | G23: x | H23: Amount | I23: = | J23: Total Upgrade Price | K23: Comments
A24: Deff Dread | B24: 1 | C24: 75 | E24: The Deff Dread must take two of the following:
A25: Wargear: | E25: Big Shoota | F25: 5 | G25: x | I25: = | J25: =F25*H25 -> 0
A26: Two Dreadnought close combat weapons (each additional gives +1 attack) | E26: Rokkit Launcha | F26: 10 | G26: x | I26: = | J26: =F26*H26 -> 0
E27: Kustom Mega-Blasta | F27: 15 | G27: x | I27: = | J27: =F27*H27 -> 0
E28: Skorcha | F28: 5 | G28: x | I28: = | J28: =F28*H28 -> 0
E29: Dreadnought Close Combat Weapon | F29: 15 | G29: x | I29: = | J29: =F29*H29 -> 0
E30: May take any of the following:
E31: Grot Riggers | F31: 5 | G31: x | I31: = | J31: =F31*H31 -> 0
E32: Armour Plates | F32: 10 | G32: x | I32: = | J32: =F32*H32 -> 0
A33: Unit Type: Walker | H33: Total Unit Price = | J33: =C24*D24+SUM(J25:J32) -> 0
A36: Unit Name | B36: Min/Max Models Per Unit | C36: Points per Model | D36: Number Of Models | E36: Options | F36: Cost | G36: x | H36: Amount | I36: = | J36: Total Upgrade Price | K36: Comments
A37: Killa Kans | B37: 1 to 3 | C37: 35 | E37: Each Killa Kan must take one of the following:
A38: Wargear: | E38: Big Shoota | F38: 5 | G38: x | I38: = | J38: =F38*H38 -> 0
A39: Dreadnought close combat weapon | E39: Rokkit Launcha | F39: 15 | G39: x | I39: = | J39: =F39*H39 -> 0
E40: Kustom Mega-Blasta | F40: 20 | G40: x | I40: = | J40: =F40*H40 -> 0
E41: Skorcha | F41: 5 | G41: x | I41: = | J41: =F41*H41 -> 0
E42: Grotzooka | F42: 10 | G42: x | I42: = | J42: =F42*H42 -> 0
E43: Any Killa Kan may take any of the following:
E44: Grot Riggers | F44: 5 | G44: x | I44: = | J44: =F44*H44 -> 0
E45: Armour Plates | F45: 10 | G45: x | I45: = | J45: =F45*H45 -> 0
A46: Unit Type: Walker | H46: Total Unit Price = | J46: =C37*D37+SUM(J38:J45) -> 0
A49: Unit Name | B49: Min/Max Models Per Unit | C49: Points per Model | D49: Number Of Models | E49: Options | F49: Cost | G49: x | H49: Amount | I49: = | J49: Total Upgrade Price | K49: Comments
A50: Flash Gitz | B50: 5 to 10 | C50: 25 | E50: The unit may take any of the following:
A51: Wargear: | B51: Special Rules: | E51: More Dakka | F51: 5 | G51: x | I51: = | J51: =F51*H51 -> 0
A52: Eavy Armour | B52: Furious Charge | C52: Painboy replaces 'eavy | E52: Shootier | F52: 5 | G52: x | I52: = | J52: =F52*H52 -> 0
A53: Snazzgun | B53: Mob Rule | C53: armour, snazzgun and | E53: Blastas | F53: 5 | G53: x | I53: = | J53: =F53*H53 -> 0
E54: The unit may include up to three:
A55: Gitfinda | B55: Waaagh! | C55: gitfinda with dok's tools | E55: Ammo Runts | F55: 5 | G55: x | I55: = | J55: =F55*H55 -> 0
C56: and 'urty syringe | E56: One Flash Gitz mob may be led by:
E57: Kaptain Badrukk | F57: 135 | G57: x | I57: = | J57: =F57*H57 -> 0
E58: One Flash Git may be a Painboy:
E59: Painboy | F59: 30 | G59: x | I59: = | J59: =F59*H59 -> 0
E60: Painboy, Orderly | F60: 5 | G60: x | I60: = | J60: =F60*H60 -> 0
E61: All models in the Painboy's unit may have
E62: Cybork Bodies | F62: 5 | G62: x | I62: = | J62: =F62*H62 -> 0
A63: Unit Type: Infantry | H63: Total Unit Price = | J63: =C50*D50+SUM(J51:J62) -> 0
A66: Unit Name | B66: Min/Max Models Per Unit | C66: Points per Model | D66: Number Of Models | E66: Options | F66: Cost | G66: x | H66: Amount | I66: = | J66: Total Upgrade Price | K66: Comments
A67: Big Gunz | B67: 1 to 3 | C67: 20 | E67: The Big Gunz must all be of the same type of gun chose from the following types
A68: Wargear: | B68: Special Rules: | E68: Kannons | F68: 0 | G68: x | I68: = | J68: =F68*H68 -> 0
A69: Gretchin: | B69: Grechin: | E69: Lobbas | F69: 5 | G69: x | I69: = | J69: =F69*H69 -> 0
A70: None | B70: None | E70: Zzap Guns | F70: 10 | G70: x | I70: = | J70: =F70*H70 -> 0
E71: The Battery may include any of the following:
A72: Runtherds: | B72: Runtherds: | E72: Ammo Runts | F72: 3 | G72: x | I72: = | J72: =F72*H72 -> 0 | K72: Up to 3
A73: Grabba Stikk | B73: Furious Charge | E73: Grot Krew | F73: 3 | G73: x | I73: = | J73: =F73*H73 -> 0 | K73: Up to 6
A74: Slugga | E74: The unit may include a Runtherd:
A75: Squig Hound | E75: Runtherd | F75: 10 | G75: x | I75: = | J75: =F75*H75 -> 0
E76: Runtherd, Grot Prod | F76: 5 | G76: x | I76: = | J76: =F76*H76 -> 0 | K76: Replace Grabba Stikk
A77: Unit Type: Artillery | H77: Total Unit Price = | J77: =C67*D67+SUM(J68:J76) -> 0
A80: Unit Name | B80: Min/Max Models Per Unit | C80: Points per Model | D80: Number Of Models | E80: Options | F80: Cost | G80: x | H80: Amount | I80: = | J80: Total Upgrade Price | K80: Comments
A81: Looted Wagon | B81: 1 | C81: 35 | E81: May take one of the following:
A82: Special Rules: | B82: Transport Capacity | E82: Boomgun | F82: 70 | G82: x | I82: = | J82: =F82*H82 -> 0
A83: Don't Press Dat! | B83: 12 Models. Models with mega armour counts as | E83: Skorcha | F83: 15 | G83: x | I83: = | J83: =F83*H83 -> 0
B84: two models. | E84: May take up to two of the following:
E85: Big Shoota | F85: 5 | G85: x | I85: = | J85: =F85*H85 -> 0
B86: A Looted Wagon with a boomgun loses its | E86: Rokkit Launcha | F86: 10 | G86: x | I86: = | J86: =F86*H86 -> 0
B87: transport capacity altogether | E87: May take any of the following:
E88: Ard Case | F88: 10 | G88: x | I88: = | J88: =F88*H88 -> 0
E89: Red Paint Job | F89: 5 | G89: x | I89: = | J89: =F89*H89 -> 0
E90: Grot Riggers | F90: 5 | G90: x | I90: = | J90: =F90*H90 -> 0
E91: Stikkbomb Chukka | F91: 5 | G91: x | I91: = | J91: =F91*H91 -> 0
E92: Armour Plates | F92: 10 | G92: x | I92: = | J92: =F92*H92 -> 0
E93: Boarding Plank | F93: 5 | G93: x | I93: = | J93: =F93*H93 -> 0
E94: Wreckin' Ball | F94: 10 | G94: x | I94: = | J94: =F94*H94 -> 0
E95: Reinforced Ram | F95: 5 | G95: x | I95: = | J95: =F95*H95 -> 0
E96: Grabbin' Klaw | F96: 5 | G96: x | I96: = | J96: =F96*H96 -> 0
A97: Unit Type: Vehicle (Tank, Open-Topped) | H97: Total Unit Price = | J97: =C81*D81+SUM(J82:J96) -> 0

Sheet Dedicated Transports
A1: Unit Name | B1: Min/Max Models Per Unit | C1: Points per Model | D1: Number Of Models | E1: Options | F1: Cost | G1: x | H1: Amount | I1: = | J1: Total Upgrade Price | K1: Comments
A2: Trukk | B2: 1 | C2: 35 | E2: Replace Big Shoota With Rokkit Launcha:
A3: Wargear: | B3: Special Rules: | C3: Transport Capacity | E3: Rokkit Launcha | F3: 5 | G3: x | I3: = | J3: =F3*H3 -> 0
A4: Big Shoota | B4: Ramshackle | C4: 12 Models. | E4: May take any of the following:
C5: Mega Armoured | E5: Red Paint Job | F5: 5 | G5: x | I5: = | J5: =F5*H5 -> 0
C6: models counts as | E6: Grot Riggers | F6: 5 | G6: x | I6: = | J6: =F6*H6 -> 0
C7: 2 models. | E7: Stikkbomb Chukka | F7: 5 | G7: x | I7: = | J7: =F7*H7 -> 0
E8: Armour Plates | F8: 10 | G8: x | I8: = | J8: =F8*H8 -> 0
E9: Boarding Plank | F9: 5 | G9: x | I9: = | J9: =F9*H9 -> 0
E10: Wreckin' Ball | F10: 10 | G10: x | I10: = | J10: =F10*H10 -> 0
E11: Reinforced Ram | F11: 5 | G11: x | I11: = | J11: =F11*H11 -> 0
A12: Unit Type: Behicle (Fast, Open-topped) | H12: Total Unit Price = | J12: =C2*D2+SUM(J3:J11) -> 0
A15: Unit Name | B15: Min/Max Models Per Unit | C15: Points per Model | D15: Number Of Models | E15: Options | F15: Cost | G15: x | H15: Amount | I15: = | J15: Total Upgrade Price | K15: Comments
A16: Trukk | B16: 1 | C16: 35 | E16: Replace Big Shoota With Rokkit Launcha:
A17: Wargear: | B17: Special Rules: | C17: Transport Capacity | E17: Rokkit Launcha | F17: 5 | G17: x | I17: = | J17: =F17*H17 -> 0
A18: Big Shoota | B18: Ramshackle | C18: 12 Models. | E18: May take any of the following:
C19: Mega Armoured | E19: Red Paint Job | F19: 5 | G19: x | I19: = | J19: =F19*H19 -> 0
C20: models counts as | E20: Grot Riggers | F20: 5 | G20: x | I20: = | J20: =F20*H20 -> 0
C21: 2 models. | E21: Stikkbomb Chukka | F21: 5 | G21: x | I21: = | J21: =F21*H21 -> 0
E22: Armour Plates | F22: 10 | G22: x | I22: = | J22: =F22*H22 -> 0
E23: Boarding Plank | F23: 5 | G23: x | I23: = | J23: =F23*H23 -> 0
E24: Wreckin' Ball | F24: 10 | G24: x | I24: = | J24: =F24*H24 -> 0
E25: Reinforced Ram | F25: 5 | G25: x | I25: = | J25: =F25*H25 -> 0
A26: Unit Type: Behicle (Fast, Open-topped) | H26: Total Unit Price = | J26: =C16*D16+SUM(J17:J25) -> 0
A29: Unit Name | B29: Min/Max Models Per Unit | C29: Points per Model | D29: Number Of Models | E29: Options | F29: Cost | G29: x | H29: Amount | I29: = | J29: Total Upgrade Price | K29: Comments
A30: Trukk | B30: 1 | C30: 35 | E30: Replace Big Shoota With Rokkit Launcha:
A31: Wargear: | B31: Special Rules: | C31: Transport Capacity | E31: Rokkit Launcha | F31: 5 | G31: x | I31: = | J31: =F31*H31 -> 0
A32: Big Shoota | B32: Ramshackle | C32: 12 Models. | E32: May take any of the following:
C33: Mega Armoured | E33: Red Paint Job | F33: 5 | G33: x | I33: = | J33: =F33*H33 -> 0
C34: models counts as | E34: Grot Riggers | F34: 5 | G34: x | I34: = | J34: =F34*H34 -> 0
C35: 2 models. | E35: Stikkbomb Chukka | F35: 5 | G35: x | I35: = | J35: =F35*H35 -> 0
E36: Armour Plates | F36: 10 | G36: x | I36: = | J36: =F36*H36 -> 0
E37: Boarding Plank | F37: 5 | G37: x | I37: = | J37: =F37*H37 -> 0
E38: Wreckin' Ball | F38: 10 | G38: x | I38: = | J38: =F38*H38 -> 0
E39: Reinforced Ram | F39: 5 | G39: x | I39: = | J39: =F39*H39 -> 0
A40: Unit Type: Behicle (Fast, Open-topped) | H40: Total Unit Price = | J40: =C30*D30+SUM(J31:J39) -> 0
A43: Unit Name | B43: Min/Max Models Per Unit | C43: Points per Model | D43: Number Of Models | E43: Options | F43: Cost | G43: x | H43: Amount | I43: = | J43: Total Upgrade Price | K43: Comments
A44: Trukk | B44: 1 | C44: 35 | E44: Replace Big Shoota With Rokkit Launcha:
A45: Wargear: | B45: Special Rules: | C45: Transport Capacity | E45: Rokkit Launcha | F45: 5 | G45: x | I45: = | J45: =F45*H45 -> 0
A46: Big Shoota | B46: Ramshackle | C46: 12 Models. | E46: May take any of the following:
C47: Mega Armoured | E47: Red Paint Job | F47: 5 | G47: x | I47: = | J47: =F47*H47 -> 0
C48: models counts as | E48: Grot Riggers | F48: 5 | G48: x | I48: = | J48: =F48*H48 -> 0
C49: 2 models. | E49: Stikkbomb Chukka | F49: 5 | G49: x | I49: = | J49: =F49*H49 -> 0
E50: Armour Plates | F50: 10 | G50: x | I50: = | J50: =F50*H50 -> 0
E51: Boarding Plank | F51: 5 | G51: x | I51: = | J51: =F51*H51 -> 0
E52: Wreckin' Ball | F52: 10 | G52: x | I52: = | J52: =F52*H52 -> 0
E53: Reinforced Ram | F53: 5 | G53: x | I53: = | J53: =F53*H53 -> 0
A54: Unit Type: Behicle (Fast, Open-topped) | H54: Total Unit Price = | J54: =C44*D44+SUM(J45:J53) -> 0
A57: Unit Name | B57: Min/Max Models Per Unit | C57: Points per Model | D57: Number Of Models | E57: Options | F57: Cost | G57: x | H57: Amount | I57: = | J57: Total Upgrade Price | K57: Comments
A58: Trukk | B58: 1 | C58: 35 | E58: Replace Big Shoota With Rokkit Launcha:
A59: Wargear: | B59: Special Rules: | C59: Transport Capacity | E59: Rokkit Launcha | F59: 5 | G59: x | I59: = | J59: =F59*H59 -> 0
A60: Big Shoota | B60: Ramshackle | C60: 12 Models. | E60: May take any of the following:
C61: Mega Armoured | E61: Red Paint Job | F61: 5 | G61: x | I61: = | J61: =F61*H61 -> 0
C62: models counts as | E62: Grot Riggers | F62: 5 | G62: x | I62: = | J62: =F62*H62 -> 0
C63: 2 models. | E63: Stikkbomb Chukka | F63: 5 | G63: x | I63: = | J63: =F63*H63 -> 0
E64: Armour Plates | F64: 10 | G64: x | I64: = | J64: =F64*H64 -> 0
E65: Boarding Plank | F65: 5 | G65: x | I65: = | J65: =F65*H65 -> 0
E66: Wreckin' Ball | F66: 10 | G66: x | I66: = | J66: =F66*H66 -> 0
E67: Reinforced Ram | F67: 5 | G67: x | I67: = | J67: =F67*H67 -> 0
A68: Unit Type: Behicle (Fast, Open-topped) | H68: Total Unit Price = | J68: =C58*D58+SUM(J59:J67) -> 0
A71: Unit Name | B71: Min/Max Models Per Unit | C71: Points per Model | D71: Number Of Models | E71: Options | F71: Cost | G71: x | H71: Amount | I71: = | J71: Total Upgrade Price | K71: Comments
A72: Trukk | B72: 1 | C72: 35 | E72: Replace Big Shoota With Rokkit Launcha:
A73: Wargear: | B73: Special Rules: | C73: Transport Capacity | E73: Rokkit Launcha | F73: 5 | G73: x | I73: = | J73: =F73*H73 -> 0
A74: Big Shoota | B74: Ramshackle | C74: 12 Models. | E74: May take any of the following:
C75: Mega Armoured | E75: Red Paint Job | F75: 5 | G75: x | I75: = | J75: =F75*H75 -> 0
C76: models counts as | E76: Grot Riggers | F76: 5 | G76: x | I76: = | J76: =F76*H76 -> 0
C77: 2 models. | E77: Stikkbomb Chukka | F77: 5 | G77: x | I77: = | J77: =F77*H77 -> 0
E78: Armour Plates | F78: 10 | G78: x | I78: = | J78: =F78*H78 -> 0
E79: Boarding Plank | F79: 5 | G79: x | I79: = | J79: =F79*H79 -> 0
E80: Wreckin' Ball | F80: 10 | G80: x | I80: = | J80: =F80*H80 -> 0
E81: Reinforced Ram | F81: 5 | G81: x | I81: = | J81: =F81*H81 -> 0
A82: Unit Type: Behicle (Fast, Open-topped) | H82: Total Unit Price = | J82: =C72*D72+SUM(J73:J81) -> 0
