Workbook

Sheet Cover 
B2: Campaign name:
B3: CHAOS RISING
B4: Campagin Information:
B5: Criteria | C5: Information
B6: Points Limit: | C6: 1500
B7: Battlefield Size: | C7: 4'' x 6''
B8: Mission Type: | C8: Capture The Relic
B9: Deployment Type: | C9: Random
B10: Participating forces:
B11: Force ID Number | C11: Force Name
B12: 1 | C12: World Eaters
B13: 2 | C13: Relictors
B14: 3 | C14: Dark Eldar
B15: 4 | C15: Cameron's Chaos
B16: 5 | C16: Vacant slot 5
B17: 6 | C17: Vacant slot 6
B18: 7 | C18: Vacant slot 7
B19: 8 | C19: Vacant slot 8
B20: 9 | C20: Vacant slot 9
B21: 10 | C21: Vacant slot 10

Sheet Battles
B2: Participating Forces: | D2: Victory Points Scored: | F2: Winner
B3: Force 1 | C3: Force 2 | D3: Force 1 | E3: Force 2 | F3: Force Name | G3: Victoy Points Won By
B4: World Eaters | C4: Dark Eldar | D4: 1 | E4: 2 | F4: =IF(I4=D4,B4,J4) -> Dark Eldar | G4: =MAX(D4:E4)-MIN(D4:E4) -> 1 | I4: =MAX(D4:E4) -> 2 | J4: =IF(I4=E4,C4,F4) -> Dark Eldar
B5: Cameron's Chaos | C5: Relictors | D5: 0 | E5: 12 | F5: =IF(I5=D5,B5,J5) -> Relictors | G5: =MAX(D5:E5)-MIN(D5:E5) -> 12 | I5: =MAX(D5:E5) -> 12 | J5: =IF(I5=E5,C5,F5) -> Relictors
B6: Relictors | C6: Dark Eldar | D6: 6 | E6: 0 | F6: =IF(I6=D6,B6,J6) -> Relictors | G6: =MAX(D6:E6)-MIN(D6:E6) -> 6 | I6: =MAX(D6:E6) -> 6 | J6: =IF(I6=E6,C6,F6) -> Relictors
B7: Cameron's Chaos | C7: World Eaters | D7: 3 | E7: 7 | F7: =IF(I7=D7,B7,J7) -> World Eaters | G7: =MAX(D7:E7)-MIN(D7:E7) -> 4 | I7: =MAX(D7:E7) -> 7 | J7: =IF(I7=E7,C7,F7) -> World Eaters
F8: =IF(I8=D8,B8,J8) -> 0 | G8: =MAX(D8:E8)-MIN(D8:E8) -> 0 | I8: =MAX(D8:E8) -> 0 | J8: =IF(I8=E8,C8,F8) -> 0
F9: =IF(I9=D9,B9,J9) -> 0 | G9: =MAX(D9:E9)-MIN(D9:E9) -> 0 | I9: =MAX(D9:E9) -> 0 | J9: =IF(I9=E9,C9,F9) -> 0
F10: =IF(I10=D10,B10,J10) -> 0 | G10: =MAX(D10:E10)-MIN(D10:E10) -> 0 | I10: =MAX(D10:E10) -> 0 | J10: =IF(I10=E10,C10,F10) -> 0
F11: =IF(I11=D11,B11,J11) -> 0 | G11: =MAX(D11:E11)-MIN(D11:E11) -> 0 | I11: =MAX(D11:E11) -> 0 | J11: =IF(I11=E11,C11,F11) -> 0
F12: =IF(I12=D12,B12,J12) -> 0 | G12: =MAX(D12:E12)-MIN(D12:E12) -> 0 | I12: =MAX(D12:E12) -> 0 | J12: =IF(I12=E12,C12,F12) -> 0
F13: =IF(I13=D13,B13,J13) -> 0 | G13: =MAX(D13:E13)-MIN(D13:E13) -> 0 | I13: =MAX(D13:E13) -> 0 | J13: =IF(I13=E13,C13,F13) -> 0
F14: =IF(I14=D14,B14,J14) -> 0 | G14: =MAX(D14:E14)-MIN(D14:E14) -> 0 | I14: =MAX(D14:E14) -> 0 | J14: =IF(I14=E14,C14,F14) -> 0
F15: =IF(I15=D15,B15,J15) -> 0 | G15: =MAX(D15:E15)-MIN(D15:E15) -> 0 | I15: =MAX(D15:E15) -> 0 | J15: =IF(I15=E15,C15,F15) -> 0
F16: =IF(I16=D16,B16,J16) -> 0 | G16: =MAX(D16:E16)-MIN(D16:E16) -> 0 | I16: =MAX(D16:E16) -> 0 | J16: =IF(I16=E16,C16,F16) -> 0
F17: =IF(I17=D17,B17,J17) -> 0 | G17: =MAX(D17:E17)-MIN(D17:E17) -> 0 | I17: =MAX(D17:E17) -> 0 | J17: =IF(I17=E17,C17,F17) -> 0
F18: =IF(I18=D18,B18,J18) -> 0 | G18: =MAX(D18:E18)-MIN(D18:E18) -> 0 | I18: =MAX(D18:E18) -> 0 | J18: =IF(I18=E18,C18,F18) -> 0
F19: =IF(I19=D19,B19,J19) -> 0 | G19: =MAX(D19:E19)-MIN(D19:E19) -> 0 | I19: =MAX(D19:E19) -> 0 | J19: =IF(I19=E19,C19,F19) -> 0
... F40: =IF(I40=D40,B40,J40) -> 0 | G40: =MAX(D40:E40)-MIN(D40:E40) -> 0 | I40: =MAX(D40:E40) -> 0 | J40: =IF(I40=E40,C40,F40) -> 0

Sheet Results Statistics
B2: Force Name: | C2: Force Name: | D2: Force Name: | E2: Force Name: | F2: Force Name: | G2: Force Name: | H2: Force Name: | I2: Force Name: | J2: Force Name: | K2: Force Name:
B3: ='Cover '!C12 -> World Eaters | C3: ='Cover '!C13 -> Relictors | D3: ='Cover '!C14 -> Dark Eldar | E3: ='Cover '!C15 -> Cameron's Chaos | F3: ='Cover '!C16 -> Vacant slot 5 | G3: ='Cover '!C17 -> Vacant slot 6 | H3: ='Cover '!C18 -> Vacant slot 7 | I3: ='Cover '!C19 -> Vacant slot 8 | J3: ='Cover '!C20 -> Vacant slot 9 | K3: ='Cover '!C21 -> Vacant slot 10
B4: Army Statistics: | C4: Army Statistics: | D4: Army Statistics: | E4: Army Statistics: | F4: Army Statistics: | G4: Army Statistics: | H4: Army Statistics: | I4: Army Statistics: | J4: Army Statistics: | K4: Army Statistics:
B5: TOTAL GAMES WON
B7: =CODE!A40 -> 1 | C7: =CODE!B40 -> 2 | D7: =CODE!C40 -> 1 | E7: =CODE!D40 -> 0 | F7: =CODE!E40 -> 0 | G7: =CODE!F40 -> 0 | H7: =CODE!G40 -> 0 | I7: =CODE!H40 -> 0 | ... K7: =CODE!J40 -> 0 | L7: =MAX(B7:K7) -> 2
B8: TOTAL GAMES LOST
B10: =B13-B7 -> 1 | C10: =C13-C7 -> 0 | D10: =D13-D7 -> 1 | E10: =E13-E7 -> 2 | F10: =F13-F7 -> 0 | G10: =G13-G7 -> 0 | H10: =H13-H7 -> 0 | I10: =I13-I7 -> 0 | ... K10: =K13-K7 -> 0 | L10: =MAX(B10:K10) -> 2
B11: TOTAL GAMES PLAYED | L11: =MAX(B11:K11) -> 0
L12: =MAX(B12:K12) -> 0
B13: =CODE!A117 -> 2 | C13: =CODE!B117 -> 2 | D13: =CODE!C117 -> 2 | E13: =CODE!D117 -> 2 | F13: =CODE!E117 -> 0 | G13: =CODE!F117 -> 0 | H13: =CODE!G117 -> 0 | I13: =CODE!H117 -> 0 | ... K13: =CODE!J117 -> 0 | L13: =MAX(B13:K13) -> 2
B14: TOTAL VICTORY POINTS EARNED
B16: =CODE!A79 -> 8 | C16: =CODE!B79 -> 18 | D16: =CODE!C79 -> 2 | E16: =CODE!D79 -> 3 | F16: =CODE!E79 -> 0 | G16: =CODE!F79 -> 0 | H16: =CODE!G79 -> 0 | I16: =CODE!H79 -> 0 | ... K16: =CODE!J79 -> 0 | L16: =MAX(B16:K16) -> 18
B17: AVERAGE GAMES WON
B19: =B7/B13 -> 0.5 | C19: =C7/C13 -> 1 | D19: =D7/D13 -> 0.5 | E19: =E7/E13 -> 0 | F19: =F7/F13 -> #DIV/0! | G19: =G7/G13 -> #DIV/0! | H19: =H7/H13 -> #DIV/0! | I19: =I7/I13 -> #DIV/0! | ... K19: =K7/K13 -> #DIV/0! | L19: =MAX(B19:K19) -> #DIV/0!
B20: AVERAGE GAMES LOST
B22: =B10/B13 -> 0.5 | C22: =C10/C13 -> 0 | D22: =D10/D13 -> 0.5 | E22: =E10/E13 -> 1 | F22: =F10/F13 -> #DIV/0! | G22: =G10/G13 -> #DIV/0! | H22: =H10/H13 -> #DIV/0! | I22: =I10/I13 -> #DIV/0! | ... K22: =K10/K13 -> #DIV/0! | L22: =MAX(B22:K22) -> #DIV/0!
B23: AVERAGE VICTORY POINTS EARNED
B25: =B16/B13 -> 4 | C25: =C16/C13 -> 9 | D25: =D16/D13 -> 1 | E25: =E16/E13 -> 1.5 | F25: =F16/F13 -> #DIV/0! | G25: =G16/G13 -> #DIV/0! | H25: =H16/H13 -> #DIV/0! | I25: =I16/I13 -> #DIV/0! | ... K25: =K16/K13 -> #DIV/0! | L25: =MAX(B25:K25) -> #DIV/0!

Sheet Results Graphed
L7: =MAX(B7:K7) -> 0
L10: =MAX(B10:K10) -> 0
L11: =MAX(B11:K11) -> 0
L12: =MAX(B12:K12) -> 0
L13: =MAX(B13:K13) -> 0
L16: =MAX(B16:K16) -> 0
L19: =MAX(B19:K19) -> 0
L22: =MAX(B22:K22) -> 0
L25: =MAX(B25:K25) -> 0

Sheet Lists
B2: Force Name: | D2: Force Name: | F2: Force Name: | H2: Force Name: | J2: Force Name: | L2: Force Name: | N2: Force Name: | P2: Force Name: | R2: Force Name: | T2: Force Name:
B3: ='Cover '!C12 -> World Eaters | D3: ='Cover '!C13 -> Relictors | F3: ='Cover '!C14 -> Dark Eldar | H3: ='Cover '!C15 -> Cameron's Chaos | L3: ='Cover '!C17 -> Vacant slot 6 | N3: ='Cover '!C18 -> Vacant slot 7 | P3: ='Cover '!C19 -> Vacant slot 8 | R3: ='Cover '!C20 -> Vacant slot 9 | T3: ='Cover '!C21 -> Vacant slot 10
B4: Description | C4: Points | D4: Description | E4: Points | F4: Description | G4: Points | H4: Description | I4: Points | J4: Description | K4: Points | L4: Description | M4: Points | N4: Description | O4: Points | P4: Description | Q4: Points | R4: Description | S4: Points | T4: Description | U4: Points
B5: HQ | D5: HQ | F5: HQ | H5: HQ
B6: Daemon Prince | C6: 145 | D6: Vulkan Hestan | E6: 190 | F6: Archon | G6: 60 | H6: Abbaddon | I6: 265
B7: Daemon Of Khorne | C7: 15 | F7: blast pistol | G7: 15
B8: Wings | C8: 40 | D8: Space Marine Captian | E8: 100 | F8: husk blade | G8: 35 | H8: Daemon Prince | I8: 145
B9: Power Armor | C9: 20 | D9: Lightning Claw | E9: 15 | F9: shadowfiled | G9: 30 | H9: Power Armor | I9: 20
B10: The Black Mace | C10: 45 | D10: Bike | E10: 35 | F10: soul trap | G10: 10 | H10: Wings | I10: 40
B11: gift of mutation | C11: 10 | F11: combat drugs | G11: 10 | H11: Black Mace | I11: 45
D12: TROOPS | F12: ghostplate armor | G12: 10 | H12: Master level 3 | I12: 75
B13: Chaos lord | C13: 65 | D13: 4 Space Marine Bikes | E13: 115 | H13: Daemon pof nurgle | I13: 15
B14: mark of khorne | C14: 10 | D14: 2 Flamers | E14: 10 | F14: Succubus | G14: 65
B15: axe of blind fury | C15: 35 | D15: Attack Bike | E15: 40 | F15: agoniser | G15: 20 | H15: TROOPS
B16: gift of mutation | C16: 10 | D16: Multi Melta | E16: 10 | H16: 5 chosen | I16: 90
F17: TROOPS | H17: flamer | I17: 5
B18: TROOPS | D18: 4 Space Marine Bikes | E18: 115 | F18: 5 Kabalite warriors | G18: 45 | H18: 4 meltaguns | I18: 40
B19: 7 berzerkers | C19: 143 | D19: 2 Flamers | E19: 10 | F19: Venom | G19: 55
B20: Power weapon | C20: 15 | D20: Attack Bike | E20: 40 | F20: splinter cannon | G20: 10 | H20: 5 chosen | I20: 90
D21: Multi Melta | E21: 10 | F21: night shields | G21: 10 | H21: flamer | I21: 5
B22: 5 marines | C22: 75 | H22: 4 meltaguns | I22: 40
B23: flamer | C23: 5 | D23: 4 Space Marine Bikes | E23: 115 | F23: 5 Kabalite warriors | G23: 45
B24: rhino | C24: 35 | D24: 2 Flamers | E24: 10 | F24: Venom | G24: 55 | H24: 5 chosen | I24: 90
D25: Attack Bike | E25: 40 | F25: splinter cannon | G25: 10 | H25: flamer | I25: 5
B26: HEAVY SUPPORT | D26: Multi Melta | E26: 10 | F26: night shields | G26: 10 | H26: 4 plasma guns | I26: 60
B27: Land Raider | C27: 230
D28: ELITES | F28: ELITES | H28: ELITES
B29: Maulerfiend | C29: 125 | D29: 5 Sternguard Veterans | E29: 125 | F29: 3 Kabalite trueborn | G29: 36 | H29: 3 terminators | I29: 95
B30: lasher tendrils | C30: 10 | D30: 2 Meltaguns | E30: 10 | F30: 2 dark lances | G30: 50 | H30: 3 combi meltas | I30: 15
D31: 3 Combi-meltas | E31: 15 | F31: 1 blaster | G31: 15
B32: Maulerfiend | C32: 125 | D32: Drop Pod | E32: 35 | F32: Venom | G32: 55 | H32: 3 terminators | I32: 95
B33: lasher tendrils | C33: 10 | F33: splinter cannon | G33: 10 | H33: 3 combi meltas | I33: 15
D34: FAST ATTACK | F34: night shields | G34: 10
B35: ALLIED HQ | D35: 3 Attack Bikes | E35: 120 | H35: Helbrute | I35: 100
B36: Bloodthirster | C36: 250 | D36: Multi Meltas | E36: 30 | F36: 3 Kabalite trueborn | G36: 36 | H36: Lascannon | I36: 25
F37: 2 dark lances | G37: 50
B38: ALLIED TROOPS | D38: 3 Attack Bikes | E38: 120 | F38: 1 blaster | G38: 15 | H38: Helbrute | I38: 100
B39: 5 Bloodletters | C39: 80 | D39: Multi Meltas | E39: 30 | F39: Venom | G39: 55 | H39: Lascannon | I39: 25
F40: splinter cannon | G40: 10
D41: 3 Attack Bikes | E41: 120 | F41: night shields | G41: 10
D42: Multi Meltas | E42: 30
F43: HEAVY SUPPORT
F44: voidraven bomber | G44: 145
F45: 2 implosion missiles | G45: 60
F46: nightfield | G46: 10
F48: Razorwing Jetfighter | G48: 145
F49: flickerfields | G49: 10
F50: 2 necrotoxins | G50: 10
F51: splintercannons | G51: 10
F53: ALLIED HQ
F54: Avatar | G54: 155
F56: ALLIED TROOPS
F57: 10 guardian | G57: 80
F58: starcannon | G58: 25
B85: Total Points | D85: Total Points | F85: Total Points | H85: Total Points | J85: Total Points | L85: Total Points | N85: Total Points | P85: Total Points | R85: Total Points | T85: Total Points
B86: =SUM(C5:C84) -> 1498 | D86: =SUM(E5:E84) -> 1500 | F86: =SUM(G5:G84) -> 1497 | H86: =SUM(I5:I84) -> 1500 | J86: =SUM(K5:K84) -> 0 | L86: =SUM(M5:M84) -> 0 | N86: =SUM(O5:O84) -> 0 | P86: =SUM(Q5:Q84) -> 0 | R86: =SUM(S5:S84) -> 0 | T86: =SUM(U5:U84) -> 0

Sheet CODE
A1: GAMES WON
A2: ='Cover '!C12 -> World Eaters | B2: ='Cover '!C13 -> Relictors | C2: ='Cover '!C14 -> Dark Eldar | D2: ='Cover '!C15 -> Cameron's Chaos | E2: ='Cover '!C16 -> Vacant slot 5 | F2: ='Cover '!C17 -> Vacant slot 6 | G2: ='Cover '!C18 -> Vacant slot 7 | H2: ='Cover '!C19 -> Vacant slot 8 | I2: ='Cover '!C20 -> Vacant slot 9 | J2: ='Cover '!$C21 -> Vacant slot 10
A3: =IF(Battles!$F4=CODE!A2,1,0) -> 0 | B3: =IF(Battles!$F4=CODE!B$2,1,0) -> 0 | C3: =IF(Battles!$F4=CODE!C$2,1,0) -> 1 | D3: =IF(Battles!$F4=CODE!D$2,1,0) -> 0 | E3: =IF(Battles!$F4=CODE!E$2,1,0) -> 0 | F3: =IF(Battles!$F4=CODE!F$2,1,0) -> 0 | G3: =IF(Battles!$F4=CODE!G$2,1,0) -> 0 | H3: =IF(Battles!$F4=CODE!H$2,1,0) -> 0 | I3: =IF(Battles!$F4=CODE!I$2,1,0) -> 0 | J3: =IF(Battles!$F4=CODE!J$2,1,0) -> 0
A4: =IF(Battles!F5=CODE!A2,1,0) -> 0 | B4: =IF(Battles!$F5=CODE!$B$2,1,0) -> 1 | C4: =IF(Battles!$F5=CODE!C$2,1,0) -> 0 | D4: =IF(Battles!$F5=CODE!D$2,1,0) -> 0 | E4: =IF(Battles!$F5=CODE!E$2,1,0) -> 0 | F4: =IF(Battles!$F5=CODE!F$2,1,0) -> 0 | G4: =IF(Battles!$F5=CODE!G$2,1,0) -> 0 | H4: =IF(Battles!$F5=CODE!H$2,1,0) -> 0 | I4: =IF(Battles!$F5=CODE!I$2,1,0) -> 0 | J4: =IF(Battles!$F5=CODE!J$2,1,0) -> 0
A5: =IF(Battles!F6=CODE!A2,1,0) -> 0 | B5: =IF(Battles!$F6=CODE!$B$2,1,0) -> 1 | C5: =IF(Battles!$F6=CODE!C$2,1,0) -> 0 | D5: =IF(Battles!$F6=CODE!D$2,1,0) -> 0 | E5: =IF(Battles!$F6=CODE!E$2,1,0) -> 0 | F5: =IF(Battles!$F6=CODE!F$2,1,0) -> 0 | G5: =IF(Battles!$F6=CODE!G$2,1,0) -> 0 | H5: =IF(Battles!$F6=CODE!H$2,1,0) -> 0 | I5: =IF(Battles!$F6=CODE!I$2,1,0) -> 0 | J5: =IF(Battles!$F6=CODE!J$2,1,0) -> 0
A6: =IF(Battles!F7=CODE!A2,1,0) -> 1 | B6: =IF(Battles!$F7=CODE!$B$2,1,0) -> 0 | C6: =IF(Battles!$F7=CODE!C$2,1,0) -> 0 | D6: =IF(Battles!$F7=CODE!D$2,1,0) -> 0 | E6: =IF(Battles!$F7=CODE!E$2,1,0) -> 0 | F6: =IF(Battles!$F7=CODE!F$2,1,0) -> 0 | G6: =IF(Battles!$F7=CODE!G$2,1,0) -> 0 | H6: =IF(Battles!$F7=CODE!H$2,1,0) -> 0 | I6: =IF(Battles!$F7=CODE!I$2,1,0) -> 0 | J6: =IF(Battles!$F7=CODE!J$2,1,0) -> 0
A7: =IF(Battles!F8=CODE!A2,1,0) -> 0 | B7: =IF(Battles!$F8=CODE!$B$2,1,0) -> 0 | C7: =IF(Battles!$F8=CODE!C$2,1,0) -> 0 | D7: =IF(Battles!$F8=CODE!D$2,1,0) -> 0 | E7: =IF(Battles!$F8=CODE!E$2,1,0) -> 0 | F7: =IF(Battles!$F8=CODE!F$2,1,0) -> 0 | G7: =IF(Battles!$F8=CODE!G$2,1,0) -> 0 | H7: =IF(Battles!$F8=CODE!H$2,1,0) -> 0 | I7: =IF(Battles!$F8=CODE!I$2,1,0) -> 0 | J7: =IF(Battles!$F8=CODE!J$2,1,0) -> 0
A8: =IF(Battles!F9=CODE!A2,1,0) -> 0 | B8: =IF(Battles!$F9=CODE!$B$2,1,0) -> 0 | C8: =IF(Battles!$F9=CODE!C$2,1,0) -> 0 | D8: =IF(Battles!$F9=CODE!D$2,1,0) -> 0 | E8: =IF(Battles!$F9=CODE!E$2,1,0) -> 0 | F8: =IF(Battles!$F9=CODE!F$2,1,0) -> 0 | G8: =IF(Battles!$F9=CODE!G$2,1,0) -> 0 | H8: =IF(Battles!$F9=CODE!H$2,1,0) -> 0 | I8: =IF(Battles!$F9=CODE!I$2,1,0) -> 0 | J8: =IF(Battles!$F9=CODE!J$2,1,0) -> 0
A9: =IF(Battles!F10=CODE!A2,1,0) -> 0 | B9: =IF(Battles!$F10=CODE!$B$2,1,0) -> 0 | C9: =IF(Battles!$F10=CODE!C$2,1,0) -> 0 | D9: =IF(Battles!$F10=CODE!D$2,1,0) -> 0 | E9: =IF(Battles!$F10=CODE!E$2,1,0) -> 0 | F9: =IF(Battles!$F10=CODE!F$2,1,0) -> 0 | G9: =IF(Battles!$F10=CODE!G$2,1,0) -> 0 | H9: =IF(Battles!$F10=CODE!H$2,1,0) -> 0 | I9: =IF(Battles!$F10=CODE!I$2,1,0) -> 0 | J9: =IF(Battles!$F10=CODE!J$2,1,0) -> 0
A10: =IF(Battles!F11=CODE!A2,1,0) -> 0 | B10: =IF(Battles!$F11=CODE!$B$2,1,0) -> 0 | C10: =IF(Battles!$F11=CODE!C$2,1,0) -> 0 | D10: =IF(Battles!$F11=CODE!D$2,1,0) -> 0 | E10: =IF(Battles!$F11=CODE!E$2,1,0) -> 0 | F10: =IF(Battles!$F11=CODE!F$2,1,0) -> 0 | G10: =IF(Battles!$F11=CODE!G$2,1,0) -> 0 | H10: =IF(Battles!$F11=CODE!H$2,1,0) -> 0 | I10: =IF(Battles!$F11=CODE!I$2,1,0) -> 0 | J10: =IF(Battles!$F11=CODE!J$2,1,0) -> 0
A11: =IF(Battles!F12=CODE!A2,1,0) -> 0 | B11: =IF(Battles!$F12=CODE!$B$2,1,0) -> 0 | C11: =IF(Battles!$F12=CODE!C$2,1,0) -> 0 | D11: =IF(Battles!$F12=CODE!D$2,1,0) -> 0 | E11: =IF(Battles!$F12=CODE!E$2,1,0) -> 0 | F11: =IF(Battles!$F12=CODE!F$2,1,0) -> 0 | G11: =IF(Battles!$F12=CODE!G$2,1,0) -> 0 | H11: =IF(Battles!$F12=CODE!H$2,1,0) -> 0 | I11: =IF(Battles!$F12=CODE!I$2,1,0) -> 0 | J11: =IF(Battles!$F12=CODE!J$2,1,0) -> 0
A12: =IF(Battles!F13=CODE!A2,1,0) -> 0 | B12: =IF(Battles!$F13=CODE!$B$2,1,0) -> 0 | C12: =IF(Battles!$F13=CODE!C$2,1,0) -> 0 | D12: =IF(Battles!$F13=CODE!D$2,1,0) -> 0 | E12: =IF(Battles!$F13=CODE!E$2,1,0) -> 0 | F12: =IF(Battles!$F13=CODE!F$2,1,0) -> 0 | G12: =IF(Battles!$F13=CODE!G$2,1,0) -> 0 | H12: =IF(Battles!$F13=CODE!H$2,1,0) -> 0 | I12: =IF(Battles!$F13=CODE!I$2,1,0) -> 0 | J12: =IF(Battles!$F13=CODE!J$2,1,0) -> 0
A13: =IF(Battles!F14=CODE!A2,1,0) -> 0 | B13: =IF(Battles!$F14=CODE!$B$2,1,0) -> 0 | C13: =IF(Battles!$F14=CODE!C$2,1,0) -> 0 | D13: =IF(Battles!$F14=CODE!D$2,1,0) -> 0 | E13: =IF(Battles!$F14=CODE!E$2,1,0) -> 0 | F13: =IF(Battles!$F14=CODE!F$2,1,0) -> 0 | G13: =IF(Battles!$F14=CODE!G$2,1,0) -> 0 | H13: =IF(Battles!$F14=CODE!H$2,1,0) -> 0 | I13: =IF(Battles!$F14=CODE!I$2,1,0) -> 0 | J13: =IF(Battles!$F14=CODE!J$2,1,0) -> 0
A14: =IF(Battles!F15=CODE!A2,1,0) -> 0 | B14: =IF(Battles!$F15=CODE!$B$2,1,0) -> 0 | C14: =IF(Battles!$F15=CODE!C$2,1,0) -> 0 | D14: =IF(Battles!$F15=CODE!D$2,1,0) -> 0 | E14: =IF(Battles!$F15=CODE!E$2,1,0) -> 0 | F14: =IF(Battles!$F15=CODE!F$2,1,0) -> 0 | G14: =IF(Battles!$F15=CODE!G$2,1,0) -> 0 | H14: =IF(Battles!$F15=CODE!H$2,1,0) -> 0 | I14: =IF(Battles!$F15=CODE!I$2,1,0) -> 0 | J14: =IF(Battles!$F15=CODE!J$2,1,0) -> 0
A15: =IF(Battles!F16=CODE!A2,1,0) -> 0 | B15: =IF(Battles!$F16=CODE!$B$2,1,0) -> 0 | C15: =IF(Battles!$F16=CODE!C$2,1,0) -> 0 | D15: =IF(Battles!$F16=CODE!D$2,1,0) -> 0 | E15: =IF(Battles!$F16=CODE!E$2,1,0) -> 0 | F15: =IF(Battles!$F16=CODE!F$2,1,0) -> 0 | G15: =IF(Battles!$F16=CODE!G$2,1,0) -> 0 | H15: =IF(Battles!$F16=CODE!H$2,1,0) -> 0 | I15: =IF(Battles!$F16=CODE!I$2,1,0) -> 0 | J15: =IF(Battles!$F16=CODE!J$2,1,0) -> 0
A16: =IF(Battles!F17=CODE!A2,1,0) -> 0 | B16: =IF(Battles!$F17=CODE!$B$2,1,0) -> 0 | C16: =IF(Battles!$F17=CODE!C$2,1,0) -> 0 | D16: =IF(Battles!$F17=CODE!D$2,1,0) -> 0 | E16: =IF(Battles!$F17=CODE!E$2,1,0) -> 0 | F16: =IF(Battles!$F17=CODE!F$2,1,0) -> 0 | G16: =IF(Battles!$F17=CODE!G$2,1,0) -> 0 | H16: =IF(Battles!$F17=CODE!H$2,1,0) -> 0 | I16: =IF(Battles!$F17=CODE!I$2,1,0) -> 0 | J16: =IF(Battles!$F17=CODE!J$2,1,0) -> 0
A17: =IF(Battles!F18=CODE!A2,1,0) -> 0 | B17: =IF(Battles!$F18=CODE!$B$2,1,0) -> 0 | C17: =IF(Battles!$F18=CODE!C$2,1,0) -> 0 | D17: =IF(Battles!$F18=CODE!D$2,1,0) -> 0 | E17: =IF(Battles!$F18=CODE!E$2,1,0) -> 0 | F17: =IF(Battles!$F18=CODE!F$2,1,0) -> 0 | G17: =IF(Battles!$F18=CODE!G$2,1,0) -> 0 | H17: =IF(Battles!$F18=CODE!H$2,1,0) -> 0 | I17: =IF(Battles!$F18=CODE!I$2,1,0) -> 0 | J17: =IF(Battles!$F18=CODE!J$2,1,0) -> 0
A18: =IF(Battles!F19=CODE!A2,1,0) -> 0 | B18: =IF(Battles!$F19=CODE!$B$2,1,0) -> 0 | C18: =IF(Battles!$F19=CODE!C$2,1,0) -> 0 | D18: =IF(Battles!$F19=CODE!D$2,1,0) -> 0 | E18: =IF(Battles!$F19=CODE!E$2,1,0) -> 0 | F18: =IF(Battles!$F19=CODE!F$2,1,0) -> 0 | G18: =IF(Battles!$F19=CODE!G$2,1,0) -> 0 | H18: =IF(Battles!$F19=CODE!H$2,1,0) -> 0 | I18: =IF(Battles!$F19=CODE!I$2,1,0) -> 0 | J18: =IF(Battles!$F19=CODE!J$2,1,0) -> 0
A19: =IF(Battles!F20=CODE!A2,1,0) -> 0 | B19: =IF(Battles!$F20=CODE!$B$2,1,0) -> 0 | C19: =IF(Battles!$F20=CODE!C$2,1,0) -> 0 | D19: =IF(Battles!$F20=CODE!D$2,1,0) -> 0 | E19: =IF(Battles!$F20=CODE!E$2,1,0) -> 0 | F19: =IF(Battles!$F20=CODE!F$2,1,0) -> 0 | G19: =IF(Battles!$F20=CODE!G$2,1,0) -> 0 | H19: =IF(Battles!$F20=CODE!H$2,1,0) -> 0 | I19: =IF(Battles!$F20=CODE!I$2,1,0) -> 0 | J19: =IF(Battles!$F20=CODE!J$2,1,0) -> 0
A20: =IF(Battles!F21=CODE!A2,1,0) -> 0 | B20: =IF(Battles!$F21=CODE!$B$2,1,0) -> 0 | C20: =IF(Battles!$F21=CODE!C$2,1,0) -> 0 | D20: =IF(Battles!$F21=CODE!D$2,1,0) -> 0 | E20: =IF(Battles!$F21=CODE!E$2,1,0) -> 0 | F20: =IF(Battles!$F21=CODE!F$2,1,0) -> 0 | G20: =IF(Battles!$F21=CODE!G$2,1,0) -> 0 | H20: =IF(Battles!$F21=CODE!H$2,1,0) -> 0 | I20: =IF(Battles!$F21=CODE!I$2,1,0) -> 0 | J20: =IF(Battles!$F21=CODE!J$2,1,0) -> 0
A21: =IF(Battles!F22=CODE!A2,1,0) -> 0 | B21: =IF(Battles!$F22=CODE!$B$2,1,0) -> 0 | C21: =IF(Battles!$F22=CODE!C$2,1,0) -> 0 | D21: =IF(Battles!$F22=CODE!D$2,1,0) -> 0 | E21: =IF(Battles!$F22=CODE!E$2,1,0) -> 0 | F21: =IF(Battles!$F22=CODE!F$2,1,0) -> 0 | G21: =IF(Battles!$F22=CODE!G$2,1,0) -> 0 | H21: =IF(Battles!$F22=CODE!H$2,1,0) -> 0 | I21: =IF(Battles!$F22=CODE!I$2,1,0) -> 0 | J21: =IF(Battles!$F22=CODE!J$2,1,0) -> 0
A22: =IF(Battles!F23=CODE!A2,1,0) -> 0 | B22: =IF(Battles!$F23=CODE!$B$2,1,0) -> 0 | C22: =IF(Battles!$F23=CODE!C$2,1,0) -> 0 | D22: =IF(Battles!$F23=CODE!D$2,1,0) -> 0 | E22: =IF(Battles!$F23=CODE!E$2,1,0) -> 0 | F22: =IF(Battles!$F23=CODE!F$2,1,0) -> 0 | G22: =IF(Battles!$F23=CODE!G$2,1,0) -> 0 | H22: =IF(Battles!$F23=CODE!H$2,1,0) -> 0 | I22: =IF(Battles!$F23=CODE!I$2,1,0) -> 0 | J22: =IF(Battles!$F23=CODE!J$2,1,0) -> 0
A23: =IF(Battles!F24=CODE!A2,1,0) -> 0 | B23: =IF(Battles!$F24=CODE!$B$2,1,0) -> 0 | C23: =IF(Battles!$F24=CODE!C$2,1,0) -> 0 | D23: =IF(Battles!$F24=CODE!D$2,1,0) -> 0 | E23: =IF(Battles!$F24=CODE!E$2,1,0) -> 0 | F23: =IF(Battles!$F24=CODE!F$2,1,0) -> 0 | G23: =IF(Battles!$F24=CODE!G$2,1,0) -> 0 | H23: =IF(Battles!$F24=CODE!H$2,1,0) -> 0 | I23: =IF(Battles!$F24=CODE!I$2,1,0) -> 0 | J23: =IF(Battles!$F24=CODE!J$2,1,0) -> 0
A24: =IF(Battles!F25=CODE!A2,1,0) -> 0 | B24: =IF(Battles!$F25=CODE!$B$2,1,0) -> 0 | C24: =IF(Battles!$F25=CODE!C$2,1,0) -> 0 | D24: =IF(Battles!$F25=CODE!D$2,1,0) -> 0 | E24: =IF(Battles!$F25=CODE!E$2,1,0) -> 0 | F24: =IF(Battles!$F25=CODE!F$2,1,0) -> 0 | G24: =IF(Battles!$F25=CODE!G$2,1,0) -> 0 | H24: =IF(Battles!$F25=CODE!H$2,1,0) -> 0 | I24: =IF(Battles!$F25=CODE!I$2,1,0) -> 0 | J24: =IF(Battles!$F25=CODE!J$2,1,0) -> 0
A25: =IF(Battles!F26=CODE!A2,1,0) -> 0 | B25: =IF(Battles!$F26=CODE!$B$2,1,0) -> 0 | C25: =IF(Battles!$F26=CODE!C$2,1,0) -> 0 | D25: =IF(Battles!$F26=CODE!D$2,1,0) -> 0 | E25: =IF(Battles!$F26=CODE!E$2,1,0) -> 0 | F25: =IF(Battles!$F26=CODE!F$2,1,0) -> 0 | G25: =IF(Battles!$F26=CODE!G$2,1,0) -> 0 | H25: =IF(Battles!$F26=CODE!H$2,1,0) -> 0 | I25: =IF(Battles!$F26=CODE!I$2,1,0) -> 0 | J25: =IF(Battles!$F26=CODE!J$2,1,0) -> 0
A26: =IF(Battles!F27=CODE!A2,1,0) -> 0 | B26: =IF(Battles!$F27=CODE!$B$2,1,0) -> 0 | C26: =IF(Battles!$F27=CODE!C$2,1,0) -> 0 | D26: =IF(Battles!$F27=CODE!D$2,1,0) -> 0 | E26: =IF(Battles!$F27=CODE!E$2,1,0) -> 0 | F26: =IF(Battles!$F27=CODE!F$2,1,0) -> 0 | G26: =IF(Battles!$F27=CODE!G$2,1,0) -> 0 | H26: =IF(Battles!$F27=CODE!H$2,1,0) -> 0 | I26: =IF(Battles!$F27=CODE!I$2,1,0) -> 0 | J26: =IF(Battles!$F27=CODE!J$2,1,0) -> 0
A27: =IF(Battles!F28=CODE!A2,1,0) -> 0 | B27: =IF(Battles!$F28=CODE!$B$2,1,0) -> 0 | C27: =IF(Battles!$F28=CODE!C$2,1,0) -> 0 | D27: =IF(Battles!$F28=CODE!D$2,1,0) -> 0 | E27: =IF(Battles!$F28=CODE!E$2,1,0) -> 0 | F27: =IF(Battles!$F28=CODE!F$2,1,0) -> 0 | G27: =IF(Battles!$F28=CODE!G$2,1,0) -> 0 | H27: =IF(Battles!$F28=CODE!H$2,1,0) -> 0 | I27: =IF(Battles!$F28=CODE!I$2,1,0) -> 0 | J27: =IF(Battles!$F28=CODE!J$2,1,0) -> 0
A28: =IF(Battles!F29=CODE!A2,1,0) -> 0 | B28: =IF(Battles!$F29=CODE!$B$2,1,0) -> 0 | C28: =IF(Battles!$F29=CODE!C$2,1,0) -> 0 | D28: =IF(Battles!$F29=CODE!D$2,1,0) -> 0 | E28: =IF(Battles!$F29=CODE!E$2,1,0) -> 0 | F28: =IF(Battles!$F29=CODE!F$2,1,0) -> 0 | G28: =IF(Battles!$F29=CODE!G$2,1,0) -> 0 | H28: =IF(Battles!$F29=CODE!H$2,1,0) -> 0 | I28: =IF(Battles!$F29=CODE!I$2,1,0) -> 0 | J28: =IF(Battles!$F29=CODE!J$2,1,0) -> 0
A29: =IF(Battles!F30=CODE!A2,1,0) -> 0 | B29: =IF(Battles!$F30=CODE!$B$2,1,0) -> 0 | C29: =IF(Battles!$F30=CODE!C$2,1,0) -> 0 | D29: =IF(Battles!$F30=CODE!D$2,1,0) -> 0 | E29: =IF(Battles!$F30=CODE!E$2,1,0) -> 0 | F29: =IF(Battles!$F30=CODE!F$2,1,0) -> 0 | G29: =IF(Battles!$F30=CODE!G$2,1,0) -> 0 | H29: =IF(Battles!$F30=CODE!H$2,1,0) -> 0 | I29: =IF(Battles!$F30=CODE!I$2,1,0) -> 0 | J29: =IF(Battles!$F30=CODE!J$2,1,0) -> 0
A30: =IF(Battles!F31=CODE!A2,1,0) -> 0 | B30: =IF(Battles!$F31=CODE!$B$2,1,0) -> 0 | C30: =IF(Battles!$F31=CODE!C$2,1,0) -> 0 | D30: =IF(Battles!$F31=CODE!D$2,1,0) -> 0 | E30: =IF(Battles!$F31=CODE!E$2,1,0) -> 0 | F30: =IF(Battles!$F31=CODE!F$2,1,0) -> 0 | G30: =IF(Battles!$F31=CODE!G$2,1,0) -> 0 | H30: =IF(Battles!$F31=CODE!H$2,1,0) -> 0 | I30: =IF(Battles!$F31=CODE!I$2,1,0) -> 0 | J30: =IF(Battles!$F31=CODE!J$2,1,0) -> 0
A31: =IF(Battles!F32=CODE!A2,1,0) -> 0 | B31: =IF(Battles!$F32=CODE!$B$2,1,0) -> 0 | C31: =IF(Battles!$F32=CODE!C$2,1,0) -> 0 | D31: =IF(Battles!$F32=CODE!D$2,1,0) -> 0 | E31: =IF(Battles!$F32=CODE!E$2,1,0) -> 0 | F31: =IF(Battles!$F32=CODE!F$2,1,0) -> 0 | G31: =IF(Battles!$F32=CODE!G$2,1,0) -> 0 | H31: =IF(Battles!$F32=CODE!H$2,1,0) -> 0 | I31: =IF(Battles!$F32=CODE!I$2,1,0) -> 0 | J31: =IF(Battles!$F32=CODE!J$2,1,0) -> 0
A32: =IF(Battles!F33=CODE!A2,1,0) -> 0 | B32: =IF(Battles!$F33=CODE!$B$2,1,0) -> 0 | C32: =IF(Battles!$F33=CODE!C$2,1,0) -> 0 | D32: =IF(Battles!$F33=CODE!D$2,1,0) -> 0 | E32: =IF(Battles!$F33=CODE!E$2,1,0) -> 0 | F32: =IF(Battles!$F33=CODE!F$2,1,0) -> 0 | G32: =IF(Battles!$F33=CODE!G$2,1,0) -> 0 | H32: =IF(Battles!$F33=CODE!H$2,1,0) -> 0 | I32: =IF(Battles!$F33=CODE!I$2,1,0) -> 0 | J32: =IF(Battles!$F33=CODE!J$2,1,0) -> 0
A33: =IF(Battles!F34=CODE!A2,1,0) -> 0 | B33: =IF(Battles!$F34=CODE!$B$2,1,0) -> 0 | C33: =IF(Battles!$F34=CODE!C$2,1,0) -> 0 | D33: =IF(Battles!$F34=CODE!D$2,1,0) -> 0 | E33: =IF(Battles!$F34=CODE!E$2,1,0) -> 0 | F33: =IF(Battles!$F34=CODE!F$2,1,0) -> 0 | G33: =IF(Battles!$F34=CODE!G$2,1,0) -> 0 | H33: =IF(Battles!$F34=CODE!H$2,1,0) -> 0 | I33: =IF(Battles!$F34=CODE!I$2,1,0) -> 0 | J33: =IF(Battles!$F34=CODE!J$2,1,0) -> 0
A34: =IF(Battles!F35=CODE!A2,1,0) -> 0 | B34: =IF(Battles!$F35=CODE!$B$2,1,0) -> 0 | C34: =IF(Battles!$F35=CODE!C$2,1,0) -> 0 | D34: =IF(Battles!$F35=CODE!D$2,1,0) -> 0 | E34: =IF(Battles!$F35=CODE!E$2,1,0) -> 0 | F34: =IF(Battles!$F35=CODE!F$2,1,0) -> 0 | G34: =IF(Battles!$F35=CODE!G$2,1,0) -> 0 | H34: =IF(Battles!$F35=CODE!H$2,1,0) -> 0 | I34: =IF(Battles!$F35=CODE!I$2,1,0) -> 0 | J34: =IF(Battles!$F35=CODE!J$2,1,0) -> 0
A35: =IF(Battles!F36=CODE!A2,1,0) -> 0 | B35: =IF(Battles!$F36=CODE!$B$2,1,0) -> 0 | C35: =IF(Battles!$F36=CODE!C$2,1,0) -> 0 | D35: =IF(Battles!$F36=CODE!D$2,1,0) -> 0 | E35: =IF(Battles!$F36=CODE!E$2,1,0) -> 0 | F35: =IF(Battles!$F36=CODE!F$2,1,0) -> 0 | G35: =IF(Battles!$F36=CODE!G$2,1,0) -> 0 | H35: =IF(Battles!$F36=CODE!H$2,1,0) -> 0 | I35: =IF(Battles!$F36=CODE!I$2,1,0) -> 0 | J35: =IF(Battles!$F36=CODE!J$2,1,0) -> 0
A36: =IF(Battles!F37=CODE!A2,1,0) -> 0 | B36: =IF(Battles!$F37=CODE!$B$2,1,0) -> 0 | C36: =IF(Battles!$F37=CODE!C$2,1,0) -> 0 | D36: =IF(Battles!$F37=CODE!D$2,1,0) -> 0 | E36: =IF(Battles!$F37=CODE!E$2,1,0) -> 0 | F36: =IF(Battles!$F37=CODE!F$2,1,0) -> 0 | G36: =IF(Battles!$F37=CODE!G$2,1,0) -> 0 | H36: =IF(Battles!$F37=CODE!H$2,1,0) -> 0 | I36: =IF(Battles!$F37=CODE!I$2,1,0) -> 0 | J36: =IF(Battles!$F37=CODE!J$2,1,0) -> 0
A37: =IF(Battles!F38=CODE!A2,1,0) -> 0 | B37: =IF(Battles!$F38=CODE!$B$2,1,0) -> 0 | C37: =IF(Battles!$F38=CODE!C$2,1,0) -> 0 | D37: =IF(Battles!$F38=CODE!D$2,1,0) -> 0 | E37: =IF(Battles!$F38=CODE!E$2,1,0) -> 0 | F37: =IF(Battles!$F38=CODE!F$2,1,0) -> 0 | G37: =IF(Battles!$F38=CODE!G$2,1,0) -> 0 | H37: =IF(Battles!$F38=CODE!H$2,1,0) -> 0 | I37: =IF(Battles!$F38=CODE!I$2,1,0) -> 0 | J37: =IF(Battles!$F38=CODE!J$2,1,0) -> 0
A38: =IF(Battles!F39=CODE!A2,1,0) -> 0 | B38: =IF(Battles!$F39=CODE!$B$2,1,0) -> 0 | C38: =IF(Battles!$F39=CODE!C$2,1,0) -> 0 | D38: =IF(Battles!$F39=CODE!D$2,1,0) -> 0 | E38: =IF(Battles!$F39=CODE!E$2,1,0) -> 0 | F38: =IF(Battles!$F39=CODE!F$2,1,0) -> 0 | G38: =IF(Battles!$F39=CODE!G$2,1,0) -> 0 | H38: =IF(Battles!$F39=CODE!H$2,1,0) -> 0 | I38: =IF(Battles!$F39=CODE!I$2,1,0) -> 0 | J38: =IF(Battles!$F39=CODE!J$2,1,0) -> 0
A39: =IF(Battles!F40=CODE!A2,1,0) -> 0 | B39: =IF(Battles!$F40=CODE!$B$2,1,0) -> 0 | C39: =IF(Battles!$F40=CODE!C$2,1,0) -> 0 | D39: =IF(Battles!$F40=CODE!D$2,1,0) -> 0 | E39: =IF(Battles!$F40=CODE!E$2,1,0) -> 0 | F39: =IF(Battles!$F40=CODE!F$2,1,0) -> 0 | G39: =IF(Battles!$F40=CODE!G$2,1,0) -> 0 | H39: =IF(Battles!$F40=CODE!H$2,1,0) -> 0 | I39: =IF(Battles!$F40=CODE!I$2,1,0) -> 0 | J39: =IF(Battles!$F40=CODE!J$2,1,0) -> 0
A40: =SUM(A3:A39) -> 1 | B40: =SUM(B3:B39) -> 2 | C40: =SUM(C3:C39) -> 1 | D40: =SUM(D3:D39) -> 0 | E40: =SUM(E3:E39) -> 0 | F40: =SUM(F3:F39) -> 0 | G40: =SUM(G3:G39) -> 0 | H40: =SUM(H3:H39) -> 0 | ... J40: =SUM(J3:J39) -> 0
A41: Victory Points Earned
A42: =IF(Battles!$B4=CODE!$A$2,Battles!$D4,IF(Battles!$C4=CODE!$A$2,Battles!$E4,0)) -> 1 | B42: =IF(Battles!$B4=CODE!B$2,Battles!$D4,IF(Battles!$C4=CODE!B$2,Battles!$E4,0)) -> 0 | C42: =IF(Battles!$B4=CODE!C$2,Battles!$D4,IF(Battles!$C4=CODE!C$2,Battles!$E4,0)) -> 2 | D42: =IF(Battles!$B4=CODE!D$2,Battles!$D4,IF(Battles!$C4=CODE!D$2,Battles!$E4,0)) -> 0 | E42: =IF(Battles!$B4=CODE!E$2,Battles!$D4,IF(Battles!$C4=CODE!E$2,Battles!$E4,0)) -> 0 | F42: =IF(Battles!$B4=CODE!F$2,Battles!$D4,IF(Battles!$C4=CODE!F$2,Battles!$E4,0)) -> 0 | G42: =IF(Battles!$B4=CODE!G$2,Battles!$D4,IF(Battles!$C4=CODE!G$2,Battles!$E4,0)) -> 0 | H42: =IF(Battles!$B4=CODE!H$2,Battles!$D4,IF(Battles!$C4=CODE!H$2,Battles!$E4,0)) -> 0 | I42: =IF(Battles!$B4=CODE!I$2,Battles!$D4,IF(Battles!$C4=CODE!I$2,Battles!$E4,0)) -> 0 | J42: =IF(Battles!$B4=CODE!J$2,Battles!$D4,IF(Battles!$C4=CODE!J$2,Battles!$E4,0)) -> 0
A43: =IF(Battles!$B5=CODE!$A$2,Battles!$D5,IF(Battles!$C5=CODE!$A$2,Battles!$E5,0)) -> 0 | B43: =IF(Battles!$B5=CODE!B$2,Battles!$D5,IF(Battles!$C5=CODE!B$2,Battles!$E5,0)) -> 12 | C43: =IF(Battles!$B5=CODE!C$2,Battles!$D5,IF(Battles!$C5=CODE!C$2,Battles!$E5,0)) -> 0 | D43: =IF(Battles!$B5=CODE!D$2,Battles!$D5,IF(Battles!$C5=CODE!D$2,Battles!$E5,0)) -> 0 | E43: =IF(Battles!$B5=CODE!E$2,Battles!$D5,IF(Battles!$C5=CODE!E$2,Battles!$E5,0)) -> 0 | F43: =IF(Battles!$B5=CODE!F$2,Battles!$D5,IF(Battles!$C5=CODE!F$2,Battles!$E5,0)) -> 0 | G43: =IF(Battles!$B5=CODE!G$2,Battles!$D5,IF(Battles!$C5=CODE!G$2,Battles!$E5,0)) -> 0 | H43: =IF(Battles!$B5=CODE!H$2,Battles!$D5,IF(Battles!$C5=CODE!H$2,Battles!$E5,0)) -> 0 | I43: =IF(Battles!$B5=CODE!I$2,Battles!$D5,IF(Battles!$C5=CODE!I$2,Battles!$E5,0)) -> 0 | J43: =IF(Battles!$B5=CODE!J$2,Battles!$D5,IF(Battles!$C5=CODE!J$2,Battles!$E5,0)) -> 0
A44: =IF(Battles!$B6=CODE!$A$2,Battles!$D6,IF(Battles!$C6=CODE!$A$2,Battles!$E6,0)) -> 0 | B44: =IF(Battles!$B6=CODE!B$2,Battles!$D6,IF(Battles!$C6=CODE!B$2,Battles!$E6,0)) -> 6 | C44: =IF(Battles!$B6=CODE!C$2,Battles!$D6,IF(Battles!$C6=CODE!C$2,Battles!$E6,0)) -> 0 | D44: =IF(Battles!$B6=CODE!D$2,Battles!$D6,IF(Battles!$C6=CODE!D$2,Battles!$E6,0)) -> 0 | E44: =IF(Battles!$B6=CODE!E$2,Battles!$D6,IF(Battles!$C6=CODE!E$2,Battles!$E6,0)) -> 0 | F44: =IF(Battles!$B6=CODE!F$2,Battles!$D6,IF(Battles!$C6=CODE!F$2,Battles!$E6,0)) -> 0 | G44: =IF(Battles!$B6=CODE!G$2,Battles!$D6,IF(Battles!$C6=CODE!G$2,Battles!$E6,0)) -> 0 | H44: =IF(Battles!$B6=CODE!H$2,Battles!$D6,IF(Battles!$C6=CODE!H$2,Battles!$E6,0)) -> 0 | I44: =IF(Battles!$B6=CODE!I$2,Battles!$D6,IF(Battles!$C6=CODE!I$2,Battles!$E6,0)) -> 0 | J44: =IF(Battles!$B6=CODE!J$2,Battles!$D6,IF(Battles!$C6=CODE!J$2,Battles!$E6,0)) -> 0
A45: =IF(Battles!$B7=CODE!$A$2,Battles!$D7,IF(Battles!$C7=CODE!$A$2,Battles!$E7,0)) -> 7 | B45: =IF(Battles!$B7=CODE!B$2,Battles!$D7,IF(Battles!$C7=CODE!B$2,Battles!$E7,0)) -> 0 | C45: =IF(Battles!$B7=CODE!C$2,Battles!$D7,IF(Battles!$C7=CODE!C$2,Battles!$E7,0)) -> 0 | D45: =IF(Battles!$B7=CODE!D$2,Battles!$D7,IF(Battles!$C7=CODE!D$2,Battles!$E7,0)) -> 3 | E45: =IF(Battles!$B7=CODE!E$2,Battles!$D7,IF(Battles!$C7=CODE!E$2,Battles!$E7,0)) -> 0 | F45: =IF(Battles!$B7=CODE!F$2,Battles!$D7,IF(Battles!$C7=CODE!F$2,Battles!$E7,0)) -> 0 | G45: =IF(Battles!$B7=CODE!G$2,Battles!$D7,IF(Battles!$C7=CODE!G$2,Battles!$E7,0)) -> 0 | H45: =IF(Battles!$B7=CODE!H$2,Battles!$D7,IF(Battles!$C7=CODE!H$2,Battles!$E7,0)) -> 0 | I45: =IF(Battles!$B7=CODE!I$2,Battles!$D7,IF(Battles!$C7=CODE!I$2,Battles!$E7,0)) -> 0 | J45: =IF(Battles!$B7=CODE!J$2,Battles!$D7,IF(Battles!$C7=CODE!J$2,Battles!$E7,0)) -> 0
A46: =IF(Battles!$B8=CODE!$A$2,Battles!$D8,IF(Battles!$C8=CODE!$A$2,Battles!$E8,0)) -> 0 | B46: =IF(Battles!$B8=CODE!B$2,Battles!$D8,IF(Battles!$C8=CODE!B$2,Battles!$E8,0)) -> 0 | C46: =IF(Battles!$B8=CODE!C$2,Battles!$D8,IF(Battles!$C8=CODE!C$2,Battles!$E8,0)) -> 0 | D46: =IF(Battles!$B8=CODE!D$2,Battles!$D8,IF(Battles!$C8=CODE!D$2,Battles!$E8,0)) -> 0 | E46: =IF(Battles!$B8=CODE!E$2,Battles!$D8,IF(Battles!$C8=CODE!E$2,Battles!$E8,0)) -> 0 | F46: =IF(Battles!$B8=CODE!F$2,Battles!$D8,IF(Battles!$C8=CODE!F$2,Battles!$E8,0)) -> 0 | G46: =IF(Battles!$B8=CODE!G$2,Battles!$D8,IF(Battles!$C8=CODE!G$2,Battles!$E8,0)) -> 0 | H46: =IF(Battles!$B8=CODE!H$2,Battles!$D8,IF(Battles!$C8=CODE!H$2,Battles!$E8,0)) -> 0 | I46: =IF(Battles!$B8=CODE!I$2,Battles!$D8,IF(Battles!$C8=CODE!I$2,Battles!$E8,0)) -> 0 | J46: =IF(Battles!$B8=CODE!J$2,Battles!$D8,IF(Battles!$C8=CODE!J$2,Battles!$E8,0)) -> 0
A47: =IF(Battles!$B9=CODE!$A$2,Battles!$D9,IF(Battles!$C9=CODE!$A$2,Battles!$E9,0)) -> 0 | B47: =IF(Battles!$B9=CODE!B$2,Battles!$D9,IF(Battles!$C9=CODE!B$2,Battles!$E9,0)) -> 0 | C47: =IF(Battles!$B9=CODE!C$2,Battles!$D9,IF(Battles!$C9=CODE!C$2,Battles!$E9,0)) -> 0 | D47: =IF(Battles!$B9=CODE!D$2,Battles!$D9,IF(Battles!$C9=CODE!D$2,Battles!$E9,0)) -> 0 | E47: =IF(Battles!$B9=CODE!E$2,Battles!$D9,IF(Battles!$C9=CODE!E$2,Battles!$E9,0)) -> 0 | F47: =IF(Battles!$B9=CODE!F$2,Battles!$D9,IF(Battles!$C9=CODE!F$2,Battles!$E9,0)) -> 0 | G47: =IF(Battles!$B9=CODE!G$2,Battles!$D9,IF(Battles!$C9=CODE!G$2,Battles!$E9,0)) -> 0 | H47: =IF(Battles!$B9=CODE!H$2,Battles!$D9,IF(Battles!$C9=CODE!H$2,Battles!$E9,0)) -> 0 | I47: =IF(Battles!$B9=CODE!I$2,Battles!$D9,IF(Battles!$C9=CODE!I$2,Battles!$E9,0)) -> 0 | J47: =IF(Battles!$B9=CODE!J$2,Battles!$D9,IF(Battles!$C9=CODE!J$2,Battles!$E9,0)) -> 0
A48: =IF(Battles!$B10=CODE!$A$2,Battles!$D10,IF(Battles!$C10=CODE!$A$2,Battles!$E10,0)) -> 0 | B48: =IF(Battles!$B10=CODE!B$2,Battles!$D10,IF(Battles!$C10=CODE!B$2,Battles!$E10,0)) -> 0 | C48: =IF(Battles!$B10=CODE!C$2,Battles!$D10,IF(Battles!$C10=CODE!C$2,Battles!$E10,0)) -> 0 | D48: =IF(Battles!$B10=CODE!D$2,Battles!$D10,IF(Battles!$C10=CODE!D$2,Battles!$E10,0)) -> 0 | E48: =IF(Battles!$B10=CODE!E$2,Battles!$D10,IF(Battles!$C10=CODE!E$2,Battles!$E10,0)) -> 0 | F48: =IF(Battles!$B10=CODE!F$2,Battles!$D10,IF(Battles!$C10=CODE!F$2,Battles!$E10,0)) -> 0 | G48: =IF(Battles!$B10=CODE!G$2,Battles!$D10,IF(Battles!$C10=CODE!G$2,Battles!$E10,0)) -> 0 | H48: =IF(Battles!$B10=CODE!H$2,Battles!$D10,IF(Battles!$C10=CODE!H$2,Battles!$E10,0)) -> 0 | I48: =IF(Battles!$B10=CODE!I$2,Battles!$D10,IF(Battles!$C10=CODE!I$2,Battles!$E10,0)) -> 0 | J48: =IF(Battles!$B10=CODE!J$2,Battles!$D10,IF(Battles!$C10=CODE!J$2,Battles!$E10,0)) -> 0
A49: =IF(Battles!$B11=CODE!$A$2,Battles!$D11,IF(Battles!$C11=CODE!$A$2,Battles!$E11,0)) -> 0 | B49: =IF(Battles!$B11=CODE!B$2,Battles!$D11,IF(Battles!$C11=CODE!B$2,Battles!$E11,0)) -> 0 | C49: =IF(Battles!$B11=CODE!C$2,Battles!$D11,IF(Battles!$C11=CODE!C$2,Battles!$E11,0)) -> 0 | D49: =IF(Battles!$B11=CODE!D$2,Battles!$D11,IF(Battles!$C11=CODE!D$2,Battles!$E11,0)) -> 0 | E49: =IF(Battles!$B11=CODE!E$2,Battles!$D11,IF(Battles!$C11=CODE!E$2,Battles!$E11,0)) -> 0 | F49: =IF(Battles!$B11=CODE!F$2,Battles!$D11,IF(Battles!$C11=CODE!F$2,Battles!$E11,0)) -> 0 | G49: =IF(Battles!$B11=CODE!G$2,Battles!$D11,IF(Battles!$C11=CODE!G$2,Battles!$E11,0)) -> 0 | H49: =IF(Battles!$B11=CODE!H$2,Battles!$D11,IF(Battles!$C11=CODE!H$2,Battles!$E11,0)) -> 0 | I49: =IF(Battles!$B11=CODE!I$2,Battles!$D11,IF(Battles!$C11=CODE!I$2,Battles!$E11,0)) -> 0 | J49: =IF(Battles!$B11=CODE!J$2,Battles!$D11,IF(Battles!$C11=CODE!J$2,Battles!$E11,0)) -> 0
A50: =IF(Battles!$B12=CODE!$A$2,Battles!$D12,IF(Battles!$C12=CODE!$A$2,Battles!$E12,0)) -> 0 | B50: =IF(Battles!$B12=CODE!B$2,Battles!$D12,IF(Battles!$C12=CODE!B$2,Battles!$E12,0)) -> 0 | C50: =IF(Battles!$B12=CODE!C$2,Battles!$D12,IF(Battles!$C12=CODE!C$2,Battles!$E12,0)) -> 0 | D50: =IF(Battles!$B12=CODE!D$2,Battles!$D12,IF(Battles!$C12=CODE!D$2,Battles!$E12,0)) -> 0 | E50: =IF(Battles!$B12=CODE!E$2,Battles!$D12,IF(Battles!$C12=CODE!E$2,Battles!$E12,0)) -> 0 | F50: =IF(Battles!$B12=CODE!F$2,Battles!$D12,IF(Battles!$C12=CODE!F$2,Battles!$E12,0)) -> 0 | G50: =IF(Battles!$B12=CODE!G$2,Battles!$D12,IF(Battles!$C12=CODE!G$2,Battles!$E12,0)) -> 0 | H50: =IF(Battles!$B12=CODE!H$2,Battles!$D12,IF(Battles!$C12=CODE!H$2,Battles!$E12,0)) -> 0 | I50: =IF(Battles!$B12=CODE!I$2,Battles!$D12,IF(Battles!$C12=CODE!I$2,Battles!$E12,0)) -> 0 | J50: =IF(Battles!$B12=CODE!J$2,Battles!$D12,IF(Battles!$C12=CODE!J$2,Battles!$E12,0)) -> 0
A51: =IF(Battles!$B13=CODE!$A$2,Battles!$D13,IF(Battles!$C13=CODE!$A$2,Battles!$E13,0)) -> 0 | B51: =IF(Battles!$B13=CODE!B$2,Battles!$D13,IF(Battles!$C13=CODE!B$2,Battles!$E13,0)) -> 0 | C51: =IF(Battles!$B13=CODE!C$2,Battles!$D13,IF(Battles!$C13=CODE!C$2,Battles!$E13,0)) -> 0 | D51: =IF(Battles!$B13=CODE!D$2,Battles!$D13,IF(Battles!$C13=CODE!D$2,Battles!$E13,0)) -> 0 | E51: =IF(Battles!$B13=CODE!E$2,Battles!$D13,IF(Battles!$C13=CODE!E$2,Battles!$E13,0)) -> 0 | F51: =IF(Battles!$B13=CODE!F$2,Battles!$D13,IF(Battles!$C13=CODE!F$2,Battles!$E13,0)) -> 0 | G51: =IF(Battles!$B13=CODE!G$2,Battles!$D13,IF(Battles!$C13=CODE!G$2,Battles!$E13,0)) -> 0 | H51: =IF(Battles!$B13=CODE!H$2,Battles!$D13,IF(Battles!$C13=CODE!H$2,Battles!$E13,0)) -> 0 | I51: =IF(Battles!$B13=CODE!I$2,Battles!$D13,IF(Battles!$C13=CODE!I$2,Battles!$E13,0)) -> 0 | J51: =IF(Battles!$B13=CODE!J$2,Battles!$D13,IF(Battles!$C13=CODE!J$2,Battles!$E13,0)) -> 0
A52: =IF(Battles!$B14=CODE!$A$2,Battles!$D14,IF(Battles!$C14=CODE!$A$2,Battles!$E14,0)) -> 0 | B52: =IF(Battles!$B14=CODE!B$2,Battles!$D14,IF(Battles!$C14=CODE!B$2,Battles!$E14,0)) -> 0 | C52: =IF(Battles!$B14=CODE!C$2,Battles!$D14,IF(Battles!$C14=CODE!C$2,Battles!$E14,0)) -> 0 | D52: =IF(Battles!$B14=CODE!D$2,Battles!$D14,IF(Battles!$C14=CODE!D$2,Battles!$E14,0)) -> 0 | E52: =IF(Battles!$B14=CODE!E$2,Battles!$D14,IF(Battles!$C14=CODE!E$2,Battles!$E14,0)) -> 0 | F52: =IF(Battles!$B14=CODE!F$2,Battles!$D14,IF(Battles!$C14=CODE!F$2,Battles!$E14,0)) -> 0 | G52: =IF(Battles!$B14=CODE!G$2,Battles!$D14,IF(Battles!$C14=CODE!G$2,Battles!$E14,0)) -> 0 | H52: =IF(Battles!$B14=CODE!H$2,Battles!$D14,IF(Battles!$C14=CODE!H$2,Battles!$E14,0)) -> 0 | I52: =IF(Battles!$B14=CODE!I$2,Battles!$D14,IF(Battles!$C14=CODE!I$2,Battles!$E14,0)) -> 0 | J52: =IF(Battles!$B14=CODE!J$2,Battles!$D14,IF(Battles!$C14=CODE!J$2,Battles!$E14,0)) -> 0
A53: =IF(Battles!$B15=CODE!$A$2,Battles!$D15,IF(Battles!$C15=CODE!$A$2,Battles!$E15,0)) -> 0 | B53: =IF(Battles!$B15=CODE!B$2,Battles!$D15,IF(Battles!$C15=CODE!B$2,Battles!$E15,0)) -> 0 | C53: =IF(Battles!$B15=CODE!C$2,Battles!$D15,IF(Battles!$C15=CODE!C$2,Battles!$E15,0)) -> 0 | D53: =IF(Battles!$B15=CODE!D$2,Battles!$D15,IF(Battles!$C15=CODE!D$2,Battles!$E15,0)) -> 0 | E53: =IF(Battles!$B15=CODE!E$2,Battles!$D15,IF(Battles!$C15=CODE!E$2,Battles!$E15,0)) -> 0 | F53: =IF(Battles!$B15=CODE!F$2,Battles!$D15,IF(Battles!$C15=CODE!F$2,Battles!$E15,0)) -> 0 | G53: =IF(Battles!$B15=CODE!G$2,Battles!$D15,IF(Battles!$C15=CODE!G$2,Battles!$E15,0)) -> 0 | H53: =IF(Battles!$B15=CODE!H$2,Battles!$D15,IF(Battles!$C15=CODE!H$2,Battles!$E15,0)) -> 0 | I53: =IF(Battles!$B15=CODE!I$2,Battles!$D15,IF(Battles!$C15=CODE!I$2,Battles!$E15,0)) -> 0 | J53: =IF(Battles!$B15=CODE!J$2,Battles!$D15,IF(Battles!$C15=CODE!J$2,Battles!$E15,0)) -> 0
... A78: =IF(Battles!$B40=CODE!$A$2,Battles!$D40,IF(Battles!$C40=CODE!$A$2,Battles!$E40,0)) -> 0 | B78: =IF(Battles!$B40=CODE!B$2,Battles!$D40,IF(Battles!$C40=CODE!B$2,Battles!$E40,0)) -> 0 | C78: =IF(Battles!$B40=CODE!C$2,Battles!$D40,IF(Battles!$C40=CODE!C$2,Battles!$E40,0)) -> 0 | D78: =IF(Battles!$B40=CODE!D$2,Battles!$D40,IF(Battles!$C40=CODE!D$2,Battles!$E40,0)) -> 0 | E78: =IF(Battles!$B40=CODE!E$2,Battles!$D40,IF(Battles!$C40=CODE!E$2,Battles!$E40,0)) -> 0 | F78: =IF(Battles!$B40=CODE!F$2,Battles!$D40,IF(Battles!$C40=CODE!F$2,Battles!$E40,0)) -> 0 | G78: =IF(Battles!$B40=CODE!G$2,Battles!$D40,IF(Battles!$C40=CODE!G$2,Battles!$E40,0)) -> 0 | H78: =IF(Battles!$B40=CODE!H$2,Battles!$D40,IF(Battles!$C40=CODE!H$2,Battles!$E40,0)) -> 0 | I78: =IF(Battles!$B40=CODE!I$2,Battles!$D40,IF(Battles!$C40=CODE!I$2,Battles!$E40,0)) -> 0 | J78: =IF(Battles!$B40=CODE!J$2,Battles!$D40,IF(Battles!$C40=CODE!J$2,Battles!$E40,0)) -> 0
A79: =SUM(A42:A78) -> 8 | B79: =SUM(B42:B78) -> 18 | C79: =SUM(C42:C78) -> 2 | D79: =SUM(D42:D78) -> 3 | E79: =SUM(E42:E78) -> 0 | F79: =SUM(F42:F78) -> 0 | G79: =SUM(G42:G78) -> 0 | H79: =SUM(H42:H78) -> 0 | ... J79: =SUM(J42:J78) -> 0
A80: GAMES PLAYED
A81: =IF(Battles!$B4=CODE!$A$2,1,IF(Battles!$C4=CODE!$A$2,1,0)) -> 1 | B81: =IF(Battles!$B4=CODE!B$2,1,IF(Battles!$C4=CODE!B$2,1,0)) -> 0 | C81: =IF(Battles!$B4=CODE!C$2,1,IF(Battles!$C4=CODE!C$2,1,0)) -> 1 | D81: =IF(Battles!$B4=CODE!D$2,1,IF(Battles!$C4=CODE!D$2,1,0)) -> 0 | E81: =IF(Battles!$B4=CODE!E$2,1,IF(Battles!$C4=CODE!E$2,1,0)) -> 0 | F81: =IF(Battles!$B4=CODE!F$2,1,IF(Battles!$C4=CODE!F$2,1,0)) -> 0 | G81: =IF(Battles!$B4=CODE!G$2,1,IF(Battles!$C4=CODE!G$2,1,0)) -> 0 | H81: =IF(Battles!$B4=CODE!H$2,1,IF(Battles!$C4=CODE!H$2,1,0)) -> 0 | I81: =IF(Battles!$B4=CODE!I$2,1,IF(Battles!$C4=CODE!I$2,1,0)) -> 0 | J81: =IF(Battles!$B4=CODE!J$2,1,IF(Battles!$C4=CODE!J$2,1,0)) -> 0
A82: =IF(Battles!$B5=CODE!$A$2,1,IF(Battles!$C5=CODE!$A$2,1,0)) -> 0 | B82: =IF(Battles!$B5=CODE!B$2,1,IF(Battles!$C5=CODE!B$2,1,0)) -> 1 | C82: =IF(Battles!$B5=CODE!C$2,1,IF(Battles!$C5=CODE!C$2,1,0)) -> 0 | D82: =IF(Battles!$B5=CODE!D$2,1,IF(Battles!$C5=CODE!D$2,1,0)) -> 1 | E82: =IF(Battles!$B5=CODE!E$2,1,IF(Battles!$C5=CODE!E$2,1,0)) -> 0 | F82: =IF(Battles!$B5=CODE!F$2,1,IF(Battles!$C5=CODE!F$2,1,0)) -> 0 | G82: =IF(Battles!$B5=CODE!G$2,1,IF(Battles!$C5=CODE!G$2,1,0)) -> 0 | H82: =IF(Battles!$B5=CODE!H$2,1,IF(Battles!$C5=CODE!H$2,1,0)) -> 0 | I82: =IF(Battles!$B5=CODE!I$2,1,IF(Battles!$C5=CODE!I$2,1,0)) -> 0 | J82: =IF(Battles!$B5=CODE!J$2,1,IF(Battles!$C5=CODE!J$2,1,0)) -> 0
A83: =IF(Battles!$B6=CODE!$A$2,1,IF(Battles!$C6=CODE!$A$2,1,0)) -> 0 | B83: =IF(Battles!$B6=CODE!B$2,1,IF(Battles!$C6=CODE!B$2,1,0)) -> 1 | C83: =IF(Battles!$B6=CODE!C$2,1,IF(Battles!$C6=CODE!C$2,1,0)) -> 1 | D83: =IF(Battles!$B6=CODE!D$2,1,IF(Battles!$C6=CODE!D$2,1,0)) -> 0 | E83: =IF(Battles!$B6=CODE!E$2,1,IF(Battles!$C6=CODE!E$2,1,0)) -> 0 | F83: =IF(Battles!$B6=CODE!F$2,1,IF(Battles!$C6=CODE!F$2,1,0)) -> 0 | G83: =IF(Battles!$B6=CODE!G$2,1,IF(Battles!$C6=CODE!G$2,1,0)) -> 0 | H83: =IF(Battles!$B6=CODE!H$2,1,IF(Battles!$C6=CODE!H$2,1,0)) -> 0 | I83: =IF(Battles!$B6=CODE!I$2,1,IF(Battles!$C6=CODE!I$2,1,0)) -> 0 | J83: =IF(Battles!$B6=CODE!J$2,1,IF(Battles!$C6=CODE!J$2,1,0)) -> 0
A84: =IF(Battles!$B7=CODE!$A$2,1,IF(Battles!$C7=CODE!$A$2,1,0)) -> 1 | B84: =IF(Battles!$B7=CODE!B$2,1,IF(Battles!$C7=CODE!B$2,1,0)) -> 0 | C84: =IF(Battles!$B7=CODE!C$2,1,IF(Battles!$C7=CODE!C$2,1,0)) -> 0 | D84: =IF(Battles!$B7=CODE!D$2,1,IF(Battles!$C7=CODE!D$2,1,0)) -> 1 | E84: =IF(Battles!$B7=CODE!E$2,1,IF(Battles!$C7=CODE!E$2,1,0)) -> 0 | F84: =IF(Battles!$B7=CODE!F$2,1,IF(Battles!$C7=CODE!F$2,1,0)) -> 0 | G84: =IF(Battles!$B7=CODE!G$2,1,IF(Battles!$C7=CODE!G$2,1,0)) -> 0 | H84: =IF(Battles!$B7=CODE!H$2,1,IF(Battles!$C7=CODE!H$2,1,0)) -> 0 | I84: =IF(Battles!$B7=CODE!I$2,1,IF(Battles!$C7=CODE!I$2,1,0)) -> 0 | J84: =IF(Battles!$B7=CODE!J$2,1,IF(Battles!$C7=CODE!J$2,1,0)) -> 0
A85: =IF(Battles!$B8=CODE!$A$2,1,IF(Battles!$C8=CODE!$A$2,1,0)) -> 0 | B85: =IF(Battles!$B8=CODE!B$2,1,IF(Battles!$C8=CODE!B$2,1,0)) -> 0 | C85: =IF(Battles!$B8=CODE!C$2,1,IF(Battles!$C8=CODE!C$2,1,0)) -> 0 | D85: =IF(Battles!$B8=CODE!D$2,1,IF(Battles!$C8=CODE!D$2,1,0)) -> 0 | E85: =IF(Battles!$B8=CODE!E$2,1,IF(Battles!$C8=CODE!E$2,1,0)) -> 0 | F85: =IF(Battles!$B8=CODE!F$2,1,IF(Battles!$C8=CODE!F$2,1,0)) -> 0 | G85: =IF(Battles!$B8=CODE!G$2,1,IF(Battles!$C8=CODE!G$2,1,0)) -> 0 | H85: =IF(Battles!$B8=CODE!H$2,1,IF(Battles!$C8=CODE!H$2,1,0)) -> 0 | I85: =IF(Battles!$B8=CODE!I$2,1,IF(Battles!$C8=CODE!I$2,1,0)) -> 0 | J85: =IF(Battles!$B8=CODE!J$2,1,IF(Battles!$C8=CODE!J$2,1,0)) -> 0
A86: =IF(Battles!$B9=CODE!$A$2,1,IF(Battles!$C9=CODE!$A$2,1,0)) -> 0 | B86: =IF(Battles!$B9=CODE!B$2,1,IF(Battles!$C9=CODE!B$2,1,0)) -> 0 | C86: =IF(Battles!$B9=CODE!C$2,1,IF(Battles!$C9=CODE!C$2,1,0)) -> 0 | D86: =IF(Battles!$B9=CODE!D$2,1,IF(Battles!$C9=CODE!D$2,1,0)) -> 0 | E86: =IF(Battles!$B9=CODE!E$2,1,IF(Battles!$C9=CODE!E$2,1,0)) -> 0 | F86: =IF(Battles!$B9=CODE!F$2,1,IF(Battles!$C9=CODE!F$2,1,0)) -> 0 | G86: =IF(Battles!$B9=CODE!G$2,1,IF(Battles!$C9=CODE!G$2,1,0)) -> 0 | H86: =IF(Battles!$B9=CODE!H$2,1,IF(Battles!$C9=CODE!H$2,1,0)) -> 0 | I86: =IF(Battles!$B9=CODE!I$2,1,IF(Battles!$C9=CODE!I$2,1,0)) -> 0 | J86: =IF(Battles!$B9=CODE!J$2,1,IF(Battles!$C9=CODE!J$2,1,0)) -> 0
A87: =IF(Battles!$B10=CODE!$A$2,1,IF(Battles!$C10=CODE!$A$2,1,0)) -> 0 | B87: =IF(Battles!$B10=CODE!B$2,1,IF(Battles!$C10=CODE!B$2,1,0)) -> 0 | C87: =IF(Battles!$B10=CODE!C$2,1,IF(Battles!$C10=CODE!C$2,1,0)) -> 0 | D87: =IF(Battles!$B10=CODE!D$2,1,IF(Battles!$C10=CODE!D$2,1,0)) -> 0 | E87: =IF(Battles!$B10=CODE!E$2,1,IF(Battles!$C10=CODE!E$2,1,0)) -> 0 | F87: =IF(Battles!$B10=CODE!F$2,1,IF(Battles!$C10=CODE!F$2,1,0)) -> 0 | G87: =IF(Battles!$B10=CODE!G$2,1,IF(Battles!$C10=CODE!G$2,1,0)) -> 0 | H87: =IF(Battles!$B10=CODE!H$2,1,IF(Battles!$C10=CODE!H$2,1,0)) -> 0 | I87: =IF(Battles!$B10=CODE!I$2,1,IF(Battles!$C10=CODE!I$2,1,0)) -> 0 | J87: =IF(Battles!$B10=CODE!J$2,1,IF(Battles!$C10=CODE!J$2,1,0)) -> 0
A88: =IF(Battles!$B11=CODE!$A$2,1,IF(Battles!$C11=CODE!$A$2,1,0)) -> 0 | B88: =IF(Battles!$B11=CODE!B$2,1,IF(Battles!$C11=CODE!B$2,1,0)) -> 0 | C88: =IF(Battles!$B11=CODE!C$2,1,IF(Battles!$C11=CODE!C$2,1,0)) -> 0 | D88: =IF(Battles!$B11=CODE!D$2,1,IF(Battles!$C11=CODE!D$2,1,0)) -> 0 | E88: =IF(Battles!$B11=CODE!E$2,1,IF(Battles!$C11=CODE!E$2,1,0)) -> 0 | F88: =IF(Battles!$B11=CODE!F$2,1,IF(Battles!$C11=CODE!F$2,1,0)) -> 0 | G88: =IF(Battles!$B11=CODE!G$2,1,IF(Battles!$C11=CODE!G$2,1,0)) -> 0 | H88: =IF(Battles!$B11=CODE!H$2,1,IF(Battles!$C11=CODE!H$2,1,0)) -> 0 | I88: =IF(Battles!$B11=CODE!I$2,1,IF(Battles!$C11=CODE!I$2,1,0)) -> 0 | J88: =IF(Battles!$B11=CODE!J$2,1,IF(Battles!$C11=CODE!J$2,1,0)) -> 0
A89: =IF(Battles!$B12=CODE!$A$2,1,IF(Battles!$C12=CODE!$A$2,1,0)) -> 0 | B89: =IF(Battles!$B12=CODE!B$2,1,IF(Battles!$C12=CODE!B$2,1,0)) -> 0 | C89: =IF(Battles!$B12=CODE!C$2,1,IF(Battles!$C12=CODE!C$2,1,0)) -> 0 | D89: =IF(Battles!$B12=CODE!D$2,1,IF(Battles!$C12=CODE!D$2,1,0)) -> 0 | E89: =IF(Battles!$B12=CODE!E$2,1,IF(Battles!$C12=CODE!E$2,1,0)) -> 0 | F89: =IF(Battles!$B12=CODE!F$2,1,IF(Battles!$C12=CODE!F$2,1,0)) -> 0 | G89: =IF(Battles!$B12=CODE!G$2,1,IF(Battles!$C12=CODE!G$2,1,0)) -> 0 | H89: =IF(Battles!$B12=CODE!H$2,1,IF(Battles!$C12=CODE!H$2,1,0)) -> 0 | I89: =IF(Battles!$B12=CODE!I$2,1,IF(Battles!$C12=CODE!I$2,1,0)) -> 0 | J89: =IF(Battles!$B12=CODE!J$2,1,IF(Battles!$C12=CODE!J$2,1,0)) -> 0
A90: =IF(Battles!$B13=CODE!$A$2,1,IF(Battles!$C13=CODE!$A$2,1,0)) -> 0 | B90: =IF(Battles!$B13=CODE!B$2,1,IF(Battles!$C13=CODE!B$2,1,0)) -> 0 | C90: =IF(Battles!$B13=CODE!C$2,1,IF(Battles!$C13=CODE!C$2,1,0)) -> 0 | D90: =IF(Battles!$B13=CODE!D$2,1,IF(Battles!$C13=CODE!D$2,1,0)) -> 0 | E90: =IF(Battles!$B13=CODE!E$2,1,IF(Battles!$C13=CODE!E$2,1,0)) -> 0 | F90: =IF(Battles!$B13=CODE!F$2,1,IF(Battles!$C13=CODE!F$2,1,0)) -> 0 | G90: =IF(Battles!$B13=CODE!G$2,1,IF(Battles!$C13=CODE!G$2,1,0)) -> 0 | H90: =IF(Battles!$B13=CODE!H$2,1,IF(Battles!$C13=CODE!H$2,1,0)) -> 0 | I90: =IF(Battles!$B13=CODE!I$2,1,IF(Battles!$C13=CODE!I$2,1,0)) -> 0 | J90: =IF(Battles!$B13=CODE!J$2,1,IF(Battles!$C13=CODE!J$2,1,0)) -> 0
A91: =IF(Battles!$B14=CODE!$A$2,1,IF(Battles!$C14=CODE!$A$2,1,0)) -> 0 | B91: =IF(Battles!$B14=CODE!B$2,1,IF(Battles!$C14=CODE!B$2,1,0)) -> 0 | C91: =IF(Battles!$B14=CODE!C$2,1,IF(Battles!$C14=CODE!C$2,1,0)) -> 0 | D91: =IF(Battles!$B14=CODE!D$2,1,IF(Battles!$C14=CODE!D$2,1,0)) -> 0 | E91: =IF(Battles!$B14=CODE!E$2,1,IF(Battles!$C14=CODE!E$2,1,0)) -> 0 | F91: =IF(Battles!$B14=CODE!F$2,1,IF(Battles!$C14=CODE!F$2,1,0)) -> 0 | G91: =IF(Battles!$B14=CODE!G$2,1,IF(Battles!$C14=CODE!G$2,1,0)) -> 0 | H91: =IF(Battles!$B14=CODE!H$2,1,IF(Battles!$C14=CODE!H$2,1,0)) -> 0 | I91: =IF(Battles!$B14=CODE!I$2,1,IF(Battles!$C14=CODE!I$2,1,0)) -> 0 | J91: =IF(Battles!$B14=CODE!J$2,1,IF(Battles!$C14=CODE!J$2,1,0)) -> 0
A92: =IF(Battles!$B15=CODE!$A$2,1,IF(Battles!$C15=CODE!$A$2,1,0)) -> 0 | B92: =IF(Battles!$B15=CODE!B$2,1,IF(Battles!$C15=CODE!B$2,1,0)) -> 0 | C92: =IF(Battles!$B15=CODE!C$2,1,IF(Battles!$C15=CODE!C$2,1,0)) -> 0 | D92: =IF(Battles!$B15=CODE!D$2,1,IF(Battles!$C15=CODE!D$2,1,0)) -> 0 | E92: =IF(Battles!$B15=CODE!E$2,1,IF(Battles!$C15=CODE!E$2,1,0)) -> 0 | F92: =IF(Battles!$B15=CODE!F$2,1,IF(Battles!$C15=CODE!F$2,1,0)) -> 0 | G92: =IF(Battles!$B15=CODE!G$2,1,IF(Battles!$C15=CODE!G$2,1,0)) -> 0 | H92: =IF(Battles!$B15=CODE!H$2,1,IF(Battles!$C15=CODE!H$2,1,0)) -> 0 | I92: =IF(Battles!$B15=CODE!I$2,1,IF(Battles!$C15=CODE!I$2,1,0)) -> 0 | J92: =IF(Battles!$B15=CODE!J$2,1,IF(Battles!$C15=CODE!J$2,1,0)) -> 0
... A116: =IF(Battles!$B39=CODE!$A$2,1,IF(Battles!$C39=CODE!$A$2,1,0)) -> 0 | B116: =IF(Battles!$B39=CODE!B$2,1,IF(Battles!$C39=CODE!B$2,1,0)) -> 0 | C116: =IF(Battles!$B39=CODE!C$2,1,IF(Battles!$C39=CODE!C$2,1,0)) -> 0 | D116: =IF(Battles!$B39=CODE!D$2,1,IF(Battles!$C39=CODE!D$2,1,0)) -> 0 | E116: =IF(Battles!$B39=CODE!E$2,1,IF(Battles!$C39=CODE!E$2,1,0)) -> 0 | F116: =IF(Battles!$B39=CODE!F$2,1,IF(Battles!$C39=CODE!F$2,1,0)) -> 0 | G116: =IF(Battles!$B39=CODE!G$2,1,IF(Battles!$C39=CODE!G$2,1,0)) -> 0 | H116: =IF(Battles!$B39=CODE!H$2,1,IF(Battles!$C39=CODE!H$2,1,0)) -> 0 | I116: =IF(Battles!$B39=CODE!I$2,1,IF(Battles!$C39=CODE!I$2,1,0)) -> 0 | J116: =IF(Battles!$B39=CODE!J$2,1,IF(Battles!$C39=CODE!J$2,1,0)) -> 0
A117: =SUM(A81:A116) -> 2 | B117: =SUM(B81:B116) -> 2 | C117: =SUM(C81:C116) -> 2 | D117: =SUM(D81:D116) -> 2 | E117: =SUM(E81:E116) -> 0 | F117: =SUM(F81:F116) -> 0 | G117: =SUM(G81:G116) -> 0 | H117: =SUM(H81:H116) -> 0 | ... J117: =SUM(J81:J116) -> 0
